BEGIN:VCALENDAR
VERSION:2.0
PRODID:-//LiveNewCanaan - ECPv6.15.18//NONSGML v1.0//EN
CALSCALE:GREGORIAN
METHOD:PUBLISH
X-ORIGINAL-URL:https://livenewcanaan.org
X-WR-CALDESC:Events for LiveNewCanaan
REFRESH-INTERVAL;VALUE=DURATION:PT1H
X-Robots-Tag:noindex
X-PUBLISHED-TTL:PT1H
BEGIN:VTIMEZONE
TZID:America/New_York
BEGIN:DAYLIGHT
TZOFFSETFROM:-0500
TZOFFSETTO:-0400
TZNAME:EDT
DTSTART:20190310T070000
END:DAYLIGHT
BEGIN:STANDARD
TZOFFSETFROM:-0400
TZOFFSETTO:-0500
TZNAME:EST
DTSTART:20191103T060000
END:STANDARD
BEGIN:DAYLIGHT
TZOFFSETFROM:-0500
TZOFFSETTO:-0400
TZNAME:EDT
DTSTART:20200308T070000
END:DAYLIGHT
BEGIN:STANDARD
TZOFFSETFROM:-0400
TZOFFSETTO:-0500
TZNAME:EST
DTSTART:20201101T060000
END:STANDARD
BEGIN:DAYLIGHT
TZOFFSETFROM:-0500
TZOFFSETTO:-0400
TZNAME:EDT
DTSTART:20210314T070000
END:DAYLIGHT
BEGIN:STANDARD
TZOFFSETFROM:-0400
TZOFFSETTO:-0500
TZNAME:EST
DTSTART:20211107T060000
END:STANDARD
END:VTIMEZONE
BEGIN:VEVENT
DTSTART;TZID=America/New_York:20200512T083000
DTEND;TZID=America/New_York:20200512T143000
DTSTAMP:20260425T153444
CREATED:20200318T175824Z
LAST-MODIFIED:20200427T050853Z
UID:5078-1589272200-1589293800@livenewcanaan.org
SUMMARY:Thermography with Rachel Mazzarelli
DESCRIPTION:On the second Tuesday of each month\, Clinically Certified Thermographer\,\nRachel Mazarelli\, MS will be at Pryority Wellness to help you discover any internal “hot” spots. \nThermography is a non-invasive\, zero radiation way to test for the kind of vascular changes that may cause breast cancer or bodily pain.
URL:https://livenewcanaan.org/event/thermography-with-rachel-mazzarelli-2/
LOCATION:Pryority Wellness\, 45 Grove Street\, New Canaan\, CT\, 06840\, United States
CATEGORIES:Halo Events,Health Education
ATTACH;FMTTYPE=image/jpeg:https://livenewcanaan.org/wp-content/uploads/2020/03/rachelheadshot-scaled.jpg
ORGANIZER;CN="Pryority Wellness":MAILTO:info@pryoritywellness.com
END:VEVENT
END:VCALENDAR