BEGIN:VCALENDAR
VERSION:2.0
PRODID:-//LiveNewCanaan - ECPv6.15.18//NONSGML v1.0//EN
CALSCALE:GREGORIAN
METHOD:PUBLISH
X-ORIGINAL-URL:https://livenewcanaan.org
X-WR-CALDESC:Events for LiveNewCanaan
REFRESH-INTERVAL;VALUE=DURATION:PT1H
X-Robots-Tag:noindex
X-PUBLISHED-TTL:PT1H
BEGIN:VTIMEZONE
TZID:America/New_York
BEGIN:DAYLIGHT
TZOFFSETFROM:-0500
TZOFFSETTO:-0400
TZNAME:EDT
DTSTART:20190310T070000
END:DAYLIGHT
BEGIN:STANDARD
TZOFFSETFROM:-0400
TZOFFSETTO:-0500
TZNAME:EST
DTSTART:20191103T060000
END:STANDARD
BEGIN:DAYLIGHT
TZOFFSETFROM:-0500
TZOFFSETTO:-0400
TZNAME:EDT
DTSTART:20200308T070000
END:DAYLIGHT
BEGIN:STANDARD
TZOFFSETFROM:-0400
TZOFFSETTO:-0500
TZNAME:EST
DTSTART:20201101T060000
END:STANDARD
BEGIN:DAYLIGHT
TZOFFSETFROM:-0500
TZOFFSETTO:-0400
TZNAME:EDT
DTSTART:20210314T070000
END:DAYLIGHT
BEGIN:STANDARD
TZOFFSETFROM:-0400
TZOFFSETTO:-0500
TZNAME:EST
DTSTART:20211107T060000
END:STANDARD
END:VTIMEZONE
BEGIN:VEVENT
DTSTART;TZID=America/New_York:20200619T170100
DTEND;TZID=America/New_York:20200619T180000
DTSTAMP:20260424T010930
CREATED:20200605T082250Z
LAST-MODIFIED:20200619T092144Z
UID:5965-1592586060-1592589600@livenewcanaan.org
SUMMARY:New Canaan Land Trust Summer Solstice Soirée
DESCRIPTION:Special Guest – Allison Williams! Kick-off the weekend and start of summer with a fun-filled cocktail hour to celebrate the New Canaan Sculpture Trail! Specialty drinks and appetizers\, interactive games\, flash talks from some of the artists\, and opportunities to support the New Canaan Land Trust\, all on the eve of the Summer Solstice! Friday 6/19 – 5:01 pm to 6:00 pm Tickets: $25.00 per household.
URL:https://livenewcanaan.org/event/new-canaan-land-trust-summer-solstice-soiree/
LOCATION:Zoom
CATEGORIES:Carriage Barn Arts Center Event
ATTACH;FMTTYPE=image/jpeg:https://livenewcanaan.org/wp-content/uploads/2020/06/instagram-event-final-GmnTk1.tmp_.jpg
ORGANIZER;CN="New Canaan Land Trust":MAILTO:info@newcanaanlandtrust.org
END:VEVENT
END:VCALENDAR