BEGIN:VCALENDAR
VERSION:2.0
PRODID:-//LiveNewCanaan - ECPv6.15.18//NONSGML v1.0//EN
CALSCALE:GREGORIAN
METHOD:PUBLISH
X-WR-CALNAME:LiveNewCanaan
X-ORIGINAL-URL:https://livenewcanaan.org
X-WR-CALDESC:Events for LiveNewCanaan
REFRESH-INTERVAL;VALUE=DURATION:PT1H
X-Robots-Tag:noindex
X-PUBLISHED-TTL:PT1H
BEGIN:VTIMEZONE
TZID:America/New_York
BEGIN:DAYLIGHT
TZOFFSETFROM:-0500
TZOFFSETTO:-0400
TZNAME:EDT
DTSTART:20220313T070000
END:DAYLIGHT
BEGIN:STANDARD
TZOFFSETFROM:-0400
TZOFFSETTO:-0500
TZNAME:EST
DTSTART:20221106T060000
END:STANDARD
BEGIN:DAYLIGHT
TZOFFSETFROM:-0500
TZOFFSETTO:-0400
TZNAME:EDT
DTSTART:20230312T070000
END:DAYLIGHT
BEGIN:STANDARD
TZOFFSETFROM:-0400
TZOFFSETTO:-0500
TZNAME:EST
DTSTART:20231105T060000
END:STANDARD
BEGIN:DAYLIGHT
TZOFFSETFROM:-0500
TZOFFSETTO:-0400
TZNAME:EDT
DTSTART:20240310T070000
END:DAYLIGHT
BEGIN:STANDARD
TZOFFSETFROM:-0400
TZOFFSETTO:-0500
TZNAME:EST
DTSTART:20241103T060000
END:STANDARD
END:VTIMEZONE
BEGIN:VEVENT
DTSTART;TZID=America/New_York:20230608T100000
DTEND;TZID=America/New_York:20230608T150000
DTSTAMP:20260423T055126
CREATED:20230401T021929Z
LAST-MODIFIED:20230401T200118Z
UID:11709-1686218400-1686236400@livenewcanaan.org
SUMMARY:New Canaan Garden Club’s Gardens in Bloom Garden Tour
DESCRIPTION:The New Canaan Garden Club presents its inaugural garden tour featuring five spectacular gardens including four private New Canaan gardens and the gardens at historic Waveny House. Each garden is unique in horticulture and garden design.\nThe self-guided tour will be held rain or shine. Please NO dogs or strollers on the tour. Children under the age of 5 will be admitted for free\, all children under the age of 17 must be accompanied by an adult. Knowledgeable garden club members will be present at each garden to answer questions. Please wear garden-friendly shoes as the tour takes you through varied terrain.\nTaking photographs of the gardens will not be permitted.\nA Preview Party will be held on Tuesday\, June 7th from 6:00pm-8:00pm at a sixth private garden featuring a presentation by horticulturalist and hydrangea specialist Lorraine Ballato.\nTickets will go on sale April 1st at : https://www.ncgardenclub.org/gardens-in-bloom/\nTickets for the Preview Party can be purchased on the website as well.\nFollowing your purchase at any level\, you will receive a confirmation email\, including the ticket pick-up location and address of the Preview Party if applicable.\nIf you purchase a ticket at any of the Patron levels and wish to be listed in the Gardens in Bloom Program you must purchase by April 20th. \nPlease email ncgcgardentour@gmail.com or call 203-246-2295 with questions.
URL:https://livenewcanaan.org/event/new-canaan-garden-clubs-gardens-in-bloom-garden-tour/
LOCATION:Gardens in New Canaan
ATTACH;FMTTYPE=image/jpeg:https://livenewcanaan.org/wp-content/uploads/2023/04/NCGC-Save-the-date-Social-graphic-jpeg-chamber-JlW4Ah.tmp_.jpg
ORGANIZER;CN="New Canaan Garden Club":MAILTO:jhgamber@yahoo.com
END:VEVENT
END:VCALENDAR