BEGIN:VCALENDAR
VERSION:2.0
PRODID:-//LiveNewCanaan - ECPv6.15.18//NONSGML v1.0//EN
CALSCALE:GREGORIAN
METHOD:PUBLISH
X-ORIGINAL-URL:https://livenewcanaan.org
X-WR-CALDESC:Events for LiveNewCanaan
REFRESH-INTERVAL;VALUE=DURATION:PT1H
X-Robots-Tag:noindex
X-PUBLISHED-TTL:PT1H
BEGIN:VTIMEZONE
TZID:America/New_York
BEGIN:DAYLIGHT
TZOFFSETFROM:-0500
TZOFFSETTO:-0400
TZNAME:EDT
DTSTART:20200308T070000
END:DAYLIGHT
BEGIN:STANDARD
TZOFFSETFROM:-0400
TZOFFSETTO:-0500
TZNAME:EST
DTSTART:20201101T060000
END:STANDARD
BEGIN:DAYLIGHT
TZOFFSETFROM:-0500
TZOFFSETTO:-0400
TZNAME:EDT
DTSTART:20210314T070000
END:DAYLIGHT
BEGIN:STANDARD
TZOFFSETFROM:-0400
TZOFFSETTO:-0500
TZNAME:EST
DTSTART:20211107T060000
END:STANDARD
BEGIN:DAYLIGHT
TZOFFSETFROM:-0500
TZOFFSETTO:-0400
TZNAME:EDT
DTSTART:20220313T070000
END:DAYLIGHT
BEGIN:STANDARD
TZOFFSETFROM:-0400
TZOFFSETTO:-0500
TZNAME:EST
DTSTART:20221106T060000
END:STANDARD
END:VTIMEZONE
BEGIN:VEVENT
DTSTART;TZID=America/New_York:20210806T113000
DTEND;TZID=America/New_York:20210806T133000
DTSTAMP:20260422T072503
CREATED:20210527T143815Z
LAST-MODIFIED:20210709T111121Z
UID:8292-1628249400-1628256600@livenewcanaan.org
SUMMARY:History of Printmaking
DESCRIPTION:This course is designed to give a comprehensive overview of the history of printmaking right from its origins in the pre-historic context to its development at different times of human progress leading into the very contemporary printmaking processes. Students will acquire knowledge about the fundamentals of printmaking concepts and their relationship to the necessity of art and its changing needs from time to time in history of art. \nCourse Objectives: \nStudents will become familiar with the historical development of various surface printing techniques\, relief\, intaglio\, lithography\, and monotype printmaking processes.\nStudents will become competent in their understanding and appreciation of aesthetics as well as technical developments of printmaking.\nStudents will participate in research of an artist-printmaker and present the information to the class.\nCourse Content: \nPre-historic origins- first human prints in cave art- concept and purpose.\nAncient Civilizations- cylindrical seals of Near East\, Greece\, India and other civilizations; engravings\, rubbings etc. from Far East and more.\nInvention of paper and the first printed book; Development of book printing.\nMedieval development of European printing.\nModern Era and printmaking revolution. \nPlease note\, this is a 6 part workshop\, taking place on 6 different days via Zoom. \nFriday\, July 2 | 11:30 AM –1:00 PM EST \nFriday\, July 9 | 11:30 AM –1:00 PM EST \nFriday\, July 16 | 11:30 AM –12:00 PM EST \nFriday\, July 23 | 11:30 AM –1:00 PM EST \nFriday\, July 30 | 11:30 AM –1:00 PM EST \nFriday\, August 6 | 11:30 AM –1:00 PM EST \nImage Details: Spotted horses and negative hand imprints\, wall painting in the cave at Pech-Merle\, France\, ca. 22\,000 BCE. 11‘2” long. \nROHINI IYENGAR’s doctoral research relates to South Asian art history. As a professor in art history she is a generalist and has taught a variety of courses at different institutions in the US\, France\, Africa and India. Among the courses that she has taught are: the Western Art History surveys\, History of Graphic Design and History of Printmaking\, Women Artists and Art History\, Asian art survey and more. Her research interests include visual cultural studies\, feminist and subaltern studies. She has presented papers at national and international conferences as well as has a growing list of publications of research papers. A chapter from her doctoral thesis: “Ornamental Modernism: Regional Aesthetics and the Art of Andhra Pradesh” is being published in a major volume titled Twentieth Century Indian Art- Vol-II by Thames and Hudson Publications. \nShe has been actively engaged in curatorial practice since 1998 with shows organized at many international avenues.
URL:https://livenewcanaan.org/event/history-of-printmaking-6/
LOCATION:Center for Contemporary Printmaking\, 299 West Avenue\, Mathews Park\, Norwalk\, 06850
CATEGORIES:The Arts
ATTACH;FMTTYPE=image/jpeg:https://livenewcanaan.org/wp-content/uploads/2021/05/spotted-horses-and-negative-imprints-wall-painting-from-pech-merle-caves-6eKr5i.tmp_.jpg
ORGANIZER;CN="Center for Contemporary Printmaking":MAILTO:info@contemprints.org
END:VEVENT
END:VCALENDAR