BEGIN:VCALENDAR
VERSION:2.0
PRODID:-//LiveNewCanaan - ECPv6.15.18//NONSGML v1.0//EN
CALSCALE:GREGORIAN
METHOD:PUBLISH
X-ORIGINAL-URL:https://livenewcanaan.org
X-WR-CALDESC:Events for LiveNewCanaan
REFRESH-INTERVAL;VALUE=DURATION:PT1H
X-Robots-Tag:noindex
X-PUBLISHED-TTL:PT1H
BEGIN:VTIMEZONE
TZID:America/New_York
BEGIN:DAYLIGHT
TZOFFSETFROM:-0500
TZOFFSETTO:-0400
TZNAME:EDT
DTSTART:20220313T070000
END:DAYLIGHT
BEGIN:STANDARD
TZOFFSETFROM:-0400
TZOFFSETTO:-0500
TZNAME:EST
DTSTART:20221106T060000
END:STANDARD
BEGIN:DAYLIGHT
TZOFFSETFROM:-0500
TZOFFSETTO:-0400
TZNAME:EDT
DTSTART:20230312T070000
END:DAYLIGHT
BEGIN:STANDARD
TZOFFSETFROM:-0400
TZOFFSETTO:-0500
TZNAME:EST
DTSTART:20231105T060000
END:STANDARD
BEGIN:DAYLIGHT
TZOFFSETFROM:-0500
TZOFFSETTO:-0400
TZNAME:EDT
DTSTART:20240310T070000
END:DAYLIGHT
BEGIN:STANDARD
TZOFFSETFROM:-0400
TZOFFSETTO:-0500
TZNAME:EST
DTSTART:20241103T060000
END:STANDARD
END:VTIMEZONE
BEGIN:VEVENT
DTSTART;TZID=America/New_York:20230801T120000
DTEND;TZID=America/New_York:20230801T130000
DTSTAMP:20260420T181701
CREATED:20230523T205202Z
LAST-MODIFIED:20230523T205202Z
UID:12038-1690891200-1690894800@livenewcanaan.org
SUMMARY:Gentle Yoga at The Carriage Barn
DESCRIPTION:This is a gentle yoga class suitable for all levels. Yoga for Arthritis (YFA) was developed at a leading research university by an interdisciplinary team of rheumatologists\, psychologists\, public health researchers and yoga therapists. Research on this program has demonstrated increased mobility\, reduced pain\, better mood\, and enhanced quality of life for people living with arthritis.\nJody Kesten\, E-RYT 500\, Authorized Teacher of Meditation\, has passionately taught yoga for over 20 years. She addresses the needs of her students through time-tested teachings of yoga\, as well as newly informed scientific research.\n6 Tuesdays: June 20 – Aug 1\, at 12pm – 1pm\nNo Class July 4 \n\nGentle Yoga \n\n\nRegister for this six week series $120 non members / $100 members
URL:https://livenewcanaan.org/event/gentle-yoga-at-the-carriage-barn-2/
LOCATION:Carriage Barn Arts Center
CATEGORIES:Health Education
ATTACH;FMTTYPE=image/png:https://livenewcanaan.org/wp-content/uploads/2023/05/Yoga-1-PJauOQ.tmp_.png
ORGANIZER;CN="Carriage Barn Arts Center":MAILTO:admin@carriagebarn.org
END:VEVENT
END:VCALENDAR