BEGIN:VCALENDAR
VERSION:2.0
PRODID:-//LiveNewCanaan - ECPv6.15.18//NONSGML v1.0//EN
CALSCALE:GREGORIAN
METHOD:PUBLISH
X-WR-CALNAME:LiveNewCanaan
X-ORIGINAL-URL:https://livenewcanaan.org
X-WR-CALDESC:Events for LiveNewCanaan
REFRESH-INTERVAL;VALUE=DURATION:PT1H
X-Robots-Tag:noindex
X-PUBLISHED-TTL:PT1H
BEGIN:VTIMEZONE
TZID:America/New_York
BEGIN:DAYLIGHT
TZOFFSETFROM:-0500
TZOFFSETTO:-0400
TZNAME:EDT
DTSTART:20210314T070000
END:DAYLIGHT
BEGIN:STANDARD
TZOFFSETFROM:-0400
TZOFFSETTO:-0500
TZNAME:EST
DTSTART:20211107T060000
END:STANDARD
BEGIN:DAYLIGHT
TZOFFSETFROM:-0500
TZOFFSETTO:-0400
TZNAME:EDT
DTSTART:20220313T070000
END:DAYLIGHT
BEGIN:STANDARD
TZOFFSETFROM:-0400
TZOFFSETTO:-0500
TZNAME:EST
DTSTART:20221106T060000
END:STANDARD
BEGIN:DAYLIGHT
TZOFFSETFROM:-0500
TZOFFSETTO:-0400
TZNAME:EDT
DTSTART:20230312T070000
END:DAYLIGHT
BEGIN:STANDARD
TZOFFSETFROM:-0400
TZOFFSETTO:-0500
TZNAME:EST
DTSTART:20231105T060000
END:STANDARD
END:VTIMEZONE
BEGIN:VEVENT
DTSTART;TZID=America/New_York:20220726T193000
DTEND;TZID=America/New_York:20220726T213000
DTSTAMP:20260421T151434
CREATED:20220726T135256Z
LAST-MODIFIED:20220726T143656Z
UID:10540-1658863800-1658871000@livenewcanaan.org
SUMMARY:Bach to Bluegrass
DESCRIPTION:New Canaan Chamber Music Concert with Andrew Armstrong\, pianist\, and Tessa Kark\, Grammy-nominated violinist
URL:https://livenewcanaan.org/event/bach-to-bluegrass/
LOCATION:Summer Theatre of New Canaan Tent at Waveny Park\, 11 farm road\, New Canaan\, CT\, 06840\, United States
CATEGORIES:Summer Theatre of New Canaan
ATTACH;FMTTYPE=image/jpeg:https://livenewcanaan.org/wp-content/uploads/2022/07/61bbe942-df61-451b-ac2e-7bbfc1dbf79c-LxmwfF.tmp_.jpg
ORGANIZER;CN="New Canaan Chamber Music":MAILTO:info@newcanaanchambermusic.org
END:VEVENT
BEGIN:VEVENT
DTSTART;TZID=America/New_York:20220729T100000
DTEND;TZID=America/New_York:20220729T233000
DTSTAMP:20260421T151434
CREATED:20220726T135301Z
LAST-MODIFIED:20220726T143657Z
UID:10558-1659088800-1659137400@livenewcanaan.org
SUMMARY:Summer Theatre of New Canaan’s Wizard of Oz
DESCRIPTION:Theatre for a Young Audience: A fun theatre experience for children of all ages! \nJoin Dorothy\, Scarecrow\, Tin Man and the Lion as they travel down the Yellow Brick Road through Oz to find the Wizard sharing one adventure after another. Featuring songs We’re off to see the Wizard\, Somewhere over the rainbow\, If I Only Had a Brain and many more. A perfect summer show for young families. Picnics\, parties and munchkins welcome! Talented cast of 8 actors perform multiple roles. Great fun! \nShows July 15 -31 Friday Saturdays and Sundays 10AM \nWaveny Park Bring your own lawn chairs or book VIP seating and we’ll provide one.
URL:https://livenewcanaan.org/event/summer-theatre-of-new-canaans-wizard-of-oz/
LOCATION:Summer Theatre of New Canaan Tent at Waveny Park\, 11 farm road\, New Canaan\, CT\, 06840\, United States
CATEGORIES:Summer Theatre of New Canaan
ATTACH;FMTTYPE=image/png:https://livenewcanaan.org/wp-content/uploads/2022/07/wizard-of-oz-1-5E7UX6.tmp_.png
ORGANIZER;CN="Summer Theatre of New Canaan":MAILTO:info@stonc.org
END:VEVENT
BEGIN:VEVENT
DTSTART;TZID=America/New_York:20220729T200000
DTEND;TZID=America/New_York:20220729T220000
DTSTAMP:20260421T151434
CREATED:20220726T135312Z
LAST-MODIFIED:20220726T143658Z
UID:10586-1659124800-1659132000@livenewcanaan.org
SUMMARY:Summer Theatre of New Canaan’s Once On This Island
DESCRIPTION:“The Perfect Summer Show!” \nOnce On This Island is a captivating legend of romance between a peasant girl and a rich city boy whom she saves from death. This calypso-flavoured musical opens on a Caribbean island where villagers discover an orphan Ti Moune\, destined to love too much for the human heart to bear. Once On This Island delivers melody\, love and joy in tropical abundance. Magically staged by Tony-Winner George Faison. \nBook and Lyrics by Lynn Ahrens Based upon the novel My Love\, My Love by Rosa Guy\nMusic by Stephen Flaherty \nDirected & Choreographed\nby George Faison \nMusic Direction\nDamien Sneed \nJuly 7-31 Thursday – Sunday \nShows: 8pm Thu – Sat\, 7:30 pm Sunday\nWaveny Park\, New Canaan CT \nBring your own lawn chairs or book VIP seating and we’ll provide one.
URL:https://livenewcanaan.org/event/summer-theatre-of-new-canaans-once-on-this-island-2/
LOCATION:Summer Theatre of New Canaan Tent at Waveny Park\, 11 farm road\, New Canaan\, CT\, 06840\, United States
CATEGORIES:Summer Theatre of New Canaan
ATTACH;FMTTYPE=image/jpeg:https://livenewcanaan.org/wp-content/uploads/2022/07/once-on-this-island-1-j2qwcx.tmp_.jpg
ORGANIZER;CN="Summer Theatre of New Canaan":MAILTO:info@stonc.org
END:VEVENT
BEGIN:VEVENT
DTSTART;TZID=America/New_York:20220730T100000
DTEND;TZID=America/New_York:20220730T113000
DTSTAMP:20260421T151434
CREATED:20220726T135303Z
LAST-MODIFIED:20220726T143657Z
UID:10561-1659175200-1659180600@livenewcanaan.org
SUMMARY:Summer Theatre of New Canaan’s Wizard of Oz
DESCRIPTION:Theatre for a Young Audience: A fun theatre experience for children of all ages! \nJoin Dorothy\, Scarecrow\, Tin Man and the Lion as they travel down the Yellow Brick Road through Oz to find the Wizard sharing one adventure after another. Featuring songs We’re off to see the Wizard\, Somewhere over the rainbow\, If I Only Had a Brain and many more. A perfect summer show for young families. Picnics\, parties and munchkins welcome! Talented cast of 8 actors perform multiple roles. Great fun! \nShows July 15 -31 Friday Saturdays and Sundays 10AM \nWaveny Park Bring your own lawn chairs or book VIP seating and we’ll provide one.
URL:https://livenewcanaan.org/event/summer-theatre-of-new-canaans-wizard-of-oz-2/
LOCATION:Summer Theatre of New Canaan Tent at Waveny Park\, 11 farm road\, New Canaan\, CT\, 06840\, United States
CATEGORIES:Summer Theatre of New Canaan
ATTACH;FMTTYPE=image/png:https://livenewcanaan.org/wp-content/uploads/2022/07/wizard-of-oz-2-pDF2iP.tmp_.png
ORGANIZER;CN="Summer Theatre of New Canaan":MAILTO:info@stonc.org
END:VEVENT
BEGIN:VEVENT
DTSTART;TZID=America/New_York:20220730T200000
DTEND;TZID=America/New_York:20220730T220000
DTSTAMP:20260421T151434
CREATED:20220726T135313Z
LAST-MODIFIED:20220726T143658Z
UID:10588-1659211200-1659218400@livenewcanaan.org
SUMMARY:Summer Theatre of New Canaan’s Once On This Island
DESCRIPTION:“The Perfect Summer Show!” \nOnce On This Island is a captivating legend of romance between a peasant girl and a rich city boy whom she saves from death. This calypso-flavoured musical opens on a Caribbean island where villagers discover an orphan Ti Moune\, destined to love too much for the human heart to bear. Once On This Island delivers melody\, love and joy in tropical abundance. Magically staged by Tony-Winner George Faison. \nBook and Lyrics by Lynn Ahrens Based upon the novel My Love\, My Love by Rosa Guy\nMusic by Stephen Flaherty \nDirected & Choreographed\nby George Faison \nMusic Direction\nDamien Sneed \nJuly 7-31 Thursday – Sunday \nShows: 8pm Thu – Sat\, 7:30 pm Sunday\nWaveny Park\, New Canaan CT \nBring your own lawn chairs or book VIP seating and we’ll provide one.
URL:https://livenewcanaan.org/event/summer-theatre-of-new-canaans-once-on-this-island-3/
LOCATION:Summer Theatre of New Canaan Tent at Waveny Park\, 11 farm road\, New Canaan\, CT\, 06840\, United States
CATEGORIES:Summer Theatre of New Canaan
ATTACH;FMTTYPE=image/jpeg:https://livenewcanaan.org/wp-content/uploads/2022/07/once-on-this-island-2-Xcc5VZ.tmp_.jpg
ORGANIZER;CN="Summer Theatre of New Canaan":MAILTO:info@stonc.org
END:VEVENT
BEGIN:VEVENT
DTSTART;TZID=America/New_York:20220731T100000
DTEND;TZID=America/New_York:20220731T113000
DTSTAMP:20260421T151434
CREATED:20220726T135314Z
LAST-MODIFIED:20220726T143658Z
UID:10590-1659261600-1659267000@livenewcanaan.org
SUMMARY:Summer Theatre of New Canaan’s Wizard of Oz
DESCRIPTION:Theatre for a Young Audience: A fun theatre experience for children of all ages! \nJoin Dorothy\, Scarecrow\, Tin Man and the Lion as they travel down the Yellow Brick Road through Oz to find the Wizard sharing one adventure after another. Featuring songs We’re off to see the Wizard\, Somewhere over the rainbow\, If I Only Had a Brain and many more. A perfect summer show for young families. Picnics\, parties and munchkins welcome! Talented cast of 8 actors perform multiple roles. Great fun! \nShows July 15 -31 Friday Saturdays and Sundays 10AM \nWaveny Park Bring your own lawn chairs or book VIP seating and we’ll provide one.
URL:https://livenewcanaan.org/event/summer-theatre-of-new-canaans-wizard-of-oz-3/
LOCATION:Summer Theatre of New Canaan Tent at Waveny Park\, 11 farm road\, New Canaan\, CT\, 06840\, United States
CATEGORIES:Summer Theatre of New Canaan
ATTACH;FMTTYPE=image/png:https://livenewcanaan.org/wp-content/uploads/2022/07/wizard-of-oz-3-RHHjI9.tmp_.png
ORGANIZER;CN="Summer Theatre of New Canaan":MAILTO:info@stonc.org
END:VEVENT
BEGIN:VEVENT
DTSTART;TZID=America/New_York:20220731T193000
DTEND;TZID=America/New_York:20220731T213000
DTSTAMP:20260421T151434
CREATED:20220726T135316Z
LAST-MODIFIED:20220726T143658Z
UID:10592-1659295800-1659303000@livenewcanaan.org
SUMMARY:Summer Theatre of New Canaan’s Once On This Island
DESCRIPTION:“The Perfect Summer Show!” \nOnce On This Island is a captivating legend of romance between a peasant girl and a rich city boy whom she saves from death. This calypso-flavoured musical opens on a Caribbean island where villagers discover an orphan Ti Moune\, destined to love too much for the human heart to bear. Once On This Island delivers melody\, love and joy in tropical abundance. Magically staged by Tony-Winner George Faison. \nBook and Lyrics by Lynn Ahrens Based upon the novel My Love\, My Love by Rosa Guy\nMusic by Stephen Flaherty \nDirected & Choreographed\nby George Faison \nMusic Direction\nDamien Sneed \nJuly 7-31 Thursday – Sunday \nShows: 8pm Thu – Sat\, 7:30 pm Sunday\nWaveny Park\, New Canaan CT \nBring your own lawn chairs or book VIP seating and we’ll provide one.
URL:https://livenewcanaan.org/event/summer-theatre-of-new-canaans-once-on-this-island-4/
LOCATION:Summer Theatre of New Canaan Tent at Waveny Park\, 11 farm road\, New Canaan\, CT\, 06840\, United States
CATEGORIES:Summer Theatre of New Canaan
ATTACH;FMTTYPE=image/jpeg:https://livenewcanaan.org/wp-content/uploads/2022/07/once-on-this-island-3-VbeG3P.tmp_.jpg
ORGANIZER;CN="Summer Theatre of New Canaan":MAILTO:info@stonc.org
END:VEVENT
END:VCALENDAR