BEGIN:VCALENDAR
VERSION:2.0
PRODID:-//LiveNewCanaan - ECPv6.15.18//NONSGML v1.0//EN
CALSCALE:GREGORIAN
METHOD:PUBLISH
X-ORIGINAL-URL:https://livenewcanaan.org
X-WR-CALDESC:Events for LiveNewCanaan
REFRESH-INTERVAL;VALUE=DURATION:PT1H
X-Robots-Tag:noindex
X-PUBLISHED-TTL:PT1H
BEGIN:VTIMEZONE
TZID:America/New_York
BEGIN:DAYLIGHT
TZOFFSETFROM:-0500
TZOFFSETTO:-0400
TZNAME:EDT
DTSTART:20210314T070000
END:DAYLIGHT
BEGIN:STANDARD
TZOFFSETFROM:-0400
TZOFFSETTO:-0500
TZNAME:EST
DTSTART:20211107T060000
END:STANDARD
BEGIN:DAYLIGHT
TZOFFSETFROM:-0500
TZOFFSETTO:-0400
TZNAME:EDT
DTSTART:20220313T070000
END:DAYLIGHT
BEGIN:STANDARD
TZOFFSETFROM:-0400
TZOFFSETTO:-0500
TZNAME:EST
DTSTART:20221106T060000
END:STANDARD
BEGIN:DAYLIGHT
TZOFFSETFROM:-0500
TZOFFSETTO:-0400
TZNAME:EDT
DTSTART:20230312T070000
END:DAYLIGHT
BEGIN:STANDARD
TZOFFSETFROM:-0400
TZOFFSETTO:-0500
TZNAME:EST
DTSTART:20231105T060000
END:STANDARD
END:VTIMEZONE
BEGIN:VEVENT
DTSTART;TZID=America/New_York:20220326T103000
DTEND;TZID=America/New_York:20220326T173000
DTSTAMP:20260421T223916
CREATED:20220318T183901Z
LAST-MODIFIED:20220318T183901Z
UID:10121-1648290600-1648315800@livenewcanaan.org
SUMMARY:Analia Saban: Recent Prints
DESCRIPTION:Heather Gaudio Fine Art PROJECTS is delighted to present Analía Sabán: Recent Prints\, a solo exhibition featuring recent series of the artist’s graphic works. The show\, which runs March 26th- May 21\, has been made possible with the generous collaboration of master printmakers Gemini G.E.L. in New York City. \nSabán is known for reconfiguring traditional notions of painting and printmaking\, often using the actual material as the subject of the work itself. Her work plays with art historical references and traditions of techniques and technology\, creating experimental and witty dialogues between the mediums and processes she is working on.
URL:https://livenewcanaan.org/event/analia-saban-recent-prints/
LOCATION:Heather gaudio Fine Art PROJECTS\, 78 Elm Street\, New Canaan\, 06840
CATEGORIES:The Arts
ATTACH;FMTTYPE=image/jpeg:https://livenewcanaan.org/wp-content/uploads/2022/03/as19-3592-pong-hi-res-scaled-cJNbG5.tmp_.jpg
END:VEVENT
END:VCALENDAR