BEGIN:VCALENDAR
VERSION:2.0
PRODID:-//LiveNewCanaan - ECPv6.15.18//NONSGML v1.0//EN
CALSCALE:GREGORIAN
METHOD:PUBLISH
X-WR-CALNAME:LiveNewCanaan
X-ORIGINAL-URL:https://livenewcanaan.org
X-WR-CALDESC:Events for LiveNewCanaan
REFRESH-INTERVAL;VALUE=DURATION:PT1H
X-Robots-Tag:noindex
X-PUBLISHED-TTL:PT1H
BEGIN:VTIMEZONE
TZID:America/New_York
BEGIN:DAYLIGHT
TZOFFSETFROM:-0500
TZOFFSETTO:-0400
TZNAME:EDT
DTSTART:20210314T070000
END:DAYLIGHT
BEGIN:STANDARD
TZOFFSETFROM:-0400
TZOFFSETTO:-0500
TZNAME:EST
DTSTART:20211107T060000
END:STANDARD
BEGIN:DAYLIGHT
TZOFFSETFROM:-0500
TZOFFSETTO:-0400
TZNAME:EDT
DTSTART:20220313T070000
END:DAYLIGHT
BEGIN:STANDARD
TZOFFSETFROM:-0400
TZOFFSETTO:-0500
TZNAME:EST
DTSTART:20221106T060000
END:STANDARD
BEGIN:DAYLIGHT
TZOFFSETFROM:-0500
TZOFFSETTO:-0400
TZNAME:EDT
DTSTART:20230312T070000
END:DAYLIGHT
BEGIN:STANDARD
TZOFFSETFROM:-0400
TZOFFSETTO:-0500
TZNAME:EST
DTSTART:20231105T060000
END:STANDARD
END:VTIMEZONE
BEGIN:VEVENT
DTSTART;TZID=America/New_York:20220123T150000
DTEND;TZID=America/New_York:20220123T163000
DTSTAMP:20260422T015052
CREATED:20211213T224031Z
LAST-MODIFIED:20220114T233837Z
UID:9676-1642950000-1642955400@livenewcanaan.org
SUMMARY:Stamford Symphony Chamber Concert at the Barn Arts Center
DESCRIPTION:The Stamford Symphony in partnership with the Carriage Barn Arts Center is pleased to present a string quartet as part of the Symphony’s free chamber concert series. \nFeatured music from composers Jennifer Higdon (b. 1962)\, “Amazing Grace” for String Quartet\, W. A. Mozart (1756 – 1791)\, String Quartet No. 14 in G Major\, K. 387\, “Spring\,” William Grant Still (1895-1978)\, “Danzas de Panama\,” Giacomo Puccini\, (1858 – 1924)\, “Crisantemi” (Chrysanthemums)\, and Wood Works (traditional folk music)\, (Danish String Quartet\, arr.). \nStamford Symphony’s performers to include: Robert Zubrycki (violin)\, Lisa Tipton (violin)\, Adria Benjamin (viola)\, and Eliot Ballen (cello) \nWe thank the New Canaan Community Foundation for their generous grant. Additional funding has been provided by Penny and Bob Young through the “Crescendo Fund” for the Future of the Stamford Symphony.
URL:https://livenewcanaan.org/event/stamford-symphony-chamber-concert-at-the-barn-arts-center/
LOCATION:Carriage Barn Arts Center
CATEGORIES:Carriage Barn Arts Center Event
ATTACH;FMTTYPE=image/jpeg:https://livenewcanaan.org/wp-content/uploads/2021/12/violins-Rvu110.tmp_.jpg
ORGANIZER;CN="Carriage Barn Arts Center":MAILTO:admin@carriagebarn.org
END:VEVENT
END:VCALENDAR