BEGIN:VCALENDAR
VERSION:2.0
PRODID:-//LiveNewCanaan - ECPv6.15.18//NONSGML v1.0//EN
CALSCALE:GREGORIAN
METHOD:PUBLISH
X-ORIGINAL-URL:https://livenewcanaan.org
X-WR-CALDESC:Events for LiveNewCanaan
REFRESH-INTERVAL;VALUE=DURATION:PT1H
X-Robots-Tag:noindex
X-PUBLISHED-TTL:PT1H
BEGIN:VTIMEZONE
TZID:America/New_York
BEGIN:DAYLIGHT
TZOFFSETFROM:-0500
TZOFFSETTO:-0400
TZNAME:EDT
DTSTART:20220313T070000
END:DAYLIGHT
BEGIN:STANDARD
TZOFFSETFROM:-0400
TZOFFSETTO:-0500
TZNAME:EST
DTSTART:20221106T060000
END:STANDARD
BEGIN:DAYLIGHT
TZOFFSETFROM:-0500
TZOFFSETTO:-0400
TZNAME:EDT
DTSTART:20230312T070000
END:DAYLIGHT
BEGIN:STANDARD
TZOFFSETFROM:-0400
TZOFFSETTO:-0500
TZNAME:EST
DTSTART:20231105T060000
END:STANDARD
BEGIN:DAYLIGHT
TZOFFSETFROM:-0500
TZOFFSETTO:-0400
TZNAME:EDT
DTSTART:20240310T070000
END:DAYLIGHT
BEGIN:STANDARD
TZOFFSETFROM:-0400
TZOFFSETTO:-0500
TZNAME:EST
DTSTART:20241103T060000
END:STANDARD
END:VTIMEZONE
BEGIN:VEVENT
DTSTART;TZID=America/New_York:20230610T100000
DTEND;TZID=America/New_York:20230610T170000
DTSTAMP:20260421T192245
CREATED:20230523T205141Z
LAST-MODIFIED:20230523T205141Z
UID:12007-1686391200-1686416400@livenewcanaan.org
SUMMARY:Draw Until You Drop
DESCRIPTION:This is a day of non-stop drawing for students of all abilities. This is an opportunity for students to study continuous\, intensive figure drawing with a model or models in sustained poses\, still life set-ups\, and explore landscape drawing on Silvermine’s campus. Participants of all skill levels\, ages 16 and up\, will be able to work alongside Silvermine Instructors\, Guild Artist Members\, and other students to develop their artistic vision\, sharpen skills and energize their studio experience through drawing. \nRegistration is required for this event. Any walk-ins will only be able to participate in the outdoor drawing locations. Tables\, easels\, and drawing horses\, will be available.
URL:https://livenewcanaan.org/event/draw-until-you-drop-2/
LOCATION:1037 Silvermine Road\, New Canaan CT 06840\, 1037 Silvermine Rd\, New Cannan\, CT\, 06840\, United States
CATEGORIES:Carriage Barn Arts Center Event
ATTACH;FMTTYPE=image/jpeg:https://livenewcanaan.org/wp-content/uploads/2023/05/IMG_6364-scaled-nUu3Qr.tmp_.jpg
ORGANIZER;CN="Silvermine Arts Center":MAILTO:info@silverminearts.org
END:VEVENT
BEGIN:VEVENT
DTSTART;TZID=America/New_York:20230611T140000
DTEND;TZID=America/New_York:20230611T140000
DTSTAMP:20260421T192245
CREATED:20230523T205205Z
LAST-MODIFIED:20230523T205205Z
UID:12043-1686492000-1686492000@livenewcanaan.org
SUMMARY:Fantastical Footpaths Picnic And Adventure Walk
DESCRIPTION:Join the Carriage Barn Arts Center and Waveny Park Conservancy for Fantastical Footpaths with SOVA Dance and Puppet Theater Sunday June 11 at 2pm.\nCome early and enjoy a picnic on the hill\, then take part in a family craft before heading off on a wondrous woodland walk through the enchanted forest! Join “Firefly” the fairy and friends of Sova Dance & Puppet Theater for an adventure through the paths of Waveny Park. Say hello to the toads and busy bugs\, discover characters like hobgoblins and dragons waking from their winter slumber as life begins to bloom\, sprout and reach closer to the sun.\nTickets are limited and $20 each or $75 for a family of four or more
URL:https://livenewcanaan.org/event/fantastical-footpaths-picnic-and-adventure-walk/
LOCATION:Carriage Barn Arts Center
CATEGORIES:Carriage Barn Arts Center Event
ATTACH;FMTTYPE=image/jpeg:https://livenewcanaan.org/wp-content/uploads/2023/05/Fantastical-Footpaths-pict-r7nTVI.tmp_.jpg
ORGANIZER;CN="Carriage Barn Arts Center":MAILTO:admin@carriagebarn.org
END:VEVENT
BEGIN:VEVENT
DTSTART;TZID=America/New_York:20230611T180000
DTEND;TZID=America/New_York:20230611T200000
DTSTAMP:20260421T192245
CREATED:20230523T205151Z
LAST-MODIFIED:20230523T205151Z
UID:12018-1686506400-1686513600@livenewcanaan.org
SUMMARY:New Canaan Pops in the Park
DESCRIPTION:WELCOME TO THE 2ND ANNUAL POPS IN THE PARK concert featuring the Norwalk Symphony Orchestra! New Canaan Pops in the Park\, Inc. is pleased to share a beautiful evening of music with all of you — our very special guests. This year\, we feature “A Night in Hollywood” as our theme for the evening\, with an emphasis on music featured in movies and television. Inspired by the Boston Pops concerts on Cape Cod and Nantucket and the NY Philharmonic’s summer concerts in Central Park this evening is one that is sure to delight audiences of all ages. Join us with your picnic baskets as concertgoers gather on lawn chairs and blankets for a summer evening of lively classical music. \nTickets are free and you must reserve them through Eventbrite as we are limited to 1500 attendees.
URL:https://livenewcanaan.org/event/new-canaan-pops-in-the-park/
LOCATION:Waveny Park
ATTACH;FMTTYPE=image/jpeg:https://livenewcanaan.org/wp-content/uploads/2023/05/PITP23.FB-POST-1-scaled-AlZUHe.tmp_.jpg
END:VEVENT
END:VCALENDAR