BEGIN:VCALENDAR
VERSION:2.0
PRODID:-//LiveNewCanaan - ECPv6.15.18//NONSGML v1.0//EN
CALSCALE:GREGORIAN
METHOD:PUBLISH
X-WR-CALNAME:LiveNewCanaan
X-ORIGINAL-URL:https://livenewcanaan.org
X-WR-CALDESC:Events for LiveNewCanaan
REFRESH-INTERVAL;VALUE=DURATION:PT1H
X-Robots-Tag:noindex
X-PUBLISHED-TTL:PT1H
BEGIN:VTIMEZONE
TZID:America/New_York
BEGIN:DAYLIGHT
TZOFFSETFROM:-0500
TZOFFSETTO:-0400
TZNAME:EDT
DTSTART:20220313T070000
END:DAYLIGHT
BEGIN:STANDARD
TZOFFSETFROM:-0400
TZOFFSETTO:-0500
TZNAME:EST
DTSTART:20221106T060000
END:STANDARD
BEGIN:DAYLIGHT
TZOFFSETFROM:-0500
TZOFFSETTO:-0400
TZNAME:EDT
DTSTART:20230312T070000
END:DAYLIGHT
BEGIN:STANDARD
TZOFFSETFROM:-0400
TZOFFSETTO:-0500
TZNAME:EST
DTSTART:20231105T060000
END:STANDARD
BEGIN:DAYLIGHT
TZOFFSETFROM:-0500
TZOFFSETTO:-0400
TZNAME:EDT
DTSTART:20240310T070000
END:DAYLIGHT
BEGIN:STANDARD
TZOFFSETFROM:-0400
TZOFFSETTO:-0500
TZNAME:EST
DTSTART:20241103T060000
END:STANDARD
END:VTIMEZONE
BEGIN:VEVENT
DTSTART;TZID=America/New_York:20230505T190000
DTEND;TZID=America/New_York:20230505T210000
DTSTAMP:20260421T205030
CREATED:20230401T021910Z
LAST-MODIFIED:20230413T161647Z
UID:11680-1683313200-1683320400@livenewcanaan.org
SUMMARY:New Canaan Chamber Music “Pulling Out All the Stops!” Concert
DESCRIPTION:An electrifying concert in the Bartlett Auditorium at the New Canaan Library with 11 world-class musicians led by pianist Andrew Armstrong with all performing at the top of their game! Music includes Mendelssohn’s Octet!
URL:https://livenewcanaan.org/event/new-canaan-chamber-music-pulling-out-all-the-stops-concert/
LOCATION:New Canaan Library\, 151 Main St\, New Canaan\, CT\, United States
CATEGORIES:New Canaan Chamber Music
ATTACH;FMTTYPE=image/jpeg:https://livenewcanaan.org/wp-content/uploads/2023/04/7AD19B8D-32A8-419C-9DC2-2C703AFB386C-PatvOq.tmp_.jpg
ORGANIZER;CN="New Canaan Chamber Music":MAILTO:info@newcanaanchambermusic.org
END:VEVENT
BEGIN:VEVENT
DTSTART;TZID=America/New_York:20230507T150000
DTEND;TZID=America/New_York:20230507T160000
DTSTAMP:20260421T205030
CREATED:20230401T021920Z
LAST-MODIFIED:20230413T161651Z
UID:11689-1683471600-1683475200@livenewcanaan.org
SUMMARY:Children & Families Concert by New Canaan Chamber Music
DESCRIPTION:Our first ever concert for children and families! See pianist Andrew Armstrong joined by five acclaimed musicians perform!
URL:https://livenewcanaan.org/event/children-families-concert-by-new-canaan-chamber-music/
LOCATION:New Canaan Library\, 151 Main St\, New Canaan\, CT\, United States
CATEGORIES:Family Friendly Events,For Children,New Canaan Chamber Music
ATTACH;FMTTYPE=image/jpeg:https://livenewcanaan.org/wp-content/uploads/2023/04/E14B865D-5451-4DD4-BD4D-96DD1FC0B01C-ucijwp.tmp_.jpg
ORGANIZER;CN="New Canaan Chamber Music":MAILTO:info@newcanaanchambermusic.org
END:VEVENT
BEGIN:VEVENT
DTSTART;TZID=America/New_York:20230512T200000
DTEND;TZID=America/New_York:20230512T213000
DTSTAMP:20260421T205030
CREATED:20230401T021925Z
LAST-MODIFIED:20230413T161653Z
UID:11696-1683921600-1683927000@livenewcanaan.org
SUMMARY:THE GYNOKID by CLAIRE AYOUB
DESCRIPTION:TALK-BACK and “CHAMPAGNE” RECEPTION after each performance. \nA portion of proceeds will be awarded to a New Canaan student as scholarship for excellence in writing… to follow in Claire Ayoub’s footsteps. \nAnd you thought YOUR parents were up in everyone’s business. As the child of small-town gynecologists\, comedy writer Claire Ayoub (Empire Waist\, Amy Poehler’s Smart Girls) experienced an untraditional and often mortifying adolescence destined to end in therapy—and comedy. Join her for a delightfully cringeworthy walk down memory lane and learn what being a GynoKid is all about. To learn more\, visit: www.claireayoub.com/thegynokid \nAfter an award-winning run at the FRIGID Fringe Festival (Best Solo Comedy\, Top Grossing-The Kraine Theater\, EstroGenius Award)\, The GynoKid was asked back as part of the EstroGenius Festival… and now headed to New Canaan where it all began!   Join Claire at the Powerhouse Theatre in Waveny Park on Mother’s Day Weekend. \nREVIEWS:\n“Ayoub observes that comedy helped her through dark times\, and she demonstrates her mastery of the form with a captivating stage presence.” — Thinking Theater NYC \n“As she makes us feel every embarrassing moment\, she reveals much about her inner life\, while sketching a warm\, loving portrait of her parents. And makes us laugh again and again.” — Blogcritics \n“What might be mortifying to a child is assuredly recounted with loving fondness\, winning humor\, polished staging and effortless clarity.” — Theater Reviews from My Seat \n“We don’t think we ever stopped laughing.” — Young-Howze Theater Journal \nAUDIENCE REVIEWS \n“An absolutely brilliant piece of theatre.\nOne of the best and smartest shows I’ve seen in a long time. Claire Ayoub has written a masterpiece that is only amplified by her magnetic performance. Her genuine energy and positive vibes and humor pour off the stage and into the audience\, leaving the audience in a constant roar of laughter\, as well as forcing them to let their guard down to really hear the heart of her story… This was an exceptionally brilliant show and one that I would expect to see at any of the larger Off-Broadway houses/companies.” \n“Claire was so funny and vulnerable.\nLoved seeing all the audience happy and smiling as they left the theater.”\n“Hilarious and heartfelt!\nAll the stars!!!!” \n“Brilliantly written and superbly performed show. Claire shares the humor and awkwardness of growing up in a small community with parents who have an extremely personal relationship with their patients in a deeply insightful way that had me laughing and left me with much to think about. Highly recommend to all!”
URL:https://livenewcanaan.org/event/the-gynokid-by-claire-ayoub/
LOCATION:Powerhouse Theater\, Waveny Park\, 679 South Avenue\, New Canaan\, CT\, 06840\, United States
CATEGORIES:Community Discussion,Health Education,Town Players of New Canaan
ATTACH;FMTTYPE=image/jpeg:https://livenewcanaan.org/wp-content/uploads/2023/04/1759A479-4AAE-460F-A221-0D37AC52622D-ZrCnuP.tmp_.jpg
ORGANIZER;CN="Town Players of New Canaan":MAILTO:info@tpnc.org
END:VEVENT
BEGIN:VEVENT
DTSTART;TZID=America/New_York:20230513T200000
DTEND;TZID=America/New_York:20230513T213000
DTSTAMP:20260421T205030
CREATED:20230401T021926Z
LAST-MODIFIED:20230413T161653Z
UID:11698-1684008000-1684013400@livenewcanaan.org
SUMMARY:THE GYNOKID by CLAIRE AYOUB
DESCRIPTION:TALK-BACK and “CHAMPAGNE” RECEPTION after each performance. \nA portion of proceeds will be awarded to a New Canaan student as scholarship for excellence in writing… to follow in Claire Ayoub’s footsteps. \nAnd you thought YOUR parents were up in everyone’s business. As the child of small-town gynecologists\, comedy writer Claire Ayoub (Empire Waist\, Amy Poehler’s Smart Girls) experienced an untraditional and often mortifying adolescence destined to end in therapy—and comedy. Join her for a delightfully cringeworthy walk down memory lane and learn what being a GynoKid is all about. To learn more\, visit: www.claireayoub.com/thegynokid \nAfter an award-winning run at the FRIGID Fringe Festival (Best Solo Comedy\, Top Grossing-The Kraine Theater\, EstroGenius Award)\, The GynoKid was asked back as part of the EstroGenius Festival… and now headed to New Canaan where it all began!   Join Claire at the Powerhouse Theatre in Waveny Park on Mother’s Day Weekend. \nREVIEWS:\n“Ayoub observes that comedy helped her through dark times\, and she demonstrates her mastery of the form with a captivating stage presence.” — Thinking Theater NYC \n“As she makes us feel every embarrassing moment\, she reveals much about her inner life\, while sketching a warm\, loving portrait of her parents. And makes us laugh again and again.” — Blogcritics \n“What might be mortifying to a child is assuredly recounted with loving fondness\, winning humor\, polished staging and effortless clarity.” — Theater Reviews from My Seat \n“We don’t think we ever stopped laughing.” — Young-Howze Theater Journal \nAUDIENCE REVIEWS \n“An absolutely brilliant piece of theatre.\nOne of the best and smartest shows I’ve seen in a long time. Claire Ayoub has written a masterpiece that is only amplified by her magnetic performance. Her genuine energy and positive vibes and humor pour off the stage and into the audience\, leaving the audience in a constant roar of laughter\, as well as forcing them to let their guard down to really hear the heart of her story… This was an exceptionally brilliant show and one that I would expect to see at any of the larger Off-Broadway houses/companies.” \n“Claire was so funny and vulnerable.\nLoved seeing all the audience happy and smiling as they left the theater.”\n“Hilarious and heartfelt!\nAll the stars!!!!” \n“Brilliantly written and superbly performed show. Claire shares the humor and awkwardness of growing up in a small community with parents who have an extremely personal relationship with their patients in a deeply insightful way that had me laughing and left me with much to think about. Highly recommend to all!”
URL:https://livenewcanaan.org/event/the-gynokid-by-claire-ayoub-2/
LOCATION:Powerhouse Theater\, Waveny Park\, 679 South Avenue\, New Canaan\, CT\, 06840\, United States
CATEGORIES:Community Discussion,Health Education,Town Players of New Canaan
ATTACH;FMTTYPE=image/jpeg:https://livenewcanaan.org/wp-content/uploads/2023/04/1759A479-4AAE-460F-A221-0D37AC52622D-ZrCnuP.tmp_.jpg
ORGANIZER;CN="Town Players of New Canaan":MAILTO:info@tpnc.org
END:VEVENT
BEGIN:VEVENT
DTSTART;TZID=America/New_York:20230514T140000
DTEND;TZID=America/New_York:20230514T163000
DTSTAMP:20260421T205030
CREATED:20230401T021926Z
LAST-MODIFIED:20230413T161653Z
UID:11699-1684072800-1684081800@livenewcanaan.org
SUMMARY:THE GYNOKID by CLAIRE AYOUB
DESCRIPTION:TALK-BACK and “CHAMPAGNE” RECEPTION after each performance. \nA portion of proceeds will be awarded to a New Canaan student as scholarship for excellence in writing… to follow in Claire Ayoub’s footsteps. \nAnd you thought YOUR parents were up in everyone’s business. As the child of small-town gynecologists\, comedy writer Claire Ayoub (Empire Waist\, Amy Poehler’s Smart Girls) experienced an untraditional and often mortifying adolescence destined to end in therapy—and comedy. Join her for a delightfully cringeworthy walk down memory lane and learn what being a GynoKid is all about. To learn more\, visit: www.claireayoub.com/thegynokid \nAfter an award-winning run at the FRIGID Fringe Festival (Best Solo Comedy\, Top Grossing-The Kraine Theater\, EstroGenius Award)\, The GynoKid was asked back as part of the EstroGenius Festival… and now headed to New Canaan where it all began!   Join Claire at the Powerhouse Theatre in Waveny Park on Mother’s Day Weekend. \nREVIEWS:\n“Ayoub observes that comedy helped her through dark times\, and she demonstrates her mastery of the form with a captivating stage presence.” — Thinking Theater NYC \n“As she makes us feel every embarrassing moment\, she reveals much about her inner life\, while sketching a warm\, loving portrait of her parents. And makes us laugh again and again.” — Blogcritics \n“What might be mortifying to a child is assuredly recounted with loving fondness\, winning humor\, polished staging and effortless clarity.” — Theater Reviews from My Seat \n“We don’t think we ever stopped laughing.” — Young-Howze Theater Journal \nAUDIENCE REVIEWS \n“An absolutely brilliant piece of theatre.\nOne of the best and smartest shows I’ve seen in a long time. Claire Ayoub has written a masterpiece that is only amplified by her magnetic performance. Her genuine energy and positive vibes and humor pour off the stage and into the audience\, leaving the audience in a constant roar of laughter\, as well as forcing them to let their guard down to really hear the heart of her story… This was an exceptionally brilliant show and one that I would expect to see at any of the larger Off-Broadway houses/companies.” \n“Claire was so funny and vulnerable.\nLoved seeing all the audience happy and smiling as they left the theater.”\n“Hilarious and heartfelt!\nAll the stars!!!!” \n“Brilliantly written and superbly performed show. Claire shares the humor and awkwardness of growing up in a small community with parents who have an extremely personal relationship with their patients in a deeply insightful way that had me laughing and left me with much to think about. Highly recommend to all!”
URL:https://livenewcanaan.org/event/the-gynokid-by-claire-ayoub-3/
LOCATION:Powerhouse Theater\, Waveny Park\, 679 South Avenue\, New Canaan\, CT\, 06840\, United States
CATEGORIES:Community Discussion,Health Education,Town Players of New Canaan
ATTACH;FMTTYPE=image/jpeg:https://livenewcanaan.org/wp-content/uploads/2023/04/1759A479-4AAE-460F-A221-0D37AC52622D-ZrCnuP.tmp_.jpg
ORGANIZER;CN="Town Players of New Canaan":MAILTO:info@tpnc.org
END:VEVENT
BEGIN:VEVENT
DTSTART;TZID=America/New_York:20230514T200000
DTEND;TZID=America/New_York:20230514T213000
DTSTAMP:20260421T205030
CREATED:20230401T021926Z
LAST-MODIFIED:20230413T161653Z
UID:11700-1684094400-1684099800@livenewcanaan.org
SUMMARY:THE GYNOKID by CLAIRE AYOUB
DESCRIPTION:TALK-BACK and “CHAMPAGNE” RECEPTION after each performance. \nA portion of proceeds will be awarded to a New Canaan student as scholarship for excellence in writing… to follow in Claire Ayoub’s footsteps. \nAnd you thought YOUR parents were up in everyone’s business. As the child of small-town gynecologists\, comedy writer Claire Ayoub (Empire Waist\, Amy Poehler’s Smart Girls) experienced an untraditional and often mortifying adolescence destined to end in therapy—and comedy. Join her for a delightfully cringeworthy walk down memory lane and learn what being a GynoKid is all about. To learn more\, visit: www.claireayoub.com/thegynokid \nAfter an award-winning run at the FRIGID Fringe Festival (Best Solo Comedy\, Top Grossing-The Kraine Theater\, EstroGenius Award)\, The GynoKid was asked back as part of the EstroGenius Festival… and now headed to New Canaan where it all began!   Join Claire at the Powerhouse Theatre in Waveny Park on Mother’s Day Weekend. \nREVIEWS:\n“Ayoub observes that comedy helped her through dark times\, and she demonstrates her mastery of the form with a captivating stage presence.” — Thinking Theater NYC \n“As she makes us feel every embarrassing moment\, she reveals much about her inner life\, while sketching a warm\, loving portrait of her parents. And makes us laugh again and again.” — Blogcritics \n“What might be mortifying to a child is assuredly recounted with loving fondness\, winning humor\, polished staging and effortless clarity.” — Theater Reviews from My Seat \n“We don’t think we ever stopped laughing.” — Young-Howze Theater Journal \nAUDIENCE REVIEWS \n“An absolutely brilliant piece of theatre.\nOne of the best and smartest shows I’ve seen in a long time. Claire Ayoub has written a masterpiece that is only amplified by her magnetic performance. Her genuine energy and positive vibes and humor pour off the stage and into the audience\, leaving the audience in a constant roar of laughter\, as well as forcing them to let their guard down to really hear the heart of her story… This was an exceptionally brilliant show and one that I would expect to see at any of the larger Off-Broadway houses/companies.” \n“Claire was so funny and vulnerable.\nLoved seeing all the audience happy and smiling as they left the theater.”\n“Hilarious and heartfelt!\nAll the stars!!!!” \n“Brilliantly written and superbly performed show. Claire shares the humor and awkwardness of growing up in a small community with parents who have an extremely personal relationship with their patients in a deeply insightful way that had me laughing and left me with much to think about. Highly recommend to all!”
URL:https://livenewcanaan.org/event/the-gynokid-by-claire-ayoub-4/
LOCATION:Powerhouse Theater\, Waveny Park\, 679 South Avenue\, New Canaan\, CT\, 06840\, United States
CATEGORIES:Community Discussion,Health Education,Town Players of New Canaan
ATTACH;FMTTYPE=image/jpeg:https://livenewcanaan.org/wp-content/uploads/2023/04/1759A479-4AAE-460F-A221-0D37AC52622D-ZrCnuP.tmp_.jpg
ORGANIZER;CN="Town Players of New Canaan":MAILTO:info@tpnc.org
END:VEVENT
END:VCALENDAR