BEGIN:VCALENDAR
VERSION:2.0
PRODID:-//LiveNewCanaan - ECPv6.15.18//NONSGML v1.0//EN
CALSCALE:GREGORIAN
METHOD:PUBLISH
X-WR-CALNAME:LiveNewCanaan
X-ORIGINAL-URL:https://livenewcanaan.org
X-WR-CALDESC:Events for LiveNewCanaan
REFRESH-INTERVAL;VALUE=DURATION:PT1H
X-Robots-Tag:noindex
X-PUBLISHED-TTL:PT1H
BEGIN:VTIMEZONE
TZID:America/New_York
BEGIN:DAYLIGHT
TZOFFSETFROM:-0500
TZOFFSETTO:-0400
TZNAME:EDT
DTSTART:20220313T070000
END:DAYLIGHT
BEGIN:STANDARD
TZOFFSETFROM:-0400
TZOFFSETTO:-0500
TZNAME:EST
DTSTART:20221106T060000
END:STANDARD
BEGIN:DAYLIGHT
TZOFFSETFROM:-0500
TZOFFSETTO:-0400
TZNAME:EDT
DTSTART:20230312T070000
END:DAYLIGHT
BEGIN:STANDARD
TZOFFSETFROM:-0400
TZOFFSETTO:-0500
TZNAME:EST
DTSTART:20231105T060000
END:STANDARD
BEGIN:DAYLIGHT
TZOFFSETFROM:-0500
TZOFFSETTO:-0400
TZNAME:EDT
DTSTART:20240310T070000
END:DAYLIGHT
BEGIN:STANDARD
TZOFFSETFROM:-0400
TZOFFSETTO:-0500
TZNAME:EST
DTSTART:20241103T060000
END:STANDARD
END:VTIMEZONE
BEGIN:VEVENT
DTSTART;TZID=America/New_York:20230404T183000
DTEND;TZID=America/New_York:20230404T200000
DTSTAMP:20260424T220546
CREATED:20230401T021857Z
LAST-MODIFIED:20230401T200113Z
UID:11632-1680633000-1680638400@livenewcanaan.org
SUMMARY:Chris Whipple Presents: The Fight of his Life: Inside Joe Biden’s White House
DESCRIPTION:New York Times bestselling author Chris Whipple will present his new book\, The Fight of His Life: Inside Joe Biden’s White House at New Canaan Library on Tuesday\, April 4 at 7 p.m. He provides an insider’s\, revelatory account of President Biden’s first years in office. Whipple spotlights one of the most consequential U.S. presidents and administrations—one that has had to contend with an unprecedented number of domestic and global challenges. Whipple won interviews with nearly all the top players in Biden’s innermost circle and put probing questions to the president and vice president.\nLight refreshments and book sales will be available at the pre-event reception at 6:30 p.m.; the event will begin promptly at 7pm.\nChris Whipple is an author\, political analyst\, and Emmy Award–winning documentary filmmaker. He is a frequent guest on MSNBC\, CNN\, and NPR\, and has contributed essays to The New York Times\, The Washington Post\, Los Angeles Times\, and Vanity Fair. His first book\, The Gatekeepers\, an analysis of the position of White House Chief of Staff\, was a New York Times bestseller.
URL:https://livenewcanaan.org/event/chris-whipple-presents-the-fight-of-his-life-inside-joe-bidens-white-house/
LOCATION:New Canaan Library\, Bartlett Auditorium\, 151 Main Street\, New Canaan\, CT\, 06840\, United States
CATEGORIES:New Canaan Library Event
ATTACH;FMTTYPE=image/jpeg:https://livenewcanaan.org/wp-content/uploads/2023/04/TheFightofHisLife-Hc6ep8.tmp_.jpg
ORGANIZER;CN="New Canaan Library":MAILTO:kblance@newcanaanlibrary.org
END:VEVENT
BEGIN:VEVENT
DTSTART;TZID=America/New_York:20230416T160000
DTEND;TZID=America/New_York:20230416T170000
DTSTAMP:20260424T220546
CREATED:20230401T021931Z
LAST-MODIFIED:20230413T161630Z
UID:11714-1681660800-1681664400@livenewcanaan.org
SUMMARY:Doox of Yale: A capella Performance at New Canaan Library
DESCRIPTION:Musical magic will be happening at New Canaan Library! Doox of Yale\, an internationally esteemed a capella ensemble from Yale University\, will be performing an hour-long program\, where attendees can enjoy humor and fresh compositions of their favorite songs. \nDoox of Yale is an all-gender a cappella group from Yale University. Since 1952\, Doox has upheld a rich tradition of singing and entertaining. In those years\, Doox (originally Dukes of Yale) have performed a diverse repertoire in a variety of venues\, both domestically and internationally.
URL:https://livenewcanaan.org/event/doox-of-yale-a-capella-performance-at-new-canaan-library/
LOCATION:New Canaan Library\, Bartlett Auditorium\, 151 Main Street\, New Canaan\, CT\, 06840\, United States
CATEGORIES:New Canaan Library Event
ATTACH;FMTTYPE=image/jpeg:https://livenewcanaan.org/wp-content/uploads/2023/04/Doox-of-Yale-scaled-QOqqik.tmp_.jpg
ORGANIZER;CN="New Canaan Library":MAILTO:kblance@newcanaanlibrary.org
END:VEVENT
BEGIN:VEVENT
DTSTART;VALUE=DATE:20230421
DTEND;VALUE=DATE:20230508
DTSTAMP:20260424T220546
CREATED:20220914T115100Z
LAST-MODIFIED:20230329T103327Z
UID:10787-1682035200-1683503999@livenewcanaan.org
SUMMARY:DROP DEAD
DESCRIPTION:DROP DEAD by Billy Van Zandt and Jane Milmore (a comedy murder mystery) \n  \nDrop Dead!” is a play about a bad stage production\, similar to “The Play That Goes Wrong”. Most of the action takes place on a stage that has to be transformed to resemble the low-budget “off-off-off-off Broadway” stage called for in the script. \nThe stage\, which is said to have been created on a $35 budget\, is complete with uneven walls and defective props. Even the furniture is painted into the background. \nAt Town Players of New Canaan\, we’re so used to doing all the little things that make a set look really good\, this is gonna be a challenge to continually remind ourselves NOT to do those things\, and rather to make the set look the part! \nTickets for sale at: TPNC.ORG \nFINAL WEEKEND! \nBUT we also have a new season coming soon\, and lots of special events and staged readings throughout the Summer. So sign up for our newsletter to stay “in the know!” for events and auditions. Send Email to: INFO@TPNC.ORG \n 
URL:https://livenewcanaan.org/event/drop-dead/
LOCATION:THE POWERHOUSE THEATER AT WAVENY PARK\, BOX 201\, New Cannan\, CT\, 06840
CATEGORIES:New Canaan Library Event
ATTACH;FMTTYPE=image/jpeg:https://livenewcanaan.org/wp-content/uploads/2022/09/IMG_3391-768x445-1.jpg
END:VEVENT
BEGIN:VEVENT
DTSTART;TZID=America/New_York:20230424T183000
DTEND;TZID=America/New_York:20230424T200000
DTSTAMP:20260424T220546
CREATED:20230413T161633Z
LAST-MODIFIED:20230413T161633Z
UID:11853-1682361000-1682366400@livenewcanaan.org
SUMMARY:Ballet Icon Misty Copeland to Visit New Canaan Library
DESCRIPTION:New Canaan Library is pleased to present a special event featuring world-famous ballerina Misty Copeland\, speaking on her art\, her journey\, and her latest book\, Wind at My Back: Resilience\, Grace and Other Gifts from my Mentor\, Raven Wilkinson.\nMs. Copeland will speak at the Library on Monday\, April 24 at 7 p.m. in the Jim & Dede Bartlett Auditorium. The presentation will be preceded by a light reception at 6:30 p.m.; registration for the event is online at newcananlibrary.org. \nThe Wind at My Back tells the story of two unapologetically Black ballerinas\, their friendship\, and how they changed each other—and the dance world—forever. Misty Copeland shares her own struggles with racism and exclusion in her pursuit of this dream career and honors the women like Raven who paved the way for her but whose contributions have gone unheralded. She celebrates the connection she made with her mentor\, the only teacher who could truly understand the obstacles she faced\, beyond the technical or artistic demands. \nMisty Copeland began her ballet studies at the late age of thirteen and joined American Ballet Theatre’s Studio Company in September 2000\, joined American Ballet Theatre as a member of the corps de ballet in April 2001\, and in August 2007 became the company’s second African\nAmerican female Soloist and the first in two decades. In June 2015\, Misty was promoted to principal dancer\, making her the first African American woman to ever be promoted to the position in the company’s 75-year history. She is the author of the bestselling memoir Life in Motion\, Ballerina Body\, and several picture books including Firebird and Bunhead.
URL:https://livenewcanaan.org/event/ballet-icon-misty-copeland-to-visit-new-canaan-library/
LOCATION:New Canaan Library\, Bartlett Auditorium\, 151 Main Street\, New Canaan\, CT\, 06840\, United States
CATEGORIES:New Canaan Library Event
ATTACH;FMTTYPE=image/png:https://livenewcanaan.org/wp-content/uploads/2023/04/Misty-copeland-and-book-cover-IaXEkg.tmp_.png
ORGANIZER;CN="New Canaan Library":MAILTO:kblance@newcanaanlibrary.org
END:VEVENT
END:VCALENDAR