BEGIN:VCALENDAR
VERSION:2.0
PRODID:-//LiveNewCanaan - ECPv6.15.18//NONSGML v1.0//EN
CALSCALE:GREGORIAN
METHOD:PUBLISH
X-ORIGINAL-URL:https://livenewcanaan.org
X-WR-CALDESC:Events for LiveNewCanaan
REFRESH-INTERVAL;VALUE=DURATION:PT1H
X-Robots-Tag:noindex
X-PUBLISHED-TTL:PT1H
BEGIN:VTIMEZONE
TZID:America/New_York
BEGIN:DAYLIGHT
TZOFFSETFROM:-0500
TZOFFSETTO:-0400
TZNAME:EDT
DTSTART:20220313T070000
END:DAYLIGHT
BEGIN:STANDARD
TZOFFSETFROM:-0400
TZOFFSETTO:-0500
TZNAME:EST
DTSTART:20221106T060000
END:STANDARD
BEGIN:DAYLIGHT
TZOFFSETFROM:-0500
TZOFFSETTO:-0400
TZNAME:EDT
DTSTART:20230312T070000
END:DAYLIGHT
BEGIN:STANDARD
TZOFFSETFROM:-0400
TZOFFSETTO:-0500
TZNAME:EST
DTSTART:20231105T060000
END:STANDARD
BEGIN:DAYLIGHT
TZOFFSETFROM:-0500
TZOFFSETTO:-0400
TZNAME:EDT
DTSTART:20240310T070000
END:DAYLIGHT
BEGIN:STANDARD
TZOFFSETFROM:-0400
TZOFFSETTO:-0500
TZNAME:EST
DTSTART:20241103T060000
END:STANDARD
END:VTIMEZONE
BEGIN:VEVENT
DTSTART;TZID=America/New_York:20230303T200000
DTEND;TZID=America/New_York:20230303T210000
DTSTAMP:20260424T234730
CREATED:20230131T132847Z
LAST-MODIFIED:20230131T132847Z
UID:11337-1677873600-1677877200@livenewcanaan.org
SUMMARY:Live Theater – Ordinary People
DESCRIPTION:TOP ACTORS WILL “WOW” YOU IN THIS POWERFUL PLAY …\nEXPLORING THE DIFFICULT ISSUE OF MENTAL HEALTH. \nOVERVIEW: This play is based on the Oscar-winning “Best Picture” movie starring Donald Sutherland\, Mary Tyler Moore and Timothy Hutton\, by first-time director Robert Redford\, and the best-selling novel by Judith Guest. It explores the complex relationships of an ordinary family struggling to heal from an unexpected tragedy. \nPLOT: Teenager Conrad Jarrett is wracked with guilt over the death of his older brother Buck from a boating accident. What’s left of Conrad’s family – his successful\, well-intentioned father and his stylish\, organized mother – is in jeopardy\, as is Conrad himself. They are “ordinary people” coping with the omnipresent human emotions of loss\, grief\, guilt\, depression and love. This powerful play goes to the root of the Jarretts’ relationships\, exploring how the family grows apart in its struggle to heal yet ultimately moves forward with hope. \nWHY THIS PLAY?\nIn presenting this emotional story\, we endeavor to contribute to the conversation within our community around the important issue of mental health. Through the unique experience of live theater\, we seek to encourage contemplation and conversation\, destigmatize mental illness\, and increase empathy for those who are struggling. After all\, each of us is an ordinary person who\, at any time\, could experience sudden hardship like the Jarretts. Our shared understanding of this universal dilemma brings us together and reminds us of our humanity. \nRAISING AWARENESS: We also aim to raise awareness of the many wonderful resources New Canaan and our neighboring communities offer for mental health support. Additionally\, we thank our sponsors: Silver Hill Hospital\, New Canaan Human Services\, Connecticut Humanities\, and Russell and Katie Barksdale. We are especially grateful to Dr. Michael Groat\, chief clinical officer at Silver Hill Hospital\, for advising our cast and crew as they strive to identify with the characters and for hosting talkbacks with our audiences following each Sunday matinee performance. \nSUNDAY TALKBACKS: Audiences of our Sunday matinees are welcome to stay after the performance for a “talkback\,” an open discussion with Deborah Burke\, director of Ordinary People\, and Dr. Michael Groat\, chief clinical officer at Silver Hill Hospital\, who assisted our cast and crew with understanding the complex emotions portrayed in the play. The talkbacks are included in the price of admission. \nFOR MORE INFO AND TICKETS: https://tpnc.org/shows/ordinary-people/
URL:https://livenewcanaan.org/event/live-theater-ordinary-people-march-3/
LOCATION:THE POWERHOUSE THEATER AT WAVENY PARK\, BOX 201\, New Cannan\, CT\, 06840
CATEGORIES:New Canaan Library Event
ATTACH;FMTTYPE=image/jpeg:https://livenewcanaan.org/wp-content/uploads/2022/09/LOGO_Ordinary-People-600x400-copy.jpg
END:VEVENT
BEGIN:VEVENT
DTSTART;TZID=America/New_York:20230304T200000
DTEND;TZID=America/New_York:20230304T210000
DTSTAMP:20260424T234730
CREATED:20230131T133129Z
LAST-MODIFIED:20230131T133129Z
UID:11340-1677960000-1677963600@livenewcanaan.org
SUMMARY:Live Theater – Ordinary People
DESCRIPTION:TOP ACTORS WILL “WOW” YOU IN THIS POWERFUL PLAY …\nEXPLORING THE DIFFICULT ISSUE OF MENTAL HEALTH. \nOVERVIEW: This play is based on the Oscar-winning “Best Picture” movie starring Donald Sutherland\, Mary Tyler Moore and Timothy Hutton\, by first-time director Robert Redford\, and the best-selling novel by Judith Guest. It explores the complex relationships of an ordinary family struggling to heal from an unexpected tragedy. \nPLOT: Teenager Conrad Jarrett is wracked with guilt over the death of his older brother Buck from a boating accident. What’s left of Conrad’s family – his successful\, well-intentioned father and his stylish\, organized mother – is in jeopardy\, as is Conrad himself. They are “ordinary people” coping with the omnipresent human emotions of loss\, grief\, guilt\, depression and love. This powerful play goes to the root of the Jarretts’ relationships\, exploring how the family grows apart in its struggle to heal yet ultimately moves forward with hope. \nWHY THIS PLAY?\nIn presenting this emotional story\, we endeavor to contribute to the conversation within our community around the important issue of mental health. Through the unique experience of live theater\, we seek to encourage contemplation and conversation\, destigmatize mental illness\, and increase empathy for those who are struggling. After all\, each of us is an ordinary person who\, at any time\, could experience sudden hardship like the Jarretts. Our shared understanding of this universal dilemma brings us together and reminds us of our humanity. \nRAISING AWARENESS: We also aim to raise awareness of the many wonderful resources New Canaan and our neighboring communities offer for mental health support. Additionally\, we thank our sponsors: Silver Hill Hospital\, New Canaan Human Services\, Connecticut Humanities\, and Russell and Katie Barksdale. We are especially grateful to Dr. Michael Groat\, chief clinical officer at Silver Hill Hospital\, for advising our cast and crew as they strive to identify with the characters and for hosting talkbacks with our audiences following each Sunday matinee performance. \nSUNDAY TALKBACKS: Audiences of our Sunday matinees are welcome to stay after the performance for a “talkback\,” an open discussion with Deborah Burke\, director of Ordinary People\, and Dr. Michael Groat\, chief clinical officer at Silver Hill Hospital\, who assisted our cast and crew with understanding the complex emotions portrayed in the play. The talkbacks are included in the price of admission. \nFOR MORE INFO AND TICKETS: https://tpnc.org/shows/ordinary-people/
URL:https://livenewcanaan.org/event/live-theater-ordinary-people-march-4/
LOCATION:THE POWERHOUSE THEATER AT WAVENY PARK\, BOX 201\, New Cannan\, CT\, 06840
CATEGORIES:New Canaan Library Event
ATTACH;FMTTYPE=image/jpeg:https://livenewcanaan.org/wp-content/uploads/2022/09/LOGO_Ordinary-People-600x400-copy.jpg
END:VEVENT
BEGIN:VEVENT
DTSTART;TZID=America/New_York:20230305T140000
DTEND;TZID=America/New_York:20230305T150000
DTSTAMP:20260424T234730
CREATED:20230131T133238Z
LAST-MODIFIED:20230131T133238Z
UID:11342-1678024800-1678028400@livenewcanaan.org
SUMMARY:Live Theater – Ordinary People
DESCRIPTION:TOP ACTORS WILL “WOW” YOU IN THIS POWERFUL PLAY …\nEXPLORING THE DIFFICULT ISSUE OF MENTAL HEALTH. \nOVERVIEW: This play is based on the Oscar-winning “Best Picture” movie starring Donald Sutherland\, Mary Tyler Moore and Timothy Hutton\, by first-time director Robert Redford\, and the best-selling novel by Judith Guest. It explores the complex relationships of an ordinary family struggling to heal from an unexpected tragedy. \nPLOT: Teenager Conrad Jarrett is wracked with guilt over the death of his older brother Buck from a boating accident. What’s left of Conrad’s family – his successful\, well-intentioned father and his stylish\, organized mother – is in jeopardy\, as is Conrad himself. They are “ordinary people” coping with the omnipresent human emotions of loss\, grief\, guilt\, depression and love. This powerful play goes to the root of the Jarretts’ relationships\, exploring how the family grows apart in its struggle to heal yet ultimately moves forward with hope. \nWHY THIS PLAY?\nIn presenting this emotional story\, we endeavor to contribute to the conversation within our community around the important issue of mental health. Through the unique experience of live theater\, we seek to encourage contemplation and conversation\, destigmatize mental illness\, and increase empathy for those who are struggling. After all\, each of us is an ordinary person who\, at any time\, could experience sudden hardship like the Jarretts. Our shared understanding of this universal dilemma brings us together and reminds us of our humanity. \nRAISING AWARENESS: We also aim to raise awareness of the many wonderful resources New Canaan and our neighboring communities offer for mental health support. Additionally\, we thank our sponsors: Silver Hill Hospital\, New Canaan Human Services\, Connecticut Humanities\, and Russell and Katie Barksdale. We are especially grateful to Dr. Michael Groat\, chief clinical officer at Silver Hill Hospital\, for advising our cast and crew as they strive to identify with the characters and for hosting talkbacks with our audiences following each Sunday matinee performance. \nSUNDAY TALKBACKS: Audiences of our Sunday matinees are welcome to stay after the performance for a “talkback\,” an open discussion with Deborah Burke\, director of Ordinary People\, and Dr. Michael Groat\, chief clinical officer at Silver Hill Hospital\, who assisted our cast and crew with understanding the complex emotions portrayed in the play. The talkbacks are included in the price of admission. \nFOR MORE INFO AND TICKETS: https://tpnc.org/shows/ordinary-people/
URL:https://livenewcanaan.org/event/live-theater-ordinary-people-march-5/
LOCATION:THE POWERHOUSE THEATER AT WAVENY PARK\, BOX 201\, New Cannan\, CT\, 06840
CATEGORIES:New Canaan Library Event
ATTACH;FMTTYPE=image/jpeg:https://livenewcanaan.org/wp-content/uploads/2022/09/LOGO_Ordinary-People-600x400-copy.jpg
END:VEVENT
END:VCALENDAR