BEGIN:VCALENDAR
VERSION:2.0
PRODID:-//LiveNewCanaan - ECPv6.15.18//NONSGML v1.0//EN
CALSCALE:GREGORIAN
METHOD:PUBLISH
X-WR-CALNAME:LiveNewCanaan
X-ORIGINAL-URL:https://livenewcanaan.org
X-WR-CALDESC:Events for LiveNewCanaan
REFRESH-INTERVAL;VALUE=DURATION:PT1H
X-Robots-Tag:noindex
X-PUBLISHED-TTL:PT1H
BEGIN:VTIMEZONE
TZID:America/New_York
BEGIN:DAYLIGHT
TZOFFSETFROM:-0500
TZOFFSETTO:-0400
TZNAME:EDT
DTSTART:20200308T070000
END:DAYLIGHT
BEGIN:STANDARD
TZOFFSETFROM:-0400
TZOFFSETTO:-0500
TZNAME:EST
DTSTART:20201101T060000
END:STANDARD
BEGIN:DAYLIGHT
TZOFFSETFROM:-0500
TZOFFSETTO:-0400
TZNAME:EDT
DTSTART:20210314T070000
END:DAYLIGHT
BEGIN:STANDARD
TZOFFSETFROM:-0400
TZOFFSETTO:-0500
TZNAME:EST
DTSTART:20211107T060000
END:STANDARD
BEGIN:DAYLIGHT
TZOFFSETFROM:-0500
TZOFFSETTO:-0400
TZNAME:EDT
DTSTART:20220313T070000
END:DAYLIGHT
BEGIN:STANDARD
TZOFFSETFROM:-0400
TZOFFSETTO:-0500
TZNAME:EST
DTSTART:20221106T060000
END:STANDARD
END:VTIMEZONE
BEGIN:VEVENT
DTSTART;TZID=America/New_York:20211220T190000
DTEND;TZID=America/New_York:20211220T200000
DTSTAMP:20260426T012624
CREATED:20211213T224026Z
LAST-MODIFIED:20211217T120208Z
UID:9663-1640026800-1640030400@livenewcanaan.org
SUMMARY:“At Your Request: The Holiday Edition” with Pianist Steven Solomon on Live Webinar from New Canaan Library
DESCRIPTION:There’s nothing like holiday music to get in the holiday spirit! Join New Canaan Library as it welcomes back pianist Steven Solomon\, appearing via Zoom\, to play all your requested favorites. The live webinar will take place on Monday\, December 20\, at 7 PM EST. Please register online through the event on the Events Calendar. Zoom sign in information will be provided upon registration.\nStep right up to the virtual Piano Bar! Professional pianist Steven Solomon has been performing at well-known national venues for more than 20 years and is ready to delight New Canaan Library’s audience once again – this time with Christmas and Chanukah songs that can be requested at the time of registration. An accomplished pianist\, recording artist\, and singer-songwriter\, Solomon draws from all genres and styles of music\, and performs a wide repertoire of selections\, with a special interest in honoring requests from the audience.\nSteven Solomon has been performing professionally since age ten. He’s performed over 2\,500 times\, including his debut at Carnegie Hall in New York City at age 20. Steven is originally from Chicago and has been living in LA for the past 5 years. He performs both nationally and worldwide.\nIn addition to performing at such large venues as Disneyland\, the Liberace Museum in Las Vegas and the Chicago Jazz Festival\, among others\, Steven performs on a regular basis at events for top corporations\, celebrities\, and select individuals in Los Angeles\, Chicago\, and across the nation at live special events\, and during these challenging Covid-19 times\, Steven performs for clients and organizations worldwide\, live\, virtually online.\nSteven formally studied both classical and jazz piano for 18 years\, from age 4 through college. He graduated from the School of Music at Western Illinois University\, Summa Cum Laude\, with a Baccalaureate Degree in Music Education.
URL:https://livenewcanaan.org/event/at-your-request-the-holiday-edition-with-pianist-steven-solomon-on-live-webinar-from-new-canaan-library/
LOCATION:Zoom
CATEGORIES:New Canaan Library Event
ATTACH;FMTTYPE=image/jpeg:https://livenewcanaan.org/wp-content/uploads/2021/12/steven-solomon-537x600-1-fJ6LV0.tmp_.jpg
ORGANIZER;CN="New Canaan Library":MAILTO:kblance@newcanaanlibrary.org
END:VEVENT
END:VCALENDAR