BEGIN:VCALENDAR
VERSION:2.0
PRODID:-//LiveNewCanaan - ECPv6.15.18//NONSGML v1.0//EN
CALSCALE:GREGORIAN
METHOD:PUBLISH
X-WR-CALNAME:LiveNewCanaan
X-ORIGINAL-URL:https://livenewcanaan.org
X-WR-CALDESC:Events for LiveNewCanaan
REFRESH-INTERVAL;VALUE=DURATION:PT1H
X-Robots-Tag:noindex
X-PUBLISHED-TTL:PT1H
BEGIN:VTIMEZONE
TZID:America/New_York
BEGIN:DAYLIGHT
TZOFFSETFROM:-0500
TZOFFSETTO:-0400
TZNAME:EDT
DTSTART:20190310T070000
END:DAYLIGHT
BEGIN:STANDARD
TZOFFSETFROM:-0400
TZOFFSETTO:-0500
TZNAME:EST
DTSTART:20191103T060000
END:STANDARD
BEGIN:DAYLIGHT
TZOFFSETFROM:-0500
TZOFFSETTO:-0400
TZNAME:EDT
DTSTART:20200308T070000
END:DAYLIGHT
BEGIN:STANDARD
TZOFFSETFROM:-0400
TZOFFSETTO:-0500
TZNAME:EST
DTSTART:20201101T060000
END:STANDARD
BEGIN:DAYLIGHT
TZOFFSETFROM:-0500
TZOFFSETTO:-0400
TZNAME:EDT
DTSTART:20210314T070000
END:DAYLIGHT
BEGIN:STANDARD
TZOFFSETFROM:-0400
TZOFFSETTO:-0500
TZNAME:EST
DTSTART:20211107T060000
END:STANDARD
END:VTIMEZONE
BEGIN:VEVENT
DTSTART;TZID=America/New_York:20200913T150000
DTEND;TZID=America/New_York:20200913T170000
DTSTAMP:20260424T100858
CREATED:20200909T112146Z
LAST-MODIFIED:20200913T113657Z
UID:6732-1600009200-1600016400@livenewcanaan.org
SUMMARY:New Canaan Democrats live Meet & Greet\, plus virtual BBQ
DESCRIPTION:The New Canaan Democrats invite you to come and say hello! Meet your state legislators and candidates\, Representative Dathan\, Senator Haskell\, and Senator Kasser this Sunday\, 9/13\, 3:00-5:00\, outside New Canaan Town Hall. This event is free and all are welcome! Masks are required please. \nIf you prefer the online experience\, please join\, also 9/13 from 3:00-5:00\, our virtual annual BBQ with local Chopped Champion Silvia Baldini and Rosie Bonura herself Zooming to you from New Canaan’s beloved Rosie on Elm\, where they will demonstrate tasty BBQ recipes and chat with our legislators who will pop in live from the Town Hall meet & greet to talk about the upcoming elections\, answer questions\, and remind you how important you are to our democracy! You’ll have the opportunity during the event to get a specially valued copy of our e-cookbook\, in collaboration with Silvia\, Room at the Table; Recipes from the Heart – a collection of family recipes donated by New Canaan Democrats members\, friends\, community leaders\, and legislators. Additionally\, you’ll get exclusive first access to the launch of our silent auction with some AMAZING treats!! Stay tuned for more details…. Kindly RSVP (for the virtual BBQ only) at: https://donorbox.org/new-canaan-dtc-annual-bbq-on-zoom \nWe look forward to seeing you live or on screen!
URL:https://livenewcanaan.org/event/new-canaan-democrats-live-meet-greet-plus-virtual-bbq/
LOCATION:New Canaan Town Hall\, 77 Main Street\, New Canaan\, CT\, 06840
CATEGORIES:Community Discussion
ATTACH;FMTTYPE=image/jpeg:https://livenewcanaan.org/wp-content/uploads/2020/09/meet-and-greet-fb-kzuLZ4.tmp_.jpg
END:VEVENT
END:VCALENDAR