BEGIN:VCALENDAR
VERSION:2.0
PRODID:-//LiveNewCanaan - ECPv6.15.18//NONSGML v1.0//EN
CALSCALE:GREGORIAN
METHOD:PUBLISH
X-ORIGINAL-URL:https://livenewcanaan.org
X-WR-CALDESC:Events for LiveNewCanaan
REFRESH-INTERVAL;VALUE=DURATION:PT1H
X-Robots-Tag:noindex
X-PUBLISHED-TTL:PT1H
BEGIN:VTIMEZONE
TZID:America/New_York
BEGIN:DAYLIGHT
TZOFFSETFROM:-0500
TZOFFSETTO:-0400
TZNAME:EDT
DTSTART:20220313T070000
END:DAYLIGHT
BEGIN:STANDARD
TZOFFSETFROM:-0400
TZOFFSETTO:-0500
TZNAME:EST
DTSTART:20221106T060000
END:STANDARD
BEGIN:DAYLIGHT
TZOFFSETFROM:-0500
TZOFFSETTO:-0400
TZNAME:EDT
DTSTART:20230312T070000
END:DAYLIGHT
BEGIN:STANDARD
TZOFFSETFROM:-0400
TZOFFSETTO:-0500
TZNAME:EST
DTSTART:20231105T060000
END:STANDARD
BEGIN:DAYLIGHT
TZOFFSETFROM:-0500
TZOFFSETTO:-0400
TZNAME:EDT
DTSTART:20240310T070000
END:DAYLIGHT
BEGIN:STANDARD
TZOFFSETFROM:-0400
TZOFFSETTO:-0500
TZNAME:EST
DTSTART:20241103T060000
END:STANDARD
END:VTIMEZONE
BEGIN:VEVENT
DTSTART;TZID=America/New_York:20230603T093000
DTEND;TZID=America/New_York:20230603T103000
DTSTAMP:20260420T094934
CREATED:20230523T205134Z
LAST-MODIFIED:20230523T205134Z
UID:11993-1685784600-1685788200@livenewcanaan.org
SUMMARY:New Canaan Nature Center’s Birds of Prey Shows
DESCRIPTION:Join us for a birds of prey show where you’ll get to meet some of our favorite feathered friends (a hawk\, owl\, and maybe even a surprise or two!) and learn about their amazing journeys to and at the Nature Center. \nThen swing by the Visitor Center\, where we’ll have a few birds of prey arts & crafts projects for you to enjoy at your leisure. \nAll event proceeds will go directly to the care of our birds of prey and will help to provide food\, healthcare\, and enrichment for them.
URL:https://livenewcanaan.org/event/new-canaan-nature-centers-birds-of-prey-shows/
LOCATION:New Canaan Nature Center\, 144 Oenoke Ridge\, New Canaan\, CT\, United States
CATEGORIES:Family Friendly Events,New Canaan Nature Center Events
ATTACH;FMTTYPE=image/jpeg:https://livenewcanaan.org/wp-content/uploads/2023/05/343068493_191500520420789_7574449401558384894_n-SOz2Ap.tmp_.jpg
ORGANIZER;CN="New Canaan Nature Center":MAILTO:jrayher@newcanaannature.org
END:VEVENT
BEGIN:VEVENT
DTSTART;TZID=America/New_York:20230624T153000
DTEND;TZID=America/New_York:20230625T153000
DTSTAMP:20260420T094934
CREATED:20230523T205201Z
LAST-MODIFIED:20230523T205201Z
UID:12036-1687620600-1687707000@livenewcanaan.org
SUMMARY:New Canaan Nature Center’s Great American Campout
DESCRIPTION:Come and take part in our Great American Campout – NCNC’s 14th year participating in the National Wildlife Federation’s Great American Campout\, a nation-wide celebration of camping as a way to connect to nature & wildlife. Join us for an evening full of fun\, camp tunes\, animal show\, night hike\, s’mores\, and the adventure of camping in New Canaan’s favorite backyard! \nParticipants are welcome to set-up their tents in the afternoon between 3:30-5:30pm. From 5:15-6:30pm\, we’ll provide a classic camping-style BBQ dinner of hotdogs\, grilled corn\, & chips (with watermelon for dessert). Iced tea and water will be available for all ages; adults are welcome to BYOB. As folks are finishing up the tasty treats from the grill\, all are invited to enjoy field games\, music and all around fun on the Green! You’ll also get to meet some of the Nature Center’s favorite Animal Ambassadors by the campfire circle. \nAs the sun begins to set\, get ready for the night time adventure to begin. We’ll fire up the campfire ring and head off into the darkness for a special early summer night hike experience. Upon our return we’ll be sure to fill our bellies with some fireside S’mores before dozing off to sleep. In the morning\, a light breakfast of bagels\, juice\, and coffee will be served. \nThis event is rain or shine!\nPre-registration is required by Thursday\, June 22nd at 12pm.
URL:https://livenewcanaan.org/event/new-canaan-nature-centers-great-american-campout/
LOCATION:New Canan Nature Center\, 144 Oenoke Ridge\, New Canaan\, CT\, 06840\, United States
CATEGORIES:Family Friendly Events,New Canaan Nature Center Events
ATTACH;FMTTYPE=image/jpeg:https://livenewcanaan.org/wp-content/uploads/2023/05/FY23-Great-American-Campout-7JU5PO.tmp_.jpg
ORGANIZER;CN="New Canaan Nature Center":MAILTO:jrayher@newcanaannature.org
END:VEVENT
END:VCALENDAR