BEGIN:VCALENDAR
VERSION:2.0
PRODID:-//LiveNewCanaan - ECPv6.15.18//NONSGML v1.0//EN
CALSCALE:GREGORIAN
METHOD:PUBLISH
X-WR-CALNAME:LiveNewCanaan
X-ORIGINAL-URL:https://livenewcanaan.org
X-WR-CALDESC:Events for LiveNewCanaan
REFRESH-INTERVAL;VALUE=DURATION:PT1H
X-Robots-Tag:noindex
X-PUBLISHED-TTL:PT1H
BEGIN:VTIMEZONE
TZID:America/New_York
BEGIN:DAYLIGHT
TZOFFSETFROM:-0500
TZOFFSETTO:-0400
TZNAME:EDT
DTSTART:20220313T070000
END:DAYLIGHT
BEGIN:STANDARD
TZOFFSETFROM:-0400
TZOFFSETTO:-0500
TZNAME:EST
DTSTART:20221106T060000
END:STANDARD
BEGIN:DAYLIGHT
TZOFFSETFROM:-0500
TZOFFSETTO:-0400
TZNAME:EDT
DTSTART:20230312T070000
END:DAYLIGHT
BEGIN:STANDARD
TZOFFSETFROM:-0400
TZOFFSETTO:-0500
TZNAME:EST
DTSTART:20231105T060000
END:STANDARD
BEGIN:DAYLIGHT
TZOFFSETFROM:-0500
TZOFFSETTO:-0400
TZNAME:EDT
DTSTART:20240310T070000
END:DAYLIGHT
BEGIN:STANDARD
TZOFFSETFROM:-0400
TZOFFSETTO:-0500
TZNAME:EST
DTSTART:20241103T060000
END:STANDARD
END:VTIMEZONE
BEGIN:VEVENT
DTSTART;TZID=America/New_York:20230406T121500
DTEND;TZID=America/New_York:20230406T160000
DTSTAMP:20260420T131208
CREATED:20230401T021859Z
LAST-MODIFIED:20230401T200113Z
UID:11638-1680783300-1680796800@livenewcanaan.org
SUMMARY:New Canaan Nature Center’s Great Egg Hunts & Spring Celebration
DESCRIPTION:Perfect for children\, ages 2-10\, our egg hunts are designed for smaller groups (approximately 25 per hunt). In addition to the hunt\, enjoy an animal meet & greet and self-guided spring scavenger hunt. Just BYOB (bring your own basket) for collecting eggs (which contain nature-themed prizes and nut-free sweets). \nTHURSDAY\, April 6th\nSession A: 12:15-1:00pm\nSession B: 1:15pm-2:00pm\nSession C: 2:15-3:00\nSession D: 3:15-4:00pm \nFRIDAY\, April 7th\nSession E: 9:00-9:45am\nSession F: 10:00am-10:45am\nSession G: 11:00am-11:45am\nSession H: 12:45-1:30pm\nSession I: 1:45-2:30\nSession J: 2:45-3:30pm \nSATURDAY\, April 8th\nSession K: 9:00-9:45am\nSession L: 10:00am-10:45am\nSession M: 11:00am-11:45am\nSession N: 12:45-1:30pm\nSession O: 1:45-2:30\nSession P: 2:45-3:30pm \n*Rain or shine* \n$15/child (Please Note: Adults are NOT required to purchase a ticket.) \nOnline Registration:\nMembers: Opens February 13th\nNon-Members: Opens February 27th \n**Due to limited spacing at our community programs\, fundraising events\, and other specialty events\, tickets are non-refundable and non-transferable to other time slots or events. For emergency cancellations\, please contact the registrar.**
URL:https://livenewcanaan.org/event/new-canaan-nature-centers-great-egg-hunts-spring-celebration-7/
LOCATION:New Canaan Nature Center\, 144 Oenoke Ridge\, New Canaan\, CT\, United States
CATEGORIES:For Children,New Canaan Nature Center Events
ATTACH;FMTTYPE=image/png:https://livenewcanaan.org/wp-content/uploads/2023/03/Screen-Shot-2023-01-27-at-10.36.00-AM-83ERDm.tmp_.png
ORGANIZER;CN="New Canaan Nature Center":MAILTO:jrayher@newcanaannature.org
END:VEVENT
BEGIN:VEVENT
DTSTART;TZID=America/New_York:20230407T090000
DTEND;TZID=America/New_York:20230408T153000
DTSTAMP:20260420T131208
CREATED:20230401T021859Z
LAST-MODIFIED:20230401T200113Z
UID:11640-1680858000-1680967800@livenewcanaan.org
SUMMARY:New Canaan Nature Center’s Great Egg Hunts & Spring Celebration
DESCRIPTION:Perfect for children\, ages 2-10\, our egg hunts are designed for smaller groups (approximately 25 per hunt). In addition to the hunt\, enjoy an animal meet & greet and self-guided spring scavenger hunt. Just BYOB (bring your own basket) for collecting eggs (which contain nature-themed prizes and nut-free sweets). \nTHURSDAY\, April 6th\nSession A: 12:15-1:00pm\nSession B: 1:15pm-2:00pm\nSession C: 2:15-3:00\nSession D: 3:15-4:00pm \nFRIDAY\, April 7th\nSession E: 9:00-9:45am\nSession F: 10:00am-10:45am\nSession G: 11:00am-11:45am\nSession H: 12:45-1:30pm\nSession I: 1:45-2:30\nSession J: 2:45-3:30pm \nSATURDAY\, April 8th\nSession K: 9:00-9:45am\nSession L: 10:00am-10:45am\nSession M: 11:00am-11:45am\nSession N: 12:45-1:30pm\nSession O: 1:45-2:30\nSession P: 2:45-3:30pm \n*Rain or shine* \n$15/child (Please Note: Adults are NOT required to purchase a ticket.) \nOnline Registration:\nMembers: Opens February 13th\nNon-Members: Opens February 27th \n**Due to limited spacing at our community programs\, fundraising events\, and other specialty events\, tickets are non-refundable and non-transferable to other time slots or events. For emergency cancellations\, please contact the registrar.**
URL:https://livenewcanaan.org/event/new-canaan-nature-centers-great-egg-hunts-spring-celebration-8/
LOCATION:New Canaan Nature Center\, 144 Oenoke Ridge\, New Canaan\, CT\, United States
CATEGORIES:For Children,New Canaan Nature Center Events
ATTACH;FMTTYPE=image/png:https://livenewcanaan.org/wp-content/uploads/2023/03/Screen-Shot-2023-01-27-at-10.36.00-AM-83ERDm.tmp_.png
ORGANIZER;CN="New Canaan Nature Center":MAILTO:jrayher@newcanaannature.org
END:VEVENT
BEGIN:VEVENT
DTSTART;TZID=America/New_York:20230408T090000
DTEND;TZID=America/New_York:20230409T153000
DTSTAMP:20260420T131208
CREATED:20230401T021900Z
LAST-MODIFIED:20230401T200114Z
UID:11642-1680944400-1681054200@livenewcanaan.org
SUMMARY:New Canaan Nature Center’s Great Egg Hunts & Spring Celebration
DESCRIPTION:Perfect for children\, ages 2-10\, our egg hunts are designed for smaller groups (approximately 25 per hunt). In addition to the hunt\, enjoy an animal meet & greet and self-guided spring scavenger hunt. Just BYOB (bring your own basket) for collecting eggs (which contain nature-themed prizes and nut-free sweets). \nTHURSDAY\, April 6th\nSession A: 12:15-1:00pm\nSession B: 1:15pm-2:00pm\nSession C: 2:15-3:00\nSession D: 3:15-4:00pm \nFRIDAY\, April 7th\nSession E: 9:00-9:45am\nSession F: 10:00am-10:45am\nSession G: 11:00am-11:45am\nSession H: 12:45-1:30pm\nSession I: 1:45-2:30\nSession J: 2:45-3:30pm \nSATURDAY\, April 8th\nSession K: 9:00-9:45am\nSession L: 10:00am-10:45am\nSession M: 11:00am-11:45am\nSession N: 12:45-1:30pm\nSession O: 1:45-2:30\nSession P: 2:45-3:30pm \n*Rain or shine* \n$15/child (Please Note: Adults are NOT required to purchase a ticket.) \nOnline Registration:\nMembers: Opens February 13th\nNon-Members: Opens February 27th \n**Due to limited spacing at our community programs\, fundraising events\, and other specialty events\, tickets are non-refundable and non-transferable to other time slots or events. For emergency cancellations\, please contact the registrar.**
URL:https://livenewcanaan.org/event/new-canaan-nature-centers-great-egg-hunts-spring-celebration-9/
LOCATION:New Canaan Nature Center\, 144 Oenoke Ridge\, New Canaan\, CT\, United States
CATEGORIES:For Children,New Canaan Nature Center Events
ATTACH;FMTTYPE=image/png:https://livenewcanaan.org/wp-content/uploads/2023/03/Screen-Shot-2023-01-27-at-10.36.00-AM-83ERDm.tmp_.png
ORGANIZER;CN="New Canaan Nature Center":MAILTO:jrayher@newcanaannature.org
END:VEVENT
END:VCALENDAR