BEGIN:VCALENDAR
VERSION:2.0
PRODID:-//LiveNewCanaan - ECPv6.15.18//NONSGML v1.0//EN
CALSCALE:GREGORIAN
METHOD:PUBLISH
X-ORIGINAL-URL:https://livenewcanaan.org
X-WR-CALDESC:Events for LiveNewCanaan
REFRESH-INTERVAL;VALUE=DURATION:PT1H
X-Robots-Tag:noindex
X-PUBLISHED-TTL:PT1H
BEGIN:VTIMEZONE
TZID:America/New_York
BEGIN:DAYLIGHT
TZOFFSETFROM:-0500
TZOFFSETTO:-0400
TZNAME:EDT
DTSTART:20210314T070000
END:DAYLIGHT
BEGIN:STANDARD
TZOFFSETFROM:-0400
TZOFFSETTO:-0500
TZNAME:EST
DTSTART:20211107T060000
END:STANDARD
BEGIN:DAYLIGHT
TZOFFSETFROM:-0500
TZOFFSETTO:-0400
TZNAME:EDT
DTSTART:20220313T070000
END:DAYLIGHT
BEGIN:STANDARD
TZOFFSETFROM:-0400
TZOFFSETTO:-0500
TZNAME:EST
DTSTART:20221106T060000
END:STANDARD
BEGIN:DAYLIGHT
TZOFFSETFROM:-0500
TZOFFSETTO:-0400
TZNAME:EDT
DTSTART:20230312T070000
END:DAYLIGHT
BEGIN:STANDARD
TZOFFSETFROM:-0400
TZOFFSETTO:-0500
TZNAME:EST
DTSTART:20231105T060000
END:STANDARD
END:VTIMEZONE
BEGIN:VEVENT
DTSTART;TZID=America/New_York:20220827T193000
DTEND;TZID=America/New_York:20220827T210000
DTSTAMP:20260421T025131
CREATED:20220726T135309Z
LAST-MODIFIED:20220808T061420Z
UID:10576-1661628600-1661634000@livenewcanaan.org
SUMMARY:New Canaan Nature Center’s Creatures of the Night Hike!
DESCRIPTION:How do your nighttime senses compare to those of the nocturnal animals that call NCNC home? Join us for an interactive sensory night hike adventure and try your hand at our naturalist-led challenges to find out! First\, we’ll put your night vision to the test to discover if you can see as well as an owl in the dark. Then we’ll focus on your sense of smell\, hearing\, and touch! We’ll wrap up the night with one of our favorite summer activities… roasting marshmallows around the campfire! \nProgram will also include the opportunity to meet a couple of the nature center’s nocturnal animal ambassadors up close and personal. \nRain or Shine. \nRegistration:\nMembers: $10/person\nNon-Members: $15/person \n**Please Note: Registration is per person. All attendees (children + adults) must purchase a ticket.**
URL:https://livenewcanaan.org/event/new-canaan-nature-centers-creatures-of-the-night-hike-2/
LOCATION:New Canaan Nature Center\, 144 Oenoke Ridge\, New Canaan\, CT\, United States
CATEGORIES:Family Friendly Events,New Canaan Nature Center Events
ATTACH;FMTTYPE=image/jpeg:https://livenewcanaan.org/wp-content/uploads/2022/07/night-hike2-BPpDqV.tmp_.jpg
ORGANIZER;CN="New Canaan Nature Center":MAILTO:jrayher@newcanaannature.org
END:VEVENT
END:VCALENDAR