BEGIN:VCALENDAR
VERSION:2.0
PRODID:-//LiveNewCanaan - ECPv6.15.18//NONSGML v1.0//EN
CALSCALE:GREGORIAN
METHOD:PUBLISH
X-ORIGINAL-URL:https://livenewcanaan.org
X-WR-CALDESC:Events for LiveNewCanaan
REFRESH-INTERVAL;VALUE=DURATION:PT1H
X-Robots-Tag:noindex
X-PUBLISHED-TTL:PT1H
BEGIN:VTIMEZONE
TZID:America/New_York
BEGIN:DAYLIGHT
TZOFFSETFROM:-0500
TZOFFSETTO:-0400
TZNAME:EDT
DTSTART:20210314T070000
END:DAYLIGHT
BEGIN:STANDARD
TZOFFSETFROM:-0400
TZOFFSETTO:-0500
TZNAME:EST
DTSTART:20211107T060000
END:STANDARD
BEGIN:DAYLIGHT
TZOFFSETFROM:-0500
TZOFFSETTO:-0400
TZNAME:EDT
DTSTART:20220313T070000
END:DAYLIGHT
BEGIN:STANDARD
TZOFFSETFROM:-0400
TZOFFSETTO:-0500
TZNAME:EST
DTSTART:20221106T060000
END:STANDARD
BEGIN:DAYLIGHT
TZOFFSETFROM:-0500
TZOFFSETTO:-0400
TZNAME:EDT
DTSTART:20230312T070000
END:DAYLIGHT
BEGIN:STANDARD
TZOFFSETFROM:-0400
TZOFFSETTO:-0500
TZNAME:EST
DTSTART:20231105T060000
END:STANDARD
END:VTIMEZONE
BEGIN:VEVENT
DTSTART;TZID=America/New_York:20220312T083000
DTEND;TZID=America/New_York:20220312T113000
DTSTAMP:20260421T111859
CREATED:20220305T084759Z
LAST-MODIFIED:20220305T084759Z
UID:10006-1647073800-1647084600@livenewcanaan.org
SUMMARY:New Canaan Nature Center’s Syrup Saturday
DESCRIPTION:Bring the whole family and join us for our annual syrup season celebration – you won’t want to miss our famously delicious Pancakes & PJs party\, complete with TONS of fun syrup-related activities! We’ll be serving up flapjacks\, syrup\, and an array of tasty toppings. The day will also include tree tapping demos\, a real maple sap “boil down\,” sweet maple-inspired crafts\, campfire with marshmallows\, and a real v. fake syrup taste test. \nGuests are welcome and encouraged to dress in their PJs! \nWhile dining for this event’s Pancakes & PJs party is available both indoors and outdoors\, all other activities take place outdoors! \nAll attendees (children + adults) must purchase a ticket. \nMembers: $10/person (Registration opens Monday\, February 7th)\nNon-Members: $15/person (Registration opens Monday\, February 14th)
URL:https://livenewcanaan.org/event/new-canaan-nature-centers-syrup-saturday-2/
LOCATION:New Canaan Nature Center\, 144 Oenoke Ridge\, New Canaan\, CT\, United States
CATEGORIES:Family Friendly Events,New Canaan Nature Center Events
ATTACH;FMTTYPE=image/jpeg:https://livenewcanaan.org/wp-content/uploads/2022/03/syrup-saturday2022-xrBf9k.tmp_.jpg
ORGANIZER;CN="New Canaan Nature Center":MAILTO:jrayher@newcanaannature.org
END:VEVENT
END:VCALENDAR