BEGIN:VCALENDAR
VERSION:2.0
PRODID:-//LiveNewCanaan - ECPv6.15.18//NONSGML v1.0//EN
CALSCALE:GREGORIAN
METHOD:PUBLISH
X-ORIGINAL-URL:https://livenewcanaan.org
X-WR-CALDESC:Events for LiveNewCanaan
REFRESH-INTERVAL;VALUE=DURATION:PT1H
X-Robots-Tag:noindex
X-PUBLISHED-TTL:PT1H
BEGIN:VTIMEZONE
TZID:America/New_York
BEGIN:DAYLIGHT
TZOFFSETFROM:-0500
TZOFFSETTO:-0400
TZNAME:EDT
DTSTART:20200308T070000
END:DAYLIGHT
BEGIN:STANDARD
TZOFFSETFROM:-0400
TZOFFSETTO:-0500
TZNAME:EST
DTSTART:20201101T060000
END:STANDARD
BEGIN:DAYLIGHT
TZOFFSETFROM:-0500
TZOFFSETTO:-0400
TZNAME:EDT
DTSTART:20210314T070000
END:DAYLIGHT
BEGIN:STANDARD
TZOFFSETFROM:-0400
TZOFFSETTO:-0500
TZNAME:EST
DTSTART:20211107T060000
END:STANDARD
BEGIN:DAYLIGHT
TZOFFSETFROM:-0500
TZOFFSETTO:-0400
TZNAME:EDT
DTSTART:20220313T070000
END:DAYLIGHT
BEGIN:STANDARD
TZOFFSETFROM:-0400
TZOFFSETTO:-0500
TZNAME:EST
DTSTART:20221106T060000
END:STANDARD
END:VTIMEZONE
BEGIN:VEVENT
DTSTART;TZID=America/New_York:20211001T170000
DTEND;TZID=America/New_York:20211001T200000
DTSTAMP:20260421T195936
CREATED:20210927T214545Z
LAST-MODIFIED:20210927T214545Z
UID:8920-1633107600-1633118400@livenewcanaan.org
SUMMARY:New Canaan Nature Center’s 51st Annual Fall Fair
DESCRIPTION:Friday\, October 1st (5:00 P.M. – 9:00 P.M.)\nSaturday\, October 2nd (10:00 A.M. – 6:00 P.M.) \nJoin the New Canaan Nature Center for two days of traditional family fun at our 51st Annual Fall Fair! Come and enjoy carnival rides\, a crazy maze\, spooky stroll\, pumpkin decorating\, apple sling shot\, zip line\, and so much more! Food\, drinks\, & snacks will be available for cash purchase as well. \nFriday Night Under the Stars: Unlimited Carnival Rides Wristband\nMembers: $25/wristband\nNon-Members: $30/wristband \nWristband Sales Open 9/20/2021 \n*Unlimited Carnival Rides Wristbands and individual tickets will also be available on Friday night\, at the door.* \nSaturday:\nTickets will be available at the door! (No wristband sales)
URL:https://livenewcanaan.org/event/new-canaan-nature-centers-51st-annual-fall-fair/
LOCATION:New Canaan Nature Center\, 144 Oenoke Ridge\, New Canaan\, CT\, United States
CATEGORIES:Family Friendly Events,New Canaan Nature Center Events
ATTACH;FMTTYPE=image/jpeg:https://livenewcanaan.org/wp-content/uploads/2021/09/fallfair2021-RtGImH.tmp_.jpg
ORGANIZER;CN="New Canaan Nature Center":MAILTO:jrayher@newcanaannature.org
END:VEVENT
BEGIN:VEVENT
DTSTART;TZID=America/New_York:20211002T100000
DTEND;TZID=America/New_York:20211002T180000
DTSTAMP:20260421T195936
CREATED:20210927T214550Z
LAST-MODIFIED:20210927T214550Z
UID:8924-1633168800-1633197600@livenewcanaan.org
SUMMARY:New Canaan Nature Center’s 51st Annual Fall Fair
DESCRIPTION:Friday\, October 1st (5:00 P.M. – 9:00 P.M.)\nSaturday\, October 2nd (10:00 A.M. – 6:00 P.M.) \nJoin the New Canaan Nature Center for two days of traditional family fun at our 51st Annual Fall Fair! Come and enjoy carnival rides\, a crazy maze\, spooky stroll\, pumpkin decorating\, apple sling shot\, zip line\, and so much more! Food\, drinks\, & snacks will be available for cash purchase as well. \nFriday Night Under the Stars: Unlimited Carnival Rides Wristband\nMembers: $25/wristband\nNon-Members: $30/wristband \nWristband Sales Open 9/20/2021 \n*Unlimited Carnival Rides Wristbands and individual tickets will also be available on Friday night\, at the door.* \nSaturday:\nTickets will be available at the door! (No wristband sales)
URL:https://livenewcanaan.org/event/new-canaan-nature-centers-51st-annual-fall-fair-2/
LOCATION:New Canaan Nature Center\, 144 Oenoke Ridge\, New Canaan\, CT\, United States
CATEGORIES:Family Friendly Events,New Canaan Nature Center Events
ATTACH;FMTTYPE=image/jpeg:https://livenewcanaan.org/wp-content/uploads/2021/09/fallfair2021-RtGImH.tmp_.jpg
ORGANIZER;CN="New Canaan Nature Center":MAILTO:jrayher@newcanaannature.org
END:VEVENT
BEGIN:VEVENT
DTSTART;TZID=America/New_York:20211023T090000
DTEND;TZID=America/New_York:20211023T110000
DTSTAMP:20260421T195936
CREATED:20210810T075638Z
LAST-MODIFIED:20211022T154518Z
UID:8619-1634979600-1634986800@livenewcanaan.org
SUMMARY:Shinrin-Yoku Forest Bathing Walks at the New Canaan Nature Center
DESCRIPTION:Are you feeling a bit stressed\, anxious\, or unwell\, after spending too much time indoors\, not finding enough time to reconnect with yourself and with nature? Does it sound good to take a moment for yourself\, go outside and wonder? Take some time to simply smell\, listen\, and observe everything that is around you\, engaging all your senses\, noticing your sensations fully and bathing in the experience of the forest? \nShinrin-Yoku offers a very easy way to do all of this\, helping you to relax\, improve your concentration\, and recover that creative spark that has seemed to feel a bit dusty these past weeks. \nEnjoy the benefits of Shinrin-Yoku Forest Therapy during a walk guided by an ANFT certified guide right here at the New Canaan Nature Center. \nDuration: About 2 hours \nMembers and Non-Members: $45/person \n**As a courtesy to the guide\, please register at least 24hrs prior to each walk.
URL:https://livenewcanaan.org/event/shinrin-yoku-forest-bathing-walks-at-the-new-canaan-nature-center-3/
LOCATION:New Canaan Nature Center\, 144 Oenoke Ridge\, New Canaan\, CT\, United States
CATEGORIES:New Canaan Nature Center Events
ATTACH;FMTTYPE=image/jpeg:https://livenewcanaan.org/wp-content/uploads/2021/08/218665481_10159946212694245_6224472289140068987_n-LTZrb4.tmp_.jpg
ORGANIZER;CN="New Canaan Nature Center":MAILTO:jrayher@newcanaannature.org
END:VEVENT
END:VCALENDAR