BEGIN:VCALENDAR
VERSION:2.0
PRODID:-//LiveNewCanaan - ECPv6.15.18//NONSGML v1.0//EN
CALSCALE:GREGORIAN
METHOD:PUBLISH
X-ORIGINAL-URL:https://livenewcanaan.org
X-WR-CALDESC:Events for LiveNewCanaan
REFRESH-INTERVAL;VALUE=DURATION:PT1H
X-Robots-Tag:noindex
X-PUBLISHED-TTL:PT1H
BEGIN:VTIMEZONE
TZID:America/New_York
BEGIN:DAYLIGHT
TZOFFSETFROM:-0500
TZOFFSETTO:-0400
TZNAME:EDT
DTSTART:20200308T070000
END:DAYLIGHT
BEGIN:STANDARD
TZOFFSETFROM:-0400
TZOFFSETTO:-0500
TZNAME:EST
DTSTART:20201101T060000
END:STANDARD
BEGIN:DAYLIGHT
TZOFFSETFROM:-0500
TZOFFSETTO:-0400
TZNAME:EDT
DTSTART:20210314T070000
END:DAYLIGHT
BEGIN:STANDARD
TZOFFSETFROM:-0400
TZOFFSETTO:-0500
TZNAME:EST
DTSTART:20211107T060000
END:STANDARD
BEGIN:DAYLIGHT
TZOFFSETFROM:-0500
TZOFFSETTO:-0400
TZNAME:EDT
DTSTART:20220313T070000
END:DAYLIGHT
BEGIN:STANDARD
TZOFFSETFROM:-0400
TZOFFSETTO:-0500
TZNAME:EST
DTSTART:20221106T060000
END:STANDARD
END:VTIMEZONE
BEGIN:VEVENT
DTSTART;TZID=America/New_York:20210710T191500
DTEND;TZID=America/New_York:20210710T201500
DTSTAMP:20260422T011418
CREATED:20210709T111050Z
LAST-MODIFIED:20210709T111119Z
UID:8420-1625944500-1625948100@livenewcanaan.org
SUMMARY:New Canaan Nature Center’s Night of 1\,000 Fireflies
DESCRIPTION:New Canaan Nature Center’s Night of 1\,000 Fireflies Night Hike \nChoose from One of Two Sessions:\n7:15 pm – 8:15 pm\n8:30pm – 9:30 pm \nCome and enjoy the magic of the midsummer night at the Nature Center. Join our Naturalists as we search for woodland creatures (wiggly worms & aquatic amphibians) and other enchanted mysteries of the evening\, before delighting in the awe-inspiring beauty of our meadows aglow with the soft light of 1\,000+ fireflies! \n*COVID-19 Update: Please refer to the current Connecticut Department of Health & CDC guidelines. The New Canaan Nature Center has no additional COVID-19 regulations at this time. \nRain or shine. \nPre-registration by Thursday\, July 8th at 4pm is required. Visit www.newcanaannature.org to register! \nMembers: $10/person (Registration opens Monday\, June 14th)\nNon-Members: $15/person (Registration opens Monday\, June 21st)
URL:https://livenewcanaan.org/event/new-canaan-nature-centers-night-of-1000-fireflies/
LOCATION:New Canaan Nature Center\, 144 Oenoke Ridge\, New Canaan\, CT\, United States
CATEGORIES:Family Friendly Events,New Canaan Nature Center Events
ATTACH;FMTTYPE=image/jpeg:https://livenewcanaan.org/wp-content/uploads/2021/07/nightof1000ff-MCLqck.tmp_.jpg
ORGANIZER;CN="New Canaan Nature Center":MAILTO:jrayher@newcanaannature.org
END:VEVENT
END:VCALENDAR