BEGIN:VCALENDAR
VERSION:2.0
PRODID:-//LiveNewCanaan - ECPv6.15.18//NONSGML v1.0//EN
CALSCALE:GREGORIAN
METHOD:PUBLISH
X-WR-CALNAME:LiveNewCanaan
X-ORIGINAL-URL:https://livenewcanaan.org
X-WR-CALDESC:Events for LiveNewCanaan
REFRESH-INTERVAL;VALUE=DURATION:PT1H
X-Robots-Tag:noindex
X-PUBLISHED-TTL:PT1H
BEGIN:VTIMEZONE
TZID:America/New_York
BEGIN:DAYLIGHT
TZOFFSETFROM:-0500
TZOFFSETTO:-0400
TZNAME:EDT
DTSTART:20200308T070000
END:DAYLIGHT
BEGIN:STANDARD
TZOFFSETFROM:-0400
TZOFFSETTO:-0500
TZNAME:EST
DTSTART:20201101T060000
END:STANDARD
BEGIN:DAYLIGHT
TZOFFSETFROM:-0500
TZOFFSETTO:-0400
TZNAME:EDT
DTSTART:20210314T070000
END:DAYLIGHT
BEGIN:STANDARD
TZOFFSETFROM:-0400
TZOFFSETTO:-0500
TZNAME:EST
DTSTART:20211107T060000
END:STANDARD
BEGIN:DAYLIGHT
TZOFFSETFROM:-0500
TZOFFSETTO:-0400
TZNAME:EDT
DTSTART:20220313T070000
END:DAYLIGHT
BEGIN:STANDARD
TZOFFSETFROM:-0400
TZOFFSETTO:-0500
TZNAME:EST
DTSTART:20221106T060000
END:STANDARD
END:VTIMEZONE
BEGIN:VEVENT
DTSTART;TZID=America/New_York:20210501T100000
DTEND;TZID=America/New_York:20210501T140000
DTSTAMP:20260422T043938
CREATED:20210402T070733Z
LAST-MODIFIED:20210402T070733Z
UID:7978-1619863200-1619877600@livenewcanaan.org
SUMMARY:New Canaan Nature Center’s Birds of Prey Bonanza
DESCRIPTION:Join us for a NEW community program – our Birds of Prey Bonanza! Meet some of our favorite feathered friends and learn about their amazing journeys to and at the Nature Center. \nAll event proceeds will go directly to the care of our birds of prey and will help to provide food\, healthcare\, and enrichment for them. \nYour Support Means the World: You can continue to support our birds and all of our amazing animal ambassadors in every aspect of their lives by making a donation to our Topper & Socs Memorial Fund or by checking out our Sponsor an Animal Program. Visit our website for more details! \nPre-registration by Thursday\, April 29th at 12pm is required.\nAll attendees (children + adults) must purchase a ticket. \nMembers: $10/person (Registration opens Monday\, April 12th)\nNon-members: $15/person (Registration opens Monday\, April 19th)
URL:https://livenewcanaan.org/event/new-canaan-nature-centers-birds-of-prey-bonanza/
LOCATION:New Canaan Nature Center\, 144 Oenoke Ridge\, New Canaan\, CT\, United States
CATEGORIES:Family Friendly Events,New Canaan Nature Center Events
ATTACH;FMTTYPE=image/jpeg:https://livenewcanaan.org/wp-content/uploads/2021/04/bop-bonanza-Z7TQkt.tmp_.jpg
ORGANIZER;CN="New Canaan Nature Center":MAILTO:jrayher@newcanaannature.org
END:VEVENT
BEGIN:VEVENT
DTSTART;TZID=America/New_York:20210513T110000
DTEND;TZID=America/New_York:20210513T140000
DTSTAMP:20260422T043938
CREATED:20210225T071703Z
LAST-MODIFIED:20210402T070736Z
UID:7798-1620903600-1620914400@livenewcanaan.org
SUMMARY:4th Annual Lecture & Luncheon for the New Canaan Nature Center
DESCRIPTION:We invite you to join us at the Fourth Annual Lecture & Luncheon to benefit the New Canaan Nature Center. This year’s Lecture & Luncheon will feature the award- winning architect and author of the new book A Place to Call Home\, Gil Schafer. He believes the most successful houses are the ones that celebrate living – houses with timeless charm that are imbued with memory and a distinct sense of place.
URL:https://livenewcanaan.org/event/4th-annual-lecture-luncheon-for-the-new-canaan-nature-center/
LOCATION:New Canaan Country Club\, 95 Country Club Rd\, New Canaan\, CT\, United States
ORGANIZER;CN="New Canaan Nature Center":MAILTO:jrayher@newcanaannature.org
END:VEVENT
END:VCALENDAR