BEGIN:VCALENDAR
VERSION:2.0
PRODID:-//LiveNewCanaan - ECPv6.15.18//NONSGML v1.0//EN
CALSCALE:GREGORIAN
METHOD:PUBLISH
X-WR-CALNAME:LiveNewCanaan
X-ORIGINAL-URL:https://livenewcanaan.org
X-WR-CALDESC:Events for LiveNewCanaan
REFRESH-INTERVAL;VALUE=DURATION:PT1H
X-Robots-Tag:noindex
X-PUBLISHED-TTL:PT1H
BEGIN:VTIMEZONE
TZID:America/New_York
BEGIN:DAYLIGHT
TZOFFSETFROM:-0500
TZOFFSETTO:-0400
TZNAME:EDT
DTSTART:20200308T070000
END:DAYLIGHT
BEGIN:STANDARD
TZOFFSETFROM:-0400
TZOFFSETTO:-0500
TZNAME:EST
DTSTART:20201101T060000
END:STANDARD
BEGIN:DAYLIGHT
TZOFFSETFROM:-0500
TZOFFSETTO:-0400
TZNAME:EDT
DTSTART:20210314T070000
END:DAYLIGHT
BEGIN:STANDARD
TZOFFSETFROM:-0400
TZOFFSETTO:-0500
TZNAME:EST
DTSTART:20211107T060000
END:STANDARD
BEGIN:DAYLIGHT
TZOFFSETFROM:-0500
TZOFFSETTO:-0400
TZNAME:EDT
DTSTART:20220313T070000
END:DAYLIGHT
BEGIN:STANDARD
TZOFFSETFROM:-0400
TZOFFSETTO:-0500
TZNAME:EST
DTSTART:20221106T060000
END:STANDARD
END:VTIMEZONE
BEGIN:VEVENT
DTSTART;TZID=America/New_York:20210303T150000
DTEND;TZID=America/New_York:20210303T153000
DTSTAMP:20260422T075413
CREATED:20210225T071650Z
LAST-MODIFIED:20210225T071650Z
UID:7771-1614783600-1614785400@livenewcanaan.org
SUMMARY:New Canaan Nature Center’s Virtual Animal Meet & a Greet Series
DESCRIPTION:Weekly on Wednesdays\, March 3rd – April 28th (excluding April 7th)\n3:00 PM \nJoin us for a FREE Zoom animal meet & greet program! \nEach week\, join an NCNC Naturalist to meet a couple of LIVE animals to learn about what makes them unique: where they live\, what they eat\, and how they are well-adapted to survive in their habitats. \nMarch 3 – Rabbit + Guinea Pig\nMarch 10 – Hedgehog\nMarch 17 – Chinchilla + Ferret\nMarch 24 – Fantastic Frogs & Toads\nMarch 31 – Box Turtle & Russian Tortoise\nApril 14 – Painted Turtle & Yellow-bellied Slider\nApril 21 – Snakes!\nApril 28 – Leopard Gecko & Bearded Dragon \nPre-registration at www.newcanaannature.org begins Tuesday\, February 16th and is required by 4pm on the Tuesday before each program. \nUpon registration\, a Zoom link will be emailed to you. \nDonations are greatly appreciated.
URL:https://livenewcanaan.org/event/new-canaan-nature-centers-virtual-animal-meet-a-greet-series/
LOCATION:New Canaan Nature Center\, 144 Oenoke Ridge\, New Canaan\, CT\, United States
CATEGORIES:Family Friendly Events,For Children,New Canaan Nature Center Events
ATTACH;FMTTYPE=image/jpeg:https://livenewcanaan.org/wp-content/uploads/2021/02/mg-XbMFw1.tmp_.jpg
ORGANIZER;CN="New Canaan Nature Center":MAILTO:jrayher@newcanaannature.org
END:VEVENT
BEGIN:VEVENT
DTSTART;TZID=America/New_York:20210310T150000
DTEND;TZID=America/New_York:20210310T153000
DTSTAMP:20260422T075413
CREATED:20210225T071652Z
LAST-MODIFIED:20210225T071652Z
UID:7777-1615388400-1615390200@livenewcanaan.org
SUMMARY:New Canaan Nature Center’s Virtual Animal Meet & a Greet Series
DESCRIPTION:Weekly on Wednesdays\, March 3rd – April 28th (excluding April 7th)\n3:00 PM \nJoin us for a FREE Zoom animal meet & greet program! \nEach week\, join an NCNC Naturalist to meet a couple of LIVE animals to learn about what makes them unique: where they live\, what they eat\, and how they are well-adapted to survive in their habitats. \nMarch 3 – Rabbit + Guinea Pig\nMarch 10 – Hedgehog\nMarch 17 – Chinchilla + Ferret\nMarch 24 – Fantastic Frogs & Toads\nMarch 31 – Box Turtle & Russian Tortoise\nApril 14 – Painted Turtle & Yellow-bellied Slider\nApril 21 – Snakes!\nApril 28 – Leopard Gecko & Bearded Dragon \nPre-registration at www.newcanaannature.org begins Tuesday\, February 16th and is required by 4pm on the Tuesday before each program. \nUpon registration\, a Zoom link will be emailed to you. \nDonations are greatly appreciated.
URL:https://livenewcanaan.org/event/new-canaan-nature-centers-virtual-animal-meet-a-greet-series-2/
LOCATION:New Canaan Nature Center\, 144 Oenoke Ridge\, New Canaan\, CT\, United States
CATEGORIES:Family Friendly Events,For Children,New Canaan Nature Center Events
ATTACH;FMTTYPE=image/jpeg:https://livenewcanaan.org/wp-content/uploads/2021/02/mg-XbMFw1.tmp_.jpg
ORGANIZER;CN="New Canaan Nature Center":MAILTO:jrayher@newcanaannature.org
END:VEVENT
BEGIN:VEVENT
DTSTART;TZID=America/New_York:20210313T083000
DTEND;TZID=America/New_York:20210313T120000
DTSTAMP:20260422T075413
CREATED:20210225T071655Z
LAST-MODIFIED:20210225T071655Z
UID:7780-1615624200-1615636800@livenewcanaan.org
SUMMARY:New Canaan Nature Center’s Syrup Saturday
DESCRIPTION:On Saturday\, March 13th\, bring the whole family and join us for our annual syrup season celebration – you won’t want to miss our famously delicious Pancakes & PJs party\, complete with TONS of fun syrup-related activities! We’ll be serving up flapjacks\, syrup\, and an array of tasty toppings\, OUTDOORS ONLY this year. The day will also include tree tapping demos\, a real maple sap “boil down\,” sweet maple-inspired crafts\, campfire with marshmallows\, and a real v. fake syrup taste test. \nAnd in fine syruping tradition we’ll also have bottles of NCNC Maple Syrup for sale. \nProper social distancing will be strongly encouraged. Face coverings are required for all guests over the age of 2\, except when eating. \nRegister today for one of three time slots:\n8:30 A.M.\, 9:45 A.M.\, or 11:00 A.M. \nPre-registration by Thursday\, March 11th at 12pm is required! Spaces are limited to 40 people per time slot to allow for social distancing. \nMembers: $10/person\nNon-Members: $15/person \nAll attendees (children + adults) must purchase a ticket in advance: https://newcanaannature.org/community-programs-2/#syrup-saturday \nSign in will be at our Check In Table between our Visitor Center and Green House.
URL:https://livenewcanaan.org/event/new-canaan-nature-centers-syrup-saturday/
LOCATION:New Canaan Nature Center\, 144 Oenoke Ridge\, New Canaan\, CT\, United States
CATEGORIES:Family Friendly Events,New Canaan Nature Center Events
ATTACH;FMTTYPE=image/jpeg:https://livenewcanaan.org/wp-content/uploads/2021/02/syrup-saturday2021-ulvQJ3.tmp_.jpg
ORGANIZER;CN="New Canaan Nature Center":MAILTO:jrayher@newcanaannature.org
END:VEVENT
BEGIN:VEVENT
DTSTART;TZID=America/New_York:20210317T150000
DTEND;TZID=America/New_York:20210317T153000
DTSTAMP:20260422T075413
CREATED:20210225T071656Z
LAST-MODIFIED:20210225T071656Z
UID:7784-1615993200-1615995000@livenewcanaan.org
SUMMARY:New Canaan Nature Center’s Virtual Animal Meet & a Greet Series
DESCRIPTION:Weekly on Wednesdays\, March 3rd – April 28th (excluding April 7th)\n3:00 PM \nJoin us for a FREE Zoom animal meet & greet program! \nEach week\, join an NCNC Naturalist to meet a couple of LIVE animals to learn about what makes them unique: where they live\, what they eat\, and how they are well-adapted to survive in their habitats. \nMarch 3 – Rabbit + Guinea Pig\nMarch 10 – Hedgehog\nMarch 17 – Chinchilla + Ferret\nMarch 24 – Fantastic Frogs & Toads\nMarch 31 – Box Turtle & Russian Tortoise\nApril 14 – Painted Turtle & Yellow-bellied Slider\nApril 21 – Snakes!\nApril 28 – Leopard Gecko & Bearded Dragon \nPre-registration at www.newcanaannature.org begins Tuesday\, February 16th and is required by 4pm on the Tuesday before each program. \nUpon registration\, a Zoom link will be emailed to you. \nDonations are greatly appreciated.
URL:https://livenewcanaan.org/event/new-canaan-nature-centers-virtual-animal-meet-a-greet-series-3/
LOCATION:New Canaan Nature Center\, 144 Oenoke Ridge\, New Canaan\, CT\, United States
CATEGORIES:Family Friendly Events,For Children,New Canaan Nature Center Events
ATTACH;FMTTYPE=image/jpeg:https://livenewcanaan.org/wp-content/uploads/2021/02/mg-XbMFw1.tmp_.jpg
ORGANIZER;CN="New Canaan Nature Center":MAILTO:jrayher@newcanaannature.org
END:VEVENT
BEGIN:VEVENT
DTSTART;TZID=America/New_York:20210324T150000
DTEND;TZID=America/New_York:20210324T153000
DTSTAMP:20260422T075413
CREATED:20210225T071656Z
LAST-MODIFIED:20210225T071656Z
UID:7785-1616598000-1616599800@livenewcanaan.org
SUMMARY:New Canaan Nature Center’s Virtual Animal Meet & a Greet Series
DESCRIPTION:Weekly on Wednesdays\, March 3rd – April 28th (excluding April 7th)\n3:00 PM \nJoin us for a FREE Zoom animal meet & greet program! \nEach week\, join an NCNC Naturalist to meet a couple of LIVE animals to learn about what makes them unique: where they live\, what they eat\, and how they are well-adapted to survive in their habitats. \nMarch 3 – Rabbit + Guinea Pig\nMarch 10 – Hedgehog\nMarch 17 – Chinchilla + Ferret\nMarch 24 – Fantastic Frogs & Toads\nMarch 31 – Box Turtle & Russian Tortoise\nApril 14 – Painted Turtle & Yellow-bellied Slider\nApril 21 – Snakes!\nApril 28 – Leopard Gecko & Bearded Dragon \nPre-registration at www.newcanaannature.org begins Tuesday\, February 16th and is required by 4pm on the Tuesday before each program. \nUpon registration\, a Zoom link will be emailed to you. \nDonations are greatly appreciated.
URL:https://livenewcanaan.org/event/new-canaan-nature-centers-virtual-animal-meet-a-greet-series-4/
LOCATION:New Canaan Nature Center\, 144 Oenoke Ridge\, New Canaan\, CT\, United States
CATEGORIES:Family Friendly Events,For Children,New Canaan Nature Center Events
ATTACH;FMTTYPE=image/jpeg:https://livenewcanaan.org/wp-content/uploads/2021/02/mg-XbMFw1.tmp_.jpg
ORGANIZER;CN="New Canaan Nature Center":MAILTO:jrayher@newcanaannature.org
END:VEVENT
BEGIN:VEVENT
DTSTART;TZID=America/New_York:20210331T150000
DTEND;TZID=America/New_York:20210331T153000
DTSTAMP:20260422T075413
CREATED:20210225T071656Z
LAST-MODIFIED:20210225T071656Z
UID:7786-1617202800-1617204600@livenewcanaan.org
SUMMARY:New Canaan Nature Center’s Virtual Animal Meet & a Greet Series
DESCRIPTION:Weekly on Wednesdays\, March 3rd – April 28th (excluding April 7th)\n3:00 PM \nJoin us for a FREE Zoom animal meet & greet program! \nEach week\, join an NCNC Naturalist to meet a couple of LIVE animals to learn about what makes them unique: where they live\, what they eat\, and how they are well-adapted to survive in their habitats. \nMarch 3 – Rabbit + Guinea Pig\nMarch 10 – Hedgehog\nMarch 17 – Chinchilla + Ferret\nMarch 24 – Fantastic Frogs & Toads\nMarch 31 – Box Turtle & Russian Tortoise\nApril 14 – Painted Turtle & Yellow-bellied Slider\nApril 21 – Snakes!\nApril 28 – Leopard Gecko & Bearded Dragon \nPre-registration at www.newcanaannature.org begins Tuesday\, February 16th and is required by 4pm on the Tuesday before each program. \nUpon registration\, a Zoom link will be emailed to you. \nDonations are greatly appreciated.
URL:https://livenewcanaan.org/event/new-canaan-nature-centers-virtual-animal-meet-a-greet-series-5/
LOCATION:New Canaan Nature Center\, 144 Oenoke Ridge\, New Canaan\, CT\, United States
CATEGORIES:Family Friendly Events,For Children,New Canaan Nature Center Events
ATTACH;FMTTYPE=image/jpeg:https://livenewcanaan.org/wp-content/uploads/2021/02/mg-XbMFw1.tmp_.jpg
ORGANIZER;CN="New Canaan Nature Center":MAILTO:jrayher@newcanaannature.org
END:VEVENT
END:VCALENDAR