BEGIN:VCALENDAR
VERSION:2.0
PRODID:-//LiveNewCanaan - ECPv6.15.18//NONSGML v1.0//EN
CALSCALE:GREGORIAN
METHOD:PUBLISH
X-ORIGINAL-URL:https://livenewcanaan.org
X-WR-CALDESC:Events for LiveNewCanaan
REFRESH-INTERVAL;VALUE=DURATION:PT1H
X-Robots-Tag:noindex
X-PUBLISHED-TTL:PT1H
BEGIN:VTIMEZONE
TZID:America/New_York
BEGIN:DAYLIGHT
TZOFFSETFROM:-0500
TZOFFSETTO:-0400
TZNAME:EDT
DTSTART:20220313T070000
END:DAYLIGHT
BEGIN:STANDARD
TZOFFSETFROM:-0400
TZOFFSETTO:-0500
TZNAME:EST
DTSTART:20221106T060000
END:STANDARD
BEGIN:DAYLIGHT
TZOFFSETFROM:-0500
TZOFFSETTO:-0400
TZNAME:EDT
DTSTART:20230312T070000
END:DAYLIGHT
BEGIN:STANDARD
TZOFFSETFROM:-0400
TZOFFSETTO:-0500
TZNAME:EST
DTSTART:20231105T060000
END:STANDARD
BEGIN:DAYLIGHT
TZOFFSETFROM:-0500
TZOFFSETTO:-0400
TZNAME:EDT
DTSTART:20240310T070000
END:DAYLIGHT
BEGIN:STANDARD
TZOFFSETFROM:-0400
TZOFFSETTO:-0500
TZNAME:EST
DTSTART:20241103T060000
END:STANDARD
END:VTIMEZONE
BEGIN:VEVENT
DTSTART;TZID=America/New_York:20230505T190000
DTEND;TZID=America/New_York:20230505T210000
DTSTAMP:20260421T002132
CREATED:20230401T021910Z
LAST-MODIFIED:20230413T161647Z
UID:11680-1683313200-1683320400@livenewcanaan.org
SUMMARY:New Canaan Chamber Music “Pulling Out All the Stops!” Concert
DESCRIPTION:An electrifying concert in the Bartlett Auditorium at the New Canaan Library with 11 world-class musicians led by pianist Andrew Armstrong with all performing at the top of their game! Music includes Mendelssohn’s Octet!
URL:https://livenewcanaan.org/event/new-canaan-chamber-music-pulling-out-all-the-stops-concert/
LOCATION:New Canaan Library\, 151 Main St\, New Canaan\, CT\, United States
CATEGORIES:New Canaan Chamber Music
ATTACH;FMTTYPE=image/jpeg:https://livenewcanaan.org/wp-content/uploads/2023/04/7AD19B8D-32A8-419C-9DC2-2C703AFB386C-PatvOq.tmp_.jpg
ORGANIZER;CN="New Canaan Chamber Music":MAILTO:info@newcanaanchambermusic.org
END:VEVENT
BEGIN:VEVENT
DTSTART;TZID=America/New_York:20230505T193000
DTEND;TZID=America/New_York:20230505T210000
DTSTAMP:20260421T002132
CREATED:20230401T021913Z
LAST-MODIFIED:20230413T161647Z
UID:11682-1683315000-1683320400@livenewcanaan.org
SUMMARY:New Canaan Chamber Music Concert
DESCRIPTION:The concert to end all concerts. Trumpet extraordinaire Jeroen Berwaerts and crowd favorite cellist Raphael Bell both joining us from Belgium; nine string players and piano; a Baroque concerto for trumpet and strings\, Saint-Saëns’ scintillating Septet for Trumpet\, strings\, and piano; the tragedy of Enescu and sumptuous romance of Strauss; all capped by the greatest piece of chamber music ever composed\, Mendelssohn’s Octet for strings. We DARE you to try to sit still!
URL:https://livenewcanaan.org/event/new-canaan-chamber-music-concert-2/
LOCATION:New Canaan Library\, 151 Main St\, New Canaan\, CT\, United States
CATEGORIES:New Canaan Chamber Music
ATTACH;FMTTYPE=image/jpeg:https://livenewcanaan.org/wp-content/uploads/2023/04/Andrew-Armstrong-PressWeb4-p5rwdK.tmp_.jpg
ORGANIZER;CN="New Canaan Chamber Music":MAILTO:info@newcanaanchambermusic.org
END:VEVENT
BEGIN:VEVENT
DTSTART;TZID=America/New_York:20230507T150000
DTEND;TZID=America/New_York:20230507T170000
DTSTAMP:20260421T002132
CREATED:20230401T021918Z
LAST-MODIFIED:20230413T161651Z
UID:11687-1683471600-1683478800@livenewcanaan.org
SUMMARY:New Canaan Chamber Music Children and Families Concert
DESCRIPTION:A new\, central mission of NCCM is born\, our first official Children & Families concert. Students of every age are invited to come learn the SUPERPOWER of listening and understanding great music. It’s as easy as using your imagination and actively composing the story or painting the picture in your mind! Clarinet phenom Romie deGuise-Langlois as well as Jeroen Berwaerts and strings from the May 5 concert will demonstrate the amazing expressive capacities of their instruments while Andrew guides the listeners with fun commentary and exciting invitations to imagine. Listen as Saint-Saëns’s Carnival of the Animals turns the double-bass into an elephant\, the clarinet into a cuckoo\, and the cello into a heartrendingly graceful swan
URL:https://livenewcanaan.org/event/new-canaan-chamber-music-children-and-families-concert/
LOCATION:New Canaan Library\, 151 Main St\, New Canaan\, CT\, United States
CATEGORIES:New Canaan Chamber Music
ATTACH;FMTTYPE=image/jpeg:https://livenewcanaan.org/wp-content/uploads/2023/04/Andrew-Armstrong-PressWeb3-1-3sFHT9.tmp_.jpg
ORGANIZER;CN="New Canaan Chamber Music":MAILTO:info@newcanaanchambermusic.org
END:VEVENT
END:VCALENDAR