BEGIN:VCALENDAR
VERSION:2.0
PRODID:-//LiveNewCanaan - ECPv6.15.18//NONSGML v1.0//EN
CALSCALE:GREGORIAN
METHOD:PUBLISH
X-ORIGINAL-URL:https://livenewcanaan.org
X-WR-CALDESC:Events for LiveNewCanaan
REFRESH-INTERVAL;VALUE=DURATION:PT1H
X-Robots-Tag:noindex
X-PUBLISHED-TTL:PT1H
BEGIN:VTIMEZONE
TZID:America/New_York
BEGIN:DAYLIGHT
TZOFFSETFROM:-0500
TZOFFSETTO:-0400
TZNAME:EDT
DTSTART:20210314T070000
END:DAYLIGHT
BEGIN:STANDARD
TZOFFSETFROM:-0400
TZOFFSETTO:-0500
TZNAME:EST
DTSTART:20211107T060000
END:STANDARD
BEGIN:DAYLIGHT
TZOFFSETFROM:-0500
TZOFFSETTO:-0400
TZNAME:EDT
DTSTART:20220313T070000
END:DAYLIGHT
BEGIN:STANDARD
TZOFFSETFROM:-0400
TZOFFSETTO:-0500
TZNAME:EST
DTSTART:20221106T060000
END:STANDARD
BEGIN:DAYLIGHT
TZOFFSETFROM:-0500
TZOFFSETTO:-0400
TZNAME:EDT
DTSTART:20230312T070000
END:DAYLIGHT
BEGIN:STANDARD
TZOFFSETFROM:-0400
TZOFFSETTO:-0500
TZNAME:EST
DTSTART:20231105T060000
END:STANDARD
END:VTIMEZONE
BEGIN:VEVENT
DTSTART;TZID=America/New_York:20220521T190000
DTEND;TZID=America/New_York:20220521T210000
DTSTAMP:20260421T212620
CREATED:20220518T104342Z
LAST-MODIFIED:20220518T104342Z
UID:10336-1653159600-1653166800@livenewcanaan.org
SUMMARY:LIVE MUSIC at the POWERHOUSE
DESCRIPTION:JAM + BREAD presents LIVE MUSIC AT THE POWERHOUSE \nThere is nothing quite like an intimate “live music” experience\, and inside the Powerhouse Theatre\, our guests will be treated to live musical events featuring super-talented national and local artists performing their craft in a wonderful\, cozy\, 115-seat theater where there is not a bad seat in the house. This series will be an event for friends and family to gather and share a warm positive vibe\, and enjoy top shelf music. The programming for the series will primarily feature acoustic singer-songwriters and artists that can perform “stripped down” music. On special occasions we will aim to showcase world-renowned artists\, but will always be booking breakout stars\, up-and-comers\, as well as having young local artists performing on our stage – top tier talent with small-town friendliness. We will produce up to eight shows annually and are prepared to target as many as twelve shows\, one per month. The series will be professionally filmed and recorded by some of the entertainment industry’s top production personnel. \nFor our FIRST SHOW – we are excited to present REID PARSONS with opening act\, recent NCHS Grad\, JULIA JEWEL. Both artists have strong connections to New Canaan.
URL:https://livenewcanaan.org/event/live-music-at-the-powerhouse/
LOCATION:Powerhouse Theater\, Waveny Park\, 679 South Avenue\, New Canaan\, CT\, 06840\, United States
CATEGORIES:Town Players of New Canaan
ATTACH;FMTTYPE=image/jpeg:https://livenewcanaan.org/wp-content/uploads/2022/05/livewtickets-4LEZTp.tmp_.jpg
ORGANIZER;CN="Town Players of New Canaan":MAILTO:info@tpnc.org
END:VEVENT
END:VCALENDAR