BEGIN:VCALENDAR
VERSION:2.0
PRODID:-//LiveNewCanaan - ECPv6.15.18//NONSGML v1.0//EN
CALSCALE:GREGORIAN
METHOD:PUBLISH
X-WR-CALNAME:LiveNewCanaan
X-ORIGINAL-URL:https://livenewcanaan.org
X-WR-CALDESC:Events for LiveNewCanaan
REFRESH-INTERVAL;VALUE=DURATION:PT1H
X-Robots-Tag:noindex
X-PUBLISHED-TTL:PT1H
BEGIN:VTIMEZONE
TZID:America/New_York
BEGIN:DAYLIGHT
TZOFFSETFROM:-0500
TZOFFSETTO:-0400
TZNAME:EDT
DTSTART:20200308T070000
END:DAYLIGHT
BEGIN:STANDARD
TZOFFSETFROM:-0400
TZOFFSETTO:-0500
TZNAME:EST
DTSTART:20201101T060000
END:STANDARD
BEGIN:DAYLIGHT
TZOFFSETFROM:-0500
TZOFFSETTO:-0400
TZNAME:EDT
DTSTART:20210314T070000
END:DAYLIGHT
BEGIN:STANDARD
TZOFFSETFROM:-0400
TZOFFSETTO:-0500
TZNAME:EST
DTSTART:20211107T060000
END:STANDARD
BEGIN:DAYLIGHT
TZOFFSETFROM:-0500
TZOFFSETTO:-0400
TZNAME:EDT
DTSTART:20220313T070000
END:DAYLIGHT
BEGIN:STANDARD
TZOFFSETFROM:-0400
TZOFFSETTO:-0500
TZNAME:EST
DTSTART:20221106T060000
END:STANDARD
END:VTIMEZONE
BEGIN:VEVENT
DTSTART;TZID=America/New_York:20211016T160000
DTEND;TZID=America/New_York:20211016T173000
DTSTAMP:20260422T090607
CREATED:20210927T214557Z
LAST-MODIFIED:20210927T214557Z
UID:8953-1634400000-1634405400@livenewcanaan.org
SUMMARY:Organ Concert at the Congregational Church
DESCRIPTION:Join five local organists for this community concert – the only musical event in the month of October4design programs. Hear Dr. Alla Borzova from St. Michael’s Lutheran Church; Edward “Ned” Tipton from St. Mark’s Episcopal Church\, Victoria Shields from First Presbyterian Church\, Dr. John Michniewicz from St. Aloysius Roman Catholic Church\, and Dr. Jo Deen Blaine Davis from The Congregational Church. The concert takes place at the iconic Congregational Church of New Canaan! This event is free although space is limited.
URL:https://livenewcanaan.org/event/organ-concert-at-the-congregational-church/
LOCATION:The Congregational Church of New Canaan\, 23 Park Street\, New Canaan\, CT\, 06840\, United States
CATEGORIES:Historical Society Event,October 4 Design
ATTACH;FMTTYPE=image/jpeg:https://livenewcanaan.org/wp-content/uploads/2021/09/square_272x272-7-BMYPPF.tmp_.jpg
ORGANIZER;CN="New Canaan Museum &amp%3B Historical Society":MAILTO:info@nchisotry.org.
END:VEVENT
END:VCALENDAR