BEGIN:VCALENDAR
VERSION:2.0
PRODID:-//LiveNewCanaan - ECPv6.15.18//NONSGML v1.0//EN
CALSCALE:GREGORIAN
METHOD:PUBLISH
X-WR-CALNAME:LiveNewCanaan
X-ORIGINAL-URL:https://livenewcanaan.org
X-WR-CALDESC:Events for LiveNewCanaan
REFRESH-INTERVAL;VALUE=DURATION:PT1H
X-Robots-Tag:noindex
X-PUBLISHED-TTL:PT1H
BEGIN:VTIMEZONE
TZID:America/New_York
BEGIN:DAYLIGHT
TZOFFSETFROM:-0500
TZOFFSETTO:-0400
TZNAME:EDT
DTSTART:20190310T070000
END:DAYLIGHT
BEGIN:STANDARD
TZOFFSETFROM:-0400
TZOFFSETTO:-0500
TZNAME:EST
DTSTART:20191103T060000
END:STANDARD
BEGIN:DAYLIGHT
TZOFFSETFROM:-0500
TZOFFSETTO:-0400
TZNAME:EDT
DTSTART:20200308T070000
END:DAYLIGHT
BEGIN:STANDARD
TZOFFSETFROM:-0400
TZOFFSETTO:-0500
TZNAME:EST
DTSTART:20201101T060000
END:STANDARD
BEGIN:DAYLIGHT
TZOFFSETFROM:-0500
TZOFFSETTO:-0400
TZNAME:EDT
DTSTART:20210314T070000
END:DAYLIGHT
BEGIN:STANDARD
TZOFFSETFROM:-0400
TZOFFSETTO:-0500
TZNAME:EST
DTSTART:20211107T060000
END:STANDARD
END:VTIMEZONE
BEGIN:VEVENT
DTSTART;TZID=America/New_York:20201203T180000
DTEND;TZID=America/New_York:20201203T190000
DTSTAMP:20260423T000732
CREATED:20201129T092302Z
LAST-MODIFIED:20201203T093732Z
UID:7346-1607018400-1607022000@livenewcanaan.org
SUMMARY:Advent Meditations
DESCRIPTION:Slow down during Advent at the First Presbyterian Church of New Canaan’s Facebook Thursday Concerts with our series Advent Meditations\, beginning on Thursday\, December 3rd at 6:00 pm and each Thursday through December 17th. Through musical and spoken meditations\, we encourage you to join us for this journey from darkness to light. Each week we will explore the themes of the Advent candles – hope\, peace\, joy\, and love. Rev. Scott Herr will share meditations on each of these themes\, and the programs feature a solo instrumentalist providing a musical meditation in the beautiful candlelit Philip Ives Sanctuary. David Bakamjian (cellist)\, Adam Cockerham (Renaissance lutist)\, and Kristi Shade (harpist)\, will be our featured soloists for each program. We hope that through these meditations in word and music will bring you solace and hope during these uncertain times. Advent Meditations will be aired each Thursday in December\, beginning on December 3rd at 6:00 pm and through December 17th on our Facebook page at www.facebook.com/FPCNC .
URL:https://livenewcanaan.org/event/advent-meditations/
LOCATION:First Presbyterian Church of New Canaan\, 178 Oenoke Ridge\, New Canaan\, CT\, United States
CATEGORIES:The Arts
ATTACH;FMTTYPE=image/jpeg:https://livenewcanaan.org/wp-content/uploads/2020/11/advent-1-3-jpg-U5CsTx.tmp_.jpg
ORGANIZER;CN="First Presbyterian Church of New Canaan":MAILTO:tina@fpcnc,org
END:VEVENT
BEGIN:VEVENT
DTSTART;TZID=America/New_York:20201210T180000
DTEND;TZID=America/New_York:20201210T190000
DTSTAMP:20260423T000732
CREATED:20201204T095157Z
LAST-MODIFIED:20201210T230708Z
UID:7376-1607623200-1607626800@livenewcanaan.org
SUMMARY:Advent Meditations
DESCRIPTION:Slow down during Advent at the First Presbyterian Church of New Canaan’s Facebook Thursday Concerts with our series Advent Meditations\, beginning on Thursday\, December 3rd at 6:00 pm and each Thursday through December 17th. Through musical and spoken meditations\, we encourage you to join us for this journey from darkness to light. Each week we will explore the themes of the Advent candles – hope\, peace\, joy\, and love. Rev. Scott Herr will share meditations on each of these themes\, and the programs feature a solo instrumentalist providing a musical meditation in the beautiful candlelit Philip Ives Sanctuary. David Bakamjian (cellist)\, Adam Cockerham (Renaissance lutist)\, and Kristi Shade (harpist)\, will be our featured soloists for each program. We hope that through these meditations in word and music will bring you solace and hope during these uncertain times. Advent Meditations will be aired each Thursday in December\, beginning on December 3rd at 6:00 pm and through December 17th on our Facebook page at www.facebook.com/FPCNC .
URL:https://livenewcanaan.org/event/advent-meditations-2/
LOCATION:First Presbyterian Church of New Canaan\, 178 Oenoke Ridge\, New Canaan\, CT\, United States
CATEGORIES:The Arts
ATTACH;FMTTYPE=image/jpeg:https://livenewcanaan.org/wp-content/uploads/2020/11/advent-1-3-jpg-U5CsTx.tmp_.jpg
ORGANIZER;CN="First Presbyterian Church of New Canaan":MAILTO:tina@fpcnc,org
END:VEVENT
BEGIN:VEVENT
DTSTART;TZID=America/New_York:20201217T180000
DTEND;TZID=America/New_York:20201217T190000
DTSTAMP:20260423T000732
CREATED:20201209T110247Z
LAST-MODIFIED:20201217T232221Z
UID:7415-1608228000-1608231600@livenewcanaan.org
SUMMARY:Advent Meditations
DESCRIPTION:Slow down during Advent at the First Presbyterian Church of New Canaan’s Facebook Thursday Concerts with our series Advent Meditations\, beginning on Thursday\, December 3rd at 6:00 pm and each Thursday through December 17th. Through musical and spoken meditations\, we encourage you to join us for this journey from darkness to light. Each week we will explore the themes of the Advent candles – hope\, peace\, joy\, and love. Rev. Scott Herr will share meditations on each of these themes\, and the programs feature a solo instrumentalist providing a musical meditation in the beautiful candlelit Philip Ives Sanctuary. David Bakamjian (cellist)\, Adam Cockerham (Renaissance lutist)\, and Kristi Shade (harpist)\, will be our featured soloists for each program. We hope that through these meditations in word and music will bring you solace and hope during these uncertain times. Advent Meditations will be aired each Thursday in December\, beginning on December 3rd at 6:00 pm and through December 17th on our Facebook page at www.facebook.com/FPCNC .
URL:https://livenewcanaan.org/event/advent-meditations-3/
LOCATION:First Presbyterian Church of New Canaan\, 178 Oenoke Ridge\, New Canaan\, CT\, United States
CATEGORIES:The Arts
ATTACH;FMTTYPE=image/jpeg:https://livenewcanaan.org/wp-content/uploads/2020/11/advent-1-3-jpg-U5CsTx.tmp_.jpg
ORGANIZER;CN="First Presbyterian Church of New Canaan":MAILTO:tina@fpcnc,org
END:VEVENT
END:VCALENDAR