BEGIN:VCALENDAR
VERSION:2.0
PRODID:-//LiveNewCanaan - ECPv6.15.18//NONSGML v1.0//EN
CALSCALE:GREGORIAN
METHOD:PUBLISH
X-WR-CALNAME:LiveNewCanaan
X-ORIGINAL-URL:https://livenewcanaan.org
X-WR-CALDESC:Events for LiveNewCanaan
REFRESH-INTERVAL;VALUE=DURATION:PT1H
X-Robots-Tag:noindex
X-PUBLISHED-TTL:PT1H
BEGIN:VTIMEZONE
TZID:America/New_York
BEGIN:DAYLIGHT
TZOFFSETFROM:-0500
TZOFFSETTO:-0400
TZNAME:EDT
DTSTART:20190310T070000
END:DAYLIGHT
BEGIN:STANDARD
TZOFFSETFROM:-0400
TZOFFSETTO:-0500
TZNAME:EST
DTSTART:20191103T060000
END:STANDARD
BEGIN:DAYLIGHT
TZOFFSETFROM:-0500
TZOFFSETTO:-0400
TZNAME:EDT
DTSTART:20200308T070000
END:DAYLIGHT
BEGIN:STANDARD
TZOFFSETFROM:-0400
TZOFFSETTO:-0500
TZNAME:EST
DTSTART:20201101T060000
END:STANDARD
BEGIN:DAYLIGHT
TZOFFSETFROM:-0500
TZOFFSETTO:-0400
TZNAME:EDT
DTSTART:20210314T070000
END:DAYLIGHT
BEGIN:STANDARD
TZOFFSETFROM:-0400
TZOFFSETTO:-0500
TZNAME:EST
DTSTART:20211107T060000
END:STANDARD
END:VTIMEZONE
BEGIN:VEVENT
DTSTART;TZID=America/New_York:20200505T140000
DTEND;TZID=America/New_York:20200505T143000
DTSTAMP:20260424T181519
CREATED:20200502T054337Z
LAST-MODIFIED:20200505T060828Z
UID:5695-1588687200-1588689000@livenewcanaan.org
SUMMARY:Wildlife Release Live-Stream
DESCRIPTION:Join the New Canaan Land Trust and Wildlife in Crisis for a live streaming wildlife release. We’ll be  We might also have a few barred owls too; stay tuned! \nThe release will be streamed via Facebook Live. Viewers can tune in and ask questions about the hawk\, the Land Trust preserve\, or either organization. Dara Reid from Wildlife in Crisis and Aaron Lefland from the New Canaan Land Trust will be on-hand (socially distanced) to answer all of your questions.
URL:https://livenewcanaan.org/event/wildlife-release-live-stream/
LOCATION:Facebook Live
CATEGORIES:Family Friendly Events,For Children
ATTACH;FMTTYPE=image/jpeg:https://livenewcanaan.org/wp-content/uploads/2020/05/graphic-yy40Zm.tmp_.jpg
ORGANIZER;CN="New Canaan Land Trust":MAILTO:info@newcanaanlandtrust.org
END:VEVENT
BEGIN:VEVENT
DTSTART;TZID=America/New_York:20200528T120000
DTEND;TZID=America/New_York:20200528T140000
DTSTAMP:20260424T181519
CREATED:20200402T130723Z
LAST-MODIFIED:20200528T073644Z
UID:5158-1590667200-1590674400@livenewcanaan.org
SUMMARY:100 Years of Suffrage and its Impact on Empowering Women Today
DESCRIPTION:The League of Women Voters of New Canaan is delighted to announce that Patti Russo\, Executive Director of the Campaign School (TCS) at Yale\, will be speaking at its Annual Meeting and Luncheon on Thursday\, May 28th at the Country Club of New Canaan. To mark the 100th anniversary of the Nineteenth Amendment and founding of the League\, Russo will talk about how women’s engagement and activism today has been impacted by the struggle for enfranchisement. \nA dynamic speaker with deep experience in women’s advocacy\, Russo is passionate about TCS Yale’s mission: To increase the number and influence of women in elected and appointed office in the United States and around the globe. TCS Yale is a nonpartisan\, issue-neutral training program that has launched hundreds of women into the world of politics. It focuses on the common needs and experiences of political women\, not on their differences as political partisans. TCS students have run for office\, from School Board to the Presidency\, and are advancing careers in public service from social work to Chief of Staff. \nLunch will be served at the Country Club at noon for a fee of $45 for LWVNC members\, $60 for non-members; Russo’s talk will follow at 1:00. To attend\, please RSVP and pay online at lwvnewcanaan.org or mail your check payable to the LWV of New Canaan\, P.O. Box 383\, New Canaan\, CT 06840 by May 20th.
URL:https://livenewcanaan.org/event/100-years-of-suffrage-and-its-impact-on-empowering-women-today/
LOCATION:Country Club of New Canaan\, 95 Country Club Rd\, New Canaan\, CT\, United States
ATTACH;FMTTYPE=image/png:https://livenewcanaan.org/wp-content/uploads/2020/04/patti-russo-FA846f.tmp_.png
ORGANIZER;CN="League of Women Voters of New Canaan":MAILTO:LWVofNewCanaan@gmail.com
END:VEVENT
END:VCALENDAR