BEGIN:VCALENDAR
VERSION:2.0
PRODID:-//LiveNewCanaan - ECPv6.15.18//NONSGML v1.0//EN
CALSCALE:GREGORIAN
METHOD:PUBLISH
X-WR-CALNAME:LiveNewCanaan
X-ORIGINAL-URL:https://livenewcanaan.org
X-WR-CALDESC:Events for LiveNewCanaan
REFRESH-INTERVAL;VALUE=DURATION:PT1H
X-Robots-Tag:noindex
X-PUBLISHED-TTL:PT1H
BEGIN:VTIMEZONE
TZID:America/New_York
BEGIN:DAYLIGHT
TZOFFSETFROM:-0500
TZOFFSETTO:-0400
TZNAME:EDT
DTSTART:20190310T070000
END:DAYLIGHT
BEGIN:STANDARD
TZOFFSETFROM:-0400
TZOFFSETTO:-0500
TZNAME:EST
DTSTART:20191103T060000
END:STANDARD
BEGIN:DAYLIGHT
TZOFFSETFROM:-0500
TZOFFSETTO:-0400
TZNAME:EDT
DTSTART:20200308T070000
END:DAYLIGHT
BEGIN:STANDARD
TZOFFSETFROM:-0400
TZOFFSETTO:-0500
TZNAME:EST
DTSTART:20201101T060000
END:STANDARD
BEGIN:DAYLIGHT
TZOFFSETFROM:-0500
TZOFFSETTO:-0400
TZNAME:EDT
DTSTART:20210314T070000
END:DAYLIGHT
BEGIN:STANDARD
TZOFFSETFROM:-0400
TZOFFSETTO:-0500
TZNAME:EST
DTSTART:20211107T060000
END:STANDARD
END:VTIMEZONE
BEGIN:VEVENT
DTSTART;TZID=America/New_York:20200428T113000
DTEND;TZID=America/New_York:20200428T120000
DTSTAMP:20260423T010458
CREATED:20200318T175822Z
LAST-MODIFIED:20200402T130723Z
UID:5067-1588073400-1588075200@livenewcanaan.org
SUMMARY:NCCF Annual Philanthropy Luncheon – 2020
DESCRIPTION:The Community Foundation’s annual spring luncheon will be held on April 28th at the Country Club of New Canaan\, with guest speaker Jennifer Pastiloff\, author of the inspirational memoir On Being Human. Tickets are available now! Thank you for making today’s Philanthropy Luncheon an important moment for our community! \nPurchase Tickets
URL:https://livenewcanaan.org/event/nccf-annual-philanthropy-luncheon-2020/
CATEGORIES:Community Discussion,Family Friendly Events
ATTACH;FMTTYPE=image/png:https://livenewcanaan.org/wp-content/uploads/2020/03/luncheon-graphic.png
END:VEVENT
END:VCALENDAR