BEGIN:VCALENDAR
VERSION:2.0
PRODID:-//LiveNewCanaan - ECPv6.15.18//NONSGML v1.0//EN
CALSCALE:GREGORIAN
METHOD:PUBLISH
X-ORIGINAL-URL:https://livenewcanaan.org
X-WR-CALDESC:Events for LiveNewCanaan
REFRESH-INTERVAL;VALUE=DURATION:PT1H
X-Robots-Tag:noindex
X-PUBLISHED-TTL:PT1H
BEGIN:VTIMEZONE
TZID:America/New_York
BEGIN:DAYLIGHT
TZOFFSETFROM:-0500
TZOFFSETTO:-0400
TZNAME:EDT
DTSTART:20200308T070000
END:DAYLIGHT
BEGIN:STANDARD
TZOFFSETFROM:-0400
TZOFFSETTO:-0500
TZNAME:EST
DTSTART:20201101T060000
END:STANDARD
BEGIN:DAYLIGHT
TZOFFSETFROM:-0500
TZOFFSETTO:-0400
TZNAME:EDT
DTSTART:20210314T070000
END:DAYLIGHT
BEGIN:STANDARD
TZOFFSETFROM:-0400
TZOFFSETTO:-0500
TZNAME:EST
DTSTART:20211107T060000
END:STANDARD
BEGIN:DAYLIGHT
TZOFFSETFROM:-0500
TZOFFSETTO:-0400
TZNAME:EDT
DTSTART:20220313T070000
END:DAYLIGHT
BEGIN:STANDARD
TZOFFSETFROM:-0400
TZOFFSETTO:-0500
TZNAME:EST
DTSTART:20221106T060000
END:STANDARD
END:VTIMEZONE
BEGIN:VEVENT
DTSTART;TZID=America/New_York:20210102T120000
DTEND;TZID=America/New_York:20210102T140000
DTSTAMP:20260422T204907
CREATED:20201209T110247Z
LAST-MODIFIED:20210102T235259Z
UID:7424-1609588800-1609596000@livenewcanaan.org
SUMMARY:Christmas Playtime at the Mansion
DESCRIPTION:The Lockwood-Mathews Mansion Museum kicks off the Holiday Season with a new exhibit titled\, Christmas Playtime at the Mansion\, which will open to the public on Wed.\, Nov. 11\, 2020 and run through Sun.\, Jan. 3\, 2021\, at 295 West Avenue\, Norwalk\, CT. \nFrom 1868 to 1938\, children played on the third floor of the Mansion\, which was filled with toys and dolls and even featured a theater where they may have performed. This year\, after undergoing expert restoration\, the Museum’s doll collection along with several vintage toys will be exhibited as part of Christmas Playtime at the Mansion\, an exhibition that will recreate those playful times during the Victorian era. \nThe first floor of the Mansion will feature Christmas trees decorated with period-appropriate ornaments\, a dining table adorned with dazzling antique silver and china\, several playful dolls and toy vignettes\, and sumptuous Victorian gowns curated by Stacey Danielson\, with generous loans from the Wilton Historical Society. \nThe exhibit will also feature magnificent contemporary displays and trees decorated by renowned interior designer Victoria Vandamm of Vandamm Interiors\, while silk garlands embellished with ribbons and trimmings will drape the grand Victorian staircase beautifully decorated by Danna DiElsi\, owner of The Silk Touch in Norwalk\, CT. \nThe exhibition is made possible with the assistance of the Curatorial Committee co-chaired by Trustees Mimi Findlay and Paul Veeder. \nThe Museum’s 2020 cultural and educational programs are made possible in part by generous funding from LMMM’s Founding Patrons: The Estate of Mrs. Cynthia Clark Brown; LMMM’s Leadership Patrons: The Sealark Foundation; LMMM’s 2020 Season Distinguished Benefactors: The City of Norwalk and The Maurice Goodman Foundation; LMMM’s 2020 Distinguished Benefactors for Education: The Daphne Seybolt Culpeper Memorial Foundation\, Inc. Photos are courtesy of Alex Rosenfeld Photography and Sarah Grote Photography. \nThe Museum will offer tours of the new exhibit on a limited basis. 45-minute tours of the first floor Period Rooms will be available on Wednesday\, Thursday\, Saturday\, and Sunday at 12 p.m. and 2 p.m. Due to the continued threat of COVID-19 and to achieve safe distancing measures\, the tour capacity will be reduced and all tickets must be purchased online through the Museum’s website: www.lockwoodmathewsmansion.com/programs. Walk-ins will not be accepted until further notice. Schedule may be subject to change. \nThe Lockwood-Mathews Mansion Museum is a National Historic Landmark. For more information on schedules and programs please visit www.lockwoodmathewsmansion.com\, e-mail info@lockwoodmathewsmansion.com\, or call 203-838-9799.
URL:https://livenewcanaan.org/event/christmas-playtime-at-the-mansion-31/
LOCATION:Lockwood-Mathews Mansion\, 295 West Ave.\, Norwalk\, CT\, 06850
ATTACH;FMTTYPE=image/jpeg:https://livenewcanaan.org/wp-content/uploads/2020/10/lmmm-9329-scaled-SXz5qc.tmp_.jpg
ORGANIZER;CN="Lockwood-Mathews Mansion Museum":MAILTO:info@lockwoodmathewsmansion.com
END:VEVENT
BEGIN:VEVENT
DTSTART;TZID=America/New_York:20210103T120000
DTEND;TZID=America/New_York:20210103T140000
DTSTAMP:20260422T204907
CREATED:20201209T110247Z
LAST-MODIFIED:20210102T235259Z
UID:7425-1609675200-1609682400@livenewcanaan.org
SUMMARY:Christmas Playtime at the Mansion
DESCRIPTION:The Lockwood-Mathews Mansion Museum kicks off the Holiday Season with a new exhibit titled\, Christmas Playtime at the Mansion\, which will open to the public on Wed.\, Nov. 11\, 2020 and run through Sun.\, Jan. 3\, 2021\, at 295 West Avenue\, Norwalk\, CT. \nFrom 1868 to 1938\, children played on the third floor of the Mansion\, which was filled with toys and dolls and even featured a theater where they may have performed. This year\, after undergoing expert restoration\, the Museum’s doll collection along with several vintage toys will be exhibited as part of Christmas Playtime at the Mansion\, an exhibition that will recreate those playful times during the Victorian era. \nThe first floor of the Mansion will feature Christmas trees decorated with period-appropriate ornaments\, a dining table adorned with dazzling antique silver and china\, several playful dolls and toy vignettes\, and sumptuous Victorian gowns curated by Stacey Danielson\, with generous loans from the Wilton Historical Society. \nThe exhibit will also feature magnificent contemporary displays and trees decorated by renowned interior designer Victoria Vandamm of Vandamm Interiors\, while silk garlands embellished with ribbons and trimmings will drape the grand Victorian staircase beautifully decorated by Danna DiElsi\, owner of The Silk Touch in Norwalk\, CT. \nThe exhibition is made possible with the assistance of the Curatorial Committee co-chaired by Trustees Mimi Findlay and Paul Veeder. \nThe Museum’s 2020 cultural and educational programs are made possible in part by generous funding from LMMM’s Founding Patrons: The Estate of Mrs. Cynthia Clark Brown; LMMM’s Leadership Patrons: The Sealark Foundation; LMMM’s 2020 Season Distinguished Benefactors: The City of Norwalk and The Maurice Goodman Foundation; LMMM’s 2020 Distinguished Benefactors for Education: The Daphne Seybolt Culpeper Memorial Foundation\, Inc. Photos are courtesy of Alex Rosenfeld Photography and Sarah Grote Photography. \nThe Museum will offer tours of the new exhibit on a limited basis. 45-minute tours of the first floor Period Rooms will be available on Wednesday\, Thursday\, Saturday\, and Sunday at 12 p.m. and 2 p.m. Due to the continued threat of COVID-19 and to achieve safe distancing measures\, the tour capacity will be reduced and all tickets must be purchased online through the Museum’s website: www.lockwoodmathewsmansion.com/programs. Walk-ins will not be accepted until further notice. Schedule may be subject to change. \nThe Lockwood-Mathews Mansion Museum is a National Historic Landmark. For more information on schedules and programs please visit www.lockwoodmathewsmansion.com\, e-mail info@lockwoodmathewsmansion.com\, or call 203-838-9799.
URL:https://livenewcanaan.org/event/christmas-playtime-at-the-mansion-32/
LOCATION:Lockwood-Mathews Mansion\, 295 West Ave.\, Norwalk\, CT\, 06850
ATTACH;FMTTYPE=image/jpeg:https://livenewcanaan.org/wp-content/uploads/2020/10/lmmm-9329-scaled-SXz5qc.tmp_.jpg
ORGANIZER;CN="Lockwood-Mathews Mansion Museum":MAILTO:info@lockwoodmathewsmansion.com
END:VEVENT
END:VCALENDAR