BEGIN:VCALENDAR
VERSION:2.0
PRODID:-//LiveNewCanaan - ECPv6.15.18//NONSGML v1.0//EN
CALSCALE:GREGORIAN
METHOD:PUBLISH
X-ORIGINAL-URL:https://livenewcanaan.org
X-WR-CALDESC:Events for LiveNewCanaan
REFRESH-INTERVAL;VALUE=DURATION:PT1H
X-Robots-Tag:noindex
X-PUBLISHED-TTL:PT1H
BEGIN:VTIMEZONE
TZID:America/New_York
BEGIN:DAYLIGHT
TZOFFSETFROM:-0500
TZOFFSETTO:-0400
TZNAME:EDT
DTSTART:20200308T070000
END:DAYLIGHT
BEGIN:STANDARD
TZOFFSETFROM:-0400
TZOFFSETTO:-0500
TZNAME:EST
DTSTART:20201101T060000
END:STANDARD
BEGIN:DAYLIGHT
TZOFFSETFROM:-0500
TZOFFSETTO:-0400
TZNAME:EDT
DTSTART:20210314T070000
END:DAYLIGHT
BEGIN:STANDARD
TZOFFSETFROM:-0400
TZOFFSETTO:-0500
TZNAME:EST
DTSTART:20211107T060000
END:STANDARD
BEGIN:DAYLIGHT
TZOFFSETFROM:-0500
TZOFFSETTO:-0400
TZNAME:EDT
DTSTART:20220313T070000
END:DAYLIGHT
BEGIN:STANDARD
TZOFFSETFROM:-0400
TZOFFSETTO:-0500
TZNAME:EST
DTSTART:20221106T060000
END:STANDARD
END:VTIMEZONE
BEGIN:VEVENT
DTSTART;TZID=America/New_York:20211113T110000
DTEND;TZID=America/New_York:20211114T160000
DTSTAMP:20260421T214708
CREATED:20211112T220901Z
LAST-MODIFIED:20211112T220941Z
UID:9412-1636801200-1636905600@livenewcanaan.org
SUMMARY:Silvermine’s Holiday Artisans Market
DESCRIPTION:Get all of your holiday shopping done in one trip.\nOur Holiday Artisan Market will feature 15 unique artists\, giving you the opportunity to get the perfect gift.\nCeramics\, jewelry\, fiber arts and glass will be offered and you will get a chance to meet and speak with all of the artists.\nWe will also have an extended Holiday Gallery Gift Store for you to enjoy.\nEvery purchase you make not only supports an artist but also supports Silvermine. \nThe event is Saturday\, November 13 and Sunday\, November 14\, 11am – 4pm.
URL:https://livenewcanaan.org/event/silvermines-holiday-artisans-market/
LOCATION:Silvermine Arts Center\, 1037 Silvermine Rd\, New Canaan\, CT\, United States
CATEGORIES:Family Friendly Events
ATTACH;FMTTYPE=image/jpeg:https://livenewcanaan.org/wp-content/uploads/2021/11/puzzuoli-show-5-scaled-jpupzs.tmp_.jpg
ORGANIZER;CN="Silvermine Galleries":MAILTO:gallery@silvermineart.org
END:VEVENT
END:VCALENDAR