BEGIN:VCALENDAR
VERSION:2.0
PRODID:-//LiveNewCanaan - ECPv6.15.18//NONSGML v1.0//EN
CALSCALE:GREGORIAN
METHOD:PUBLISH
X-WR-CALNAME:LiveNewCanaan
X-ORIGINAL-URL:https://livenewcanaan.org
X-WR-CALDESC:Events for LiveNewCanaan
REFRESH-INTERVAL;VALUE=DURATION:PT1H
X-Robots-Tag:noindex
X-PUBLISHED-TTL:PT1H
BEGIN:VTIMEZONE
TZID:America/New_York
BEGIN:DAYLIGHT
TZOFFSETFROM:-0500
TZOFFSETTO:-0400
TZNAME:EDT
DTSTART:20210314T070000
END:DAYLIGHT
BEGIN:STANDARD
TZOFFSETFROM:-0400
TZOFFSETTO:-0500
TZNAME:EST
DTSTART:20211107T060000
END:STANDARD
BEGIN:DAYLIGHT
TZOFFSETFROM:-0500
TZOFFSETTO:-0400
TZNAME:EDT
DTSTART:20220313T070000
END:DAYLIGHT
BEGIN:STANDARD
TZOFFSETFROM:-0400
TZOFFSETTO:-0500
TZNAME:EST
DTSTART:20221106T060000
END:STANDARD
BEGIN:DAYLIGHT
TZOFFSETFROM:-0500
TZOFFSETTO:-0400
TZNAME:EDT
DTSTART:20230312T070000
END:DAYLIGHT
BEGIN:STANDARD
TZOFFSETFROM:-0400
TZOFFSETTO:-0500
TZNAME:EST
DTSTART:20231105T060000
END:STANDARD
END:VTIMEZONE
BEGIN:VEVENT
DTSTART;TZID=America/New_York:20221201T140000
DTEND;TZID=America/New_York:20221201T150000
DTSTAMP:20260422T145517
CREATED:20221109T103228Z
LAST-MODIFIED:20221109T112519Z
UID:10987-1669903200-1669906800@livenewcanaan.org
SUMMARY:Tea For a Better Tomorrow
DESCRIPTION:See\, hear\, smell\, and taste teas from around the world with tea expert Frank Kwei and Grace Farms Foods’ Co-Founder Adam Thatcher. Enjoy samples of different blends\, including Grace Farms Foods’ sustainably-sourced line of Sips teas and discover the important impact of ethically and sustainably sourced teas. \nGrace Farms Members enjoy a 20% discount on programs and events. Learn more about Membership. \nStudents must be ages 18 and up. Please be prepared to show your student I.D. or proof of enrollment at check-in. \nChildren must be ages 17 and below. \nGrace Farms Foundation’s interdisciplinary humanitarian mission is to pursue peace through five initiatives — nature\, arts\, justice\, community\, and faith — and Grace Farms\, a SANAA-designed site for convening people across sectors. Our stake in the ground is to end modern slavery and gender-based violence\, and create more grace and peace in our local and global communities.
URL:https://livenewcanaan.org/event/tea-for-a-better-tomorrow-2/
LOCATION:Grace Farms Foundation\, 365 Lukes Wood Rd\, New Canaan\, CT\, United States
CATEGORIES:Grace Farms Event
ORGANIZER;CN="Grace Farms Foundation":MAILTO:rhayes@gracefarmsfoundation.org
END:VEVENT
BEGIN:VEVENT
DTSTART;TZID=America/New_York:20221203T103000
DTEND;TZID=America/New_York:20221203T143000
DTSTAMP:20260422T145517
CREATED:20221109T103229Z
LAST-MODIFIED:20221109T112519Z
UID:10992-1670063400-1670077800@livenewcanaan.org
SUMMARY:Open Arts Studio for Families
DESCRIPTION:Think\, play\, and create at Grace Farms! Children and families are invited to spend time together experimenting with new materials and art-making techniques during this facilitated program series. \nRecommended for families with children ages five through ten with adult caregivers. \nGrace Farms Members enjoy a 20% discount on programs and events. Learn more about Membership. \nStudents must be ages 18 and up. Please be prepared to show your student I.D. or proof of enrollment at check-in. \nChildren must be ages 17 and below. \nGrace Farms Foundation’s interdisciplinary humanitarian mission is to pursue peace through five initiatives — nature\, arts\, justice\, community\, and faith — and Grace Farms\, a SANAA-designed site for convening people across sectors. Our stake in the ground is to end modern slavery and gender-based violence\, and create more grace and peace in our local and global communities.
URL:https://livenewcanaan.org/event/open-arts-studio-for-families-4/
LOCATION:Grace Farms Foundation\, 365 Lukes Wood Rd\, New Canaan\, CT\, United States
CATEGORIES:Grace Farms Event
ORGANIZER;CN="Grace Farms Foundation":MAILTO:rhayes@gracefarmsfoundation.org
END:VEVENT
BEGIN:VEVENT
DTSTART;TZID=America/New_York:20221207T090000
DTEND;TZID=America/New_York:20221207T130000
DTSTAMP:20260422T145517
CREATED:20221109T103233Z
LAST-MODIFIED:20221109T112520Z
UID:11001-1670403600-1670418000@livenewcanaan.org
SUMMARY:Online Violence and Cyberstalking Against Women and Girls Convening
DESCRIPTION:Hosted in collaboration with the United Nations Population Fund\, this half-day convening brings survivors and local\, national\, and international experts from across the public and private sectors together to shed light on the prevalence of gender-based violence in the virtual world. They will offer pathways to improve the response to and reduction of gender-based violence online. \nThis event is part of the United Nations’ annual 16 Days of Activism Against Gender-Based Violence\, which takes place between the International Day for the Elimination of Violence Against Women on November 25th and Human Rights Day on December 10th. \nThis event is taking place in-person at Grace Farms. Attendees who do not live locally may choose to attend virtually. \nIn-Person Registration \nZoom Registration \nPlease note: Registration begins at 9am for those attending on-site. \nWe are pleased to offer this program free of charge thanks to the generous support of our community. \nGrace Farms Members enjoy a 20% discount on programs and events. Learn more about Membership. \nStudents must be ages 18 and up. Please be prepared to show your student I.D. or proof of enrollment at check-in. \nChildren must be ages 17 and below. \nGrace Farms Foundation’s interdisciplinary humanitarian mission is to pursue peace through five initiatives — nature\, arts\, justice\, community\, and faith — and Grace Farms\, a SANAA-designed site for convening people across sectors. Our stake in the ground is to end modern slavery and gender-based violence\, and create more grace and peace in our local and global communities.
URL:https://livenewcanaan.org/event/online-violence-and-cyberstalking-against-women-and-girls-convening/
LOCATION:Grace Farms Foundation\, 365 Lukes Wood Rd\, New Canaan\, CT\, United States
CATEGORIES:Grace Farms Event
ORGANIZER;CN="Grace Farms Foundation":MAILTO:rhayes@gracefarmsfoundation.org
END:VEVENT
BEGIN:VEVENT
DTSTART;TZID=America/New_York:20221209T180000
DTEND;TZID=America/New_York:20221209T190000
DTSTAMP:20260422T145517
CREATED:20221109T103233Z
LAST-MODIFIED:20221109T112520Z
UID:11002-1670608800-1670612400@livenewcanaan.org
SUMMARY:December Community Dinner
DESCRIPTION:Enjoy seasonal community dining experiences in our River building’s Commons\, a 6\,900-square-foot glass space with 18-foot-long communal tables that foster community and conversation. \nGrace Farms Members enjoy a 20% discount on programs and events. Learn more about Membership. \nStudents must be ages 18 and up. Please be prepared to show your student I.D. or proof of enrollment at check-in. \nChildren must be ages 17 and below. \nGrace Farms Foundation’s interdisciplinary humanitarian mission is to pursue peace through five initiatives — nature\, arts\, justice\, community\, and faith — and Grace Farms\, a SANAA-designed site for convening people across sectors. Our stake in the ground is to end modern slavery and gender-based violence\, and create more grace and peace in our local and global communities.
URL:https://livenewcanaan.org/event/december-community-dinner/
LOCATION:Grace Farms Foundation\, 365 Lukes Wood Rd\, New Canaan\, CT\, United States
CATEGORIES:Grace Farms Event
ORGANIZER;CN="Grace Farms Foundation":MAILTO:rhayes@gracefarmsfoundation.org
END:VEVENT
BEGIN:VEVENT
DTSTART;TZID=America/New_York:20221209T190000
DTEND;TZID=America/New_York:20221209T200000
DTSTAMP:20260422T145517
CREATED:20221109T103233Z
LAST-MODIFIED:20221109T112520Z
UID:11003-1670612400-1670616000@livenewcanaan.org
SUMMARY:Gifting For Good
DESCRIPTION:Join us for our annual evening of gifting along with local families and children. Together\, with music and crafts that embody the spirit of the season\, assemble care packages with essential items\, write cards\, and bring cheer to support our local community partner\, The Center for Family Justice. \nGrace Farms Members enjoy a 20% discount on programs and events. Learn more about Membership. \nStudents must be ages 18 and up. Please be prepared to show your student I.D. or proof of enrollment at check-in. \nChildren must be ages 17 and below. \nGrace Farms Foundation’s interdisciplinary humanitarian mission is to pursue peace through five initiatives — nature\, arts\, justice\, community\, and faith — and Grace Farms\, a SANAA-designed site for convening people across sectors. Our stake in the ground is to end modern slavery and gender-based violence\, and create more grace and peace in our local and global communities.
URL:https://livenewcanaan.org/event/gifting-for-good/
LOCATION:Grace Farms Foundation\, 365 Lukes Wood Rd\, New Canaan\, CT\, United States
CATEGORIES:Grace Farms Event
ORGANIZER;CN="Grace Farms Foundation":MAILTO:rhayes@gracefarmsfoundation.org
END:VEVENT
BEGIN:VEVENT
DTSTART;TZID=America/New_York:20221210T103000
DTEND;TZID=America/New_York:20221210T120000
DTSTAMP:20260422T145517
CREATED:20221109T103233Z
LAST-MODIFIED:20221109T112520Z
UID:11004-1670668200-1670673600@livenewcanaan.org
SUMMARY:Grace Farms Tour
DESCRIPTION:Explore the River\, a meandering glass building designed by Pritzker Prize-winning architects SANAA\, and four site-specific installations commissioned specifically for Grace Farms by artists Thomas Demand\, Olafur Eliasson\, Teresita Fernández\, and Beatriz Milhazes. The tour begins with complimentary tea in the Pavilion. \nGrace Farms Members enjoy a 20% discount on programs and events. Learn more about Membership. \nStudents must be ages 18 and up. Please be prepared to show your student I.D. or proof of enrollment at check-in. \nChildren must be ages 17 and below. \nGrace Farms Foundation’s interdisciplinary humanitarian mission is to pursue peace through five initiatives — nature\, arts\, justice\, community\, and faith — and Grace Farms\, a SANAA-designed site for convening people across sectors. Our stake in the ground is to end modern slavery and gender-based violence\, and create more grace and peace in our local and global communities.
URL:https://livenewcanaan.org/event/grace-farms-tour-5/
LOCATION:Grace Farms Foundation\, 365 Lukes Wood Rd\, New Canaan\, CT\, United States
CATEGORIES:Grace Farms Event
ORGANIZER;CN="Grace Farms Foundation":MAILTO:rhayes@gracefarmsfoundation.org
END:VEVENT
BEGIN:VEVENT
DTSTART;TZID=America/New_York:20221210T103000
DTEND;TZID=America/New_York:20221210T143000
DTSTAMP:20260422T145517
CREATED:20221109T103233Z
LAST-MODIFIED:20221109T112520Z
UID:11005-1670668200-1670682600@livenewcanaan.org
SUMMARY:Open Arts Studio for Families
DESCRIPTION:Think\, play\, and create at Grace Farms! Children and families are invited to spend time together experimenting with new materials and art-making techniques during this facilitated program series. \nRecommended for families with children ages five through ten with adult caregivers. \nGrace Farms Members enjoy a 20% discount on programs and events. Learn more about Membership. \nStudents must be ages 18 and up. Please be prepared to show your student I.D. or proof of enrollment at check-in. \nChildren must be ages 17 and below. \nGrace Farms Foundation’s interdisciplinary humanitarian mission is to pursue peace through five initiatives — nature\, arts\, justice\, community\, and faith — and Grace Farms\, a SANAA-designed site for convening people across sectors. Our stake in the ground is to end modern slavery and gender-based violence\, and create more grace and peace in our local and global communities.
URL:https://livenewcanaan.org/event/open-arts-studio-for-families-5/
LOCATION:Grace Farms Foundation\, 365 Lukes Wood Rd\, New Canaan\, CT\, United States
CATEGORIES:Grace Farms Event
ORGANIZER;CN="Grace Farms Foundation":MAILTO:rhayes@gracefarmsfoundation.org
END:VEVENT
BEGIN:VEVENT
DTSTART;TZID=America/New_York:20221213T180000
DTEND;TZID=America/New_York:20221213T193000
DTSTAMP:20260422T145517
CREATED:20221109T103233Z
LAST-MODIFIED:20221109T112520Z
UID:11006-1670954400-1670959800@livenewcanaan.org
SUMMARY:Astronomy with the Connecticut Science Center | Geminids Meteor Shower
DESCRIPTION:Observe the bright Geminids Meteor Shower alongside a knowledgeable Connecticut Science Center educator. Gravity simulations\, hands-on art projects\, two telescopes for enhanced viewing\, and more will teach attendees about this shower and other elements of the night sky. \nHosted in partnership with the Connecticut Science Center’s Science-in-Motion program. \nGrace Farms Members enjoy a 20% discount on programs and events. Learn more about Membership. \nStudents must be ages 18 and up. Please be prepared to show your student I.D. or proof of enrollment at check-in. \nChildren must be ages 17 and below. \nGrace Farms Foundation’s interdisciplinary humanitarian mission is to pursue peace through five initiatives — nature\, arts\, justice\, community\, and faith — and Grace Farms\, a SANAA-designed site for convening people across sectors. Our stake in the ground is to end modern slavery and gender-based violence\, and create more grace and peace in our local and global communities.
URL:https://livenewcanaan.org/event/astronomy-with-the-connecticut-science-center-geminids-meteor-shower/
LOCATION:Grace Farms Foundation\, 365 Lukes Wood Rd\, New Canaan\, CT\, United States
CATEGORIES:Grace Farms Event
ORGANIZER;CN="Grace Farms Foundation":MAILTO:rhayes@gracefarmsfoundation.org
END:VEVENT
BEGIN:VEVENT
DTSTART;TZID=America/New_York:20221215T140000
DTEND;TZID=America/New_York:20221215T150000
DTSTAMP:20260422T145517
CREATED:20221109T103233Z
LAST-MODIFIED:20221109T112520Z
UID:11007-1671112800-1671116400@livenewcanaan.org
SUMMARY:Tea For a Better Tomorrow
DESCRIPTION:See\, hear\, smell\, and taste teas from around the world with tea expert Frank Kwei and Grace Farms Foods’ Co-Founder Adam Thatcher. Enjoy samples of different blends\, including Grace Farms Foods’ sustainably-sourced line of Sips teas and discover the important impact of ethically and sustainably sourced teas. \nGrace Farms Members enjoy a 20% discount on programs and events. Learn more about Membership. \nStudents must be ages 18 and up. Please be prepared to show your student I.D. or proof of enrollment at check-in. \nChildren must be ages 17 and below. \nGrace Farms Foundation’s interdisciplinary humanitarian mission is to pursue peace through five initiatives — nature\, arts\, justice\, community\, and faith — and Grace Farms\, a SANAA-designed site for convening people across sectors. Our stake in the ground is to end modern slavery and gender-based violence\, and create more grace and peace in our local and global communities.
URL:https://livenewcanaan.org/event/tea-for-a-better-tomorrow-3/
LOCATION:Grace Farms Foundation\, 365 Lukes Wood Rd\, New Canaan\, CT\, United States
CATEGORIES:Grace Farms Event
ORGANIZER;CN="Grace Farms Foundation":MAILTO:rhayes@gracefarmsfoundation.org
END:VEVENT
BEGIN:VEVENT
DTSTART;TZID=America/New_York:20221217T103000
DTEND;TZID=America/New_York:20221217T120000
DTSTAMP:20260422T145517
CREATED:20221109T103233Z
LAST-MODIFIED:20221109T112520Z
UID:11008-1671273000-1671278400@livenewcanaan.org
SUMMARY:Grace Farms Tour
DESCRIPTION:Explore the River\, a meandering glass building designed by Pritzker Prize-winning architects SANAA\, and four site-specific installations commissioned specifically for Grace Farms by artists Thomas Demand\, Olafur Eliasson\, Teresita Fernández\, and Beatriz Milhazes. The tour begins with complimentary tea in the Pavilion. \nGrace Farms Members enjoy a 20% discount on programs and events. Learn more about Membership. \nStudents must be ages 18 and up. Please be prepared to show your student I.D. or proof of enrollment at check-in. \nChildren must be ages 17 and below. \nGrace Farms Foundation’s interdisciplinary humanitarian mission is to pursue peace through five initiatives — nature\, arts\, justice\, community\, and faith — and Grace Farms\, a SANAA-designed site for convening people across sectors. Our stake in the ground is to end modern slavery and gender-based violence\, and create more grace and peace in our local and global communities.
URL:https://livenewcanaan.org/event/grace-farms-tour-6/
LOCATION:Grace Farms Foundation\, 365 Lukes Wood Rd\, New Canaan\, CT\, United States
CATEGORIES:Grace Farms Event
ORGANIZER;CN="Grace Farms Foundation":MAILTO:rhayes@gracefarmsfoundation.org
END:VEVENT
BEGIN:VEVENT
DTSTART;TZID=America/New_York:20221217T103000
DTEND;TZID=America/New_York:20221217T143000
DTSTAMP:20260422T145517
CREATED:20221109T103233Z
LAST-MODIFIED:20221109T112520Z
UID:11009-1671273000-1671287400@livenewcanaan.org
SUMMARY:Open Arts Studio for Families
DESCRIPTION:Think\, play\, and create at Grace Farms! Children and families are invited to spend time together experimenting with new materials and art-making techniques during this facilitated program series. \nRecommended for families with children ages five through ten with adult caregivers. \nGrace Farms Members enjoy a 20% discount on programs and events. Learn more about Membership. \nStudents must be ages 18 and up. Please be prepared to show your student I.D. or proof of enrollment at check-in. \nChildren must be ages 17 and below. \nGrace Farms Foundation’s interdisciplinary humanitarian mission is to pursue peace through five initiatives — nature\, arts\, justice\, community\, and faith — and Grace Farms\, a SANAA-designed site for convening people across sectors. Our stake in the ground is to end modern slavery and gender-based violence\, and create more grace and peace in our local and global communities.
URL:https://livenewcanaan.org/event/open-arts-studio-for-families-6/
LOCATION:Grace Farms Foundation\, 365 Lukes Wood Rd\, New Canaan\, CT\, United States
CATEGORIES:Grace Farms Event
ORGANIZER;CN="Grace Farms Foundation":MAILTO:rhayes@gracefarmsfoundation.org
END:VEVENT
BEGIN:VEVENT
DTSTART;TZID=America/New_York:20221224T103000
DTEND;TZID=America/New_York:20221224T120000
DTSTAMP:20260422T145517
CREATED:20221109T103233Z
LAST-MODIFIED:20221109T112520Z
UID:11010-1671877800-1671883200@livenewcanaan.org
SUMMARY:Grace Farms Tour
DESCRIPTION:Explore the River\, a meandering glass building designed by Pritzker Prize-winning architects SANAA\, and four site-specific installations commissioned specifically for Grace Farms by artists Thomas Demand\, Olafur Eliasson\, Teresita Fernández\, and Beatriz Milhazes. The tour begins with complimentary tea in the Pavilion. \nGrace Farms Members enjoy a 20% discount on programs and events. Learn more about Membership. \nStudents must be ages 18 and up. Please be prepared to show your student I.D. or proof of enrollment at check-in. \nChildren must be ages 17 and below. \nGrace Farms Foundation’s interdisciplinary humanitarian mission is to pursue peace through five initiatives — nature\, arts\, justice\, community\, and faith — and Grace Farms\, a SANAA-designed site for convening people across sectors. Our stake in the ground is to end modern slavery and gender-based violence\, and create more grace and peace in our local and global communities.
URL:https://livenewcanaan.org/event/grace-farms-tour-7/
LOCATION:Grace Farms Foundation\, 365 Lukes Wood Rd\, New Canaan\, CT\, United States
CATEGORIES:Grace Farms Event
ORGANIZER;CN="Grace Farms Foundation":MAILTO:rhayes@gracefarmsfoundation.org
END:VEVENT
BEGIN:VEVENT
DTSTART;TZID=America/New_York:20221224T103000
DTEND;TZID=America/New_York:20221224T143000
DTSTAMP:20260422T145517
CREATED:20221109T103234Z
LAST-MODIFIED:20221109T112520Z
UID:11011-1671877800-1671892200@livenewcanaan.org
SUMMARY:Open Arts Studio for Families
DESCRIPTION:Think\, play\, and create at Grace Farms! Children and families are invited to spend time together experimenting with new materials and art-making techniques during this facilitated program series. \nRecommended for families with children ages five through ten with adult caregivers. \nGrace Farms Members enjoy a 20% discount on programs and events. Learn more about Membership. \nStudents must be ages 18 and up. Please be prepared to show your student I.D. or proof of enrollment at check-in. \nChildren must be ages 17 and below. \nGrace Farms Foundation’s interdisciplinary humanitarian mission is to pursue peace through five initiatives — nature\, arts\, justice\, community\, and faith — and Grace Farms\, a SANAA-designed site for convening people across sectors. Our stake in the ground is to end modern slavery and gender-based violence\, and create more grace and peace in our local and global communities.
URL:https://livenewcanaan.org/event/open-arts-studio-for-families-7/
LOCATION:Grace Farms Foundation\, 365 Lukes Wood Rd\, New Canaan\, CT\, United States
CATEGORIES:Grace Farms Event
ORGANIZER;CN="Grace Farms Foundation":MAILTO:rhayes@gracefarmsfoundation.org
END:VEVENT
BEGIN:VEVENT
DTSTART;TZID=America/New_York:20221231T103000
DTEND;TZID=America/New_York:20221231T120000
DTSTAMP:20260422T145517
CREATED:20221109T103234Z
LAST-MODIFIED:20221109T112521Z
UID:11012-1672482600-1672488000@livenewcanaan.org
SUMMARY:Grace Farms Tour
DESCRIPTION:Explore the River\, a meandering glass building designed by Pritzker Prize-winning architects SANAA\, and four site-specific installations commissioned specifically for Grace Farms by artists Thomas Demand\, Olafur Eliasson\, Teresita Fernández\, and Beatriz Milhazes. The tour begins with complimentary tea in the Pavilion. \nGrace Farms Members enjoy a 20% discount on programs and events. Learn more about Membership. \nStudents must be ages 18 and up. Please be prepared to show your student I.D. or proof of enrollment at check-in. \nChildren must be ages 17 and below. \nGrace Farms Foundation’s interdisciplinary humanitarian mission is to pursue peace through five initiatives — nature\, arts\, justice\, community\, and faith — and Grace Farms\, a SANAA-designed site for convening people across sectors. Our stake in the ground is to end modern slavery and gender-based violence\, and create more grace and peace in our local and global communities.
URL:https://livenewcanaan.org/event/grace-farms-tour-8/
LOCATION:Grace Farms Foundation\, 365 Lukes Wood Rd\, New Canaan\, CT\, United States
CATEGORIES:Grace Farms Event
ORGANIZER;CN="Grace Farms Foundation":MAILTO:rhayes@gracefarmsfoundation.org
END:VEVENT
BEGIN:VEVENT
DTSTART;TZID=America/New_York:20221231T103000
DTEND;TZID=America/New_York:20221231T143000
DTSTAMP:20260422T145517
CREATED:20221109T103234Z
LAST-MODIFIED:20221109T112521Z
UID:11013-1672482600-1672497000@livenewcanaan.org
SUMMARY:Open Arts Studio for Families
DESCRIPTION:Think\, play\, and create at Grace Farms! Children and families are invited to spend time together experimenting with new materials and art-making techniques during this facilitated program series. \nRecommended for families with children ages five through ten with adult caregivers. \nGrace Farms Members enjoy a 20% discount on programs and events. Learn more about Membership. \nStudents must be ages 18 and up. Please be prepared to show your student I.D. or proof of enrollment at check-in. \nChildren must be ages 17 and below. \nGrace Farms Foundation’s interdisciplinary humanitarian mission is to pursue peace through five initiatives — nature\, arts\, justice\, community\, and faith — and Grace Farms\, a SANAA-designed site for convening people across sectors. Our stake in the ground is to end modern slavery and gender-based violence\, and create more grace and peace in our local and global communities.
URL:https://livenewcanaan.org/event/open-arts-studio-for-families-8/
LOCATION:Grace Farms Foundation\, 365 Lukes Wood Rd\, New Canaan\, CT\, United States
CATEGORIES:Grace Farms Event
ORGANIZER;CN="Grace Farms Foundation":MAILTO:rhayes@gracefarmsfoundation.org
END:VEVENT
END:VCALENDAR