BEGIN:VCALENDAR
VERSION:2.0
PRODID:-//LiveNewCanaan - ECPv6.15.18//NONSGML v1.0//EN
CALSCALE:GREGORIAN
METHOD:PUBLISH
X-ORIGINAL-URL:https://livenewcanaan.org
X-WR-CALDESC:Events for LiveNewCanaan
REFRESH-INTERVAL;VALUE=DURATION:PT1H
X-Robots-Tag:noindex
X-PUBLISHED-TTL:PT1H
BEGIN:VTIMEZONE
TZID:America/New_York
BEGIN:DAYLIGHT
TZOFFSETFROM:-0500
TZOFFSETTO:-0400
TZNAME:EDT
DTSTART:20210314T070000
END:DAYLIGHT
BEGIN:STANDARD
TZOFFSETFROM:-0400
TZOFFSETTO:-0500
TZNAME:EST
DTSTART:20211107T060000
END:STANDARD
BEGIN:DAYLIGHT
TZOFFSETFROM:-0500
TZOFFSETTO:-0400
TZNAME:EDT
DTSTART:20220313T070000
END:DAYLIGHT
BEGIN:STANDARD
TZOFFSETFROM:-0400
TZOFFSETTO:-0500
TZNAME:EST
DTSTART:20221106T060000
END:STANDARD
BEGIN:DAYLIGHT
TZOFFSETFROM:-0500
TZOFFSETTO:-0400
TZNAME:EDT
DTSTART:20230312T070000
END:DAYLIGHT
BEGIN:STANDARD
TZOFFSETFROM:-0400
TZOFFSETTO:-0500
TZNAME:EST
DTSTART:20231105T060000
END:STANDARD
END:VTIMEZONE
BEGIN:VEVENT
DTSTART;TZID=America/New_York:20220806T103000
DTEND;TZID=America/New_York:20220806T120000
DTSTAMP:20260422T205149
CREATED:20220726T135306Z
LAST-MODIFIED:20220726T143657Z
UID:10567-1659781800-1659787200@livenewcanaan.org
SUMMARY:Sustainable Materials Tour from Design for Freedom
DESCRIPTION:Nora Rizzo\, Sustainable Materials Director at Grace Farms\, will tour the SANAA-designed River building and Barns to highlight ethical and sustainable material sourcing. In buildings worldwide\, glass\, brick\, timber\, stone\, and copper are vulnerable to being produced with forced labor\, and this tour will offer guidance for asking questions about material sourcing as a professional or consumer. \nThe tour includes an introduction to the Design for Freedom initiative as well as complimentary tea in the Pavilion. Participants will also receive a copy of the Design for Freedom Report. \nAIA CES Approved 1.5 LU|HSW \nGrace Farms Members enjoy a 20% discount on programs and events. Learn more about Membership. \nStudents must be ages 18 and up. Please be prepared to show your student I.D. or proof of enrollment at check-in. \nChildren must be ages 17 and below. \nGrace Farms Foundation’s interdisciplinary humanitarian mission is to pursue peace through five initiatives — nature\, arts\, justice\, community\, and faith — and Grace Farms\, a SANAA-designed site for convening people across sectors. Our stake in the ground is to end modern slavery and gender-based violence\, and create more grace and peace in our local and global communities.
URL:https://livenewcanaan.org/event/sustainable-materials-tour-from-design-for-freedom-2/
LOCATION:Grace Farms Foundation\, 365 Lukes Wood Rd\, New Canaan\, CT\, United States
CATEGORIES:Grace Farms Event
ORGANIZER;CN="Grace Farms Foundation":MAILTO:rhayes@gracefarmsfoundation.org
END:VEVENT
BEGIN:VEVENT
DTSTART;TZID=America/New_York:20220819T173000
DTEND;TZID=America/New_York:20220819T193000
DTSTAMP:20260422T205149
CREATED:20220726T135306Z
LAST-MODIFIED:20220808T061419Z
UID:10571-1660930200-1660937400@livenewcanaan.org
SUMMARY:Summer Picnic Series | End of Summer Celebration
DESCRIPTION:It’s the last picnic in our summer picnic series! Join us for a celebration of summer and enjoy a picnic-style meal alongside garden-themed family-friendly activities. We will offer crafts\, demonstrations\, and hands-on activities centered around sustainable gardening\, facilitated by our master gardener and educators. \nPlease note that outside food and beverages are not permitted at Grace Farms. \nGrace Farms Members enjoy a 20% discount on programs and events. Learn more about Membership. \nStudents must be ages 18 and up. Please be prepared to show your student I.D. or proof of enrollment at check-in. \nChildren must be ages 17 and below. \nGrace Farms Foundation’s interdisciplinary humanitarian mission is to pursue peace through five initiatives — nature\, arts\, justice\, community\, and faith — and Grace Farms\, a SANAA-designed site for convening people across sectors. Our stake in the ground is to end modern slavery and gender-based violence\, and create more grace and peace in our local and global communities.
URL:https://livenewcanaan.org/event/summer-picnic-series-end-of-summer-celebration/
LOCATION:Grace Farms Foundation\, 365 Lukes Wood Rd\, New Canaan\, CT\, United States
CATEGORIES:Grace Farms Event
ORGANIZER;CN="Grace Farms Foundation":MAILTO:rhayes@gracefarmsfoundation.org
END:VEVENT
END:VCALENDAR