BEGIN:VCALENDAR
VERSION:2.0
PRODID:-//LiveNewCanaan - ECPv6.15.18//NONSGML v1.0//EN
CALSCALE:GREGORIAN
METHOD:PUBLISH
X-ORIGINAL-URL:https://livenewcanaan.org
X-WR-CALDESC:Events for LiveNewCanaan
REFRESH-INTERVAL;VALUE=DURATION:PT1H
X-Robots-Tag:noindex
X-PUBLISHED-TTL:PT1H
BEGIN:VTIMEZONE
TZID:America/New_York
BEGIN:DAYLIGHT
TZOFFSETFROM:-0500
TZOFFSETTO:-0400
TZNAME:EDT
DTSTART:20210314T070000
END:DAYLIGHT
BEGIN:STANDARD
TZOFFSETFROM:-0400
TZOFFSETTO:-0500
TZNAME:EST
DTSTART:20211107T060000
END:STANDARD
BEGIN:DAYLIGHT
TZOFFSETFROM:-0500
TZOFFSETTO:-0400
TZNAME:EDT
DTSTART:20220313T070000
END:DAYLIGHT
BEGIN:STANDARD
TZOFFSETFROM:-0400
TZOFFSETTO:-0500
TZNAME:EST
DTSTART:20221106T060000
END:STANDARD
BEGIN:DAYLIGHT
TZOFFSETFROM:-0500
TZOFFSETTO:-0400
TZNAME:EDT
DTSTART:20230312T070000
END:DAYLIGHT
BEGIN:STANDARD
TZOFFSETFROM:-0400
TZOFFSETTO:-0500
TZNAME:EST
DTSTART:20231105T060000
END:STANDARD
END:VTIMEZONE
BEGIN:VEVENT
DTSTART;TZID=America/New_York:20220402T123000
DTEND;TZID=America/New_York:20220402T133000
DTSTAMP:20260423T030008
CREATED:20220318T183905Z
LAST-MODIFIED:20220318T183905Z
UID:10126-1648902600-1648906200@livenewcanaan.org
SUMMARY:Sourcing Ethical Ingredients
DESCRIPTION:Join Adam Thatcher\, Co-Founder of Grace Farms Foods to step into the world of ethical and sustainable sourcing. Featuring Grace Farms Foods’ line of signature cookies\, coffee and teas\, discover other B-Corp certified products that are also committed to ethical sourcing. \nGrace Farms Members enjoy a 20% discount on programs and events. Learn more about Membership.
URL:https://livenewcanaan.org/event/sourcing-ethical-ingredients/
LOCATION:Grace Farms\, 365 Lukes Wood Rd\, New Canaan\, CT\, United States
ORGANIZER;CN="Grace Farms Foundation":MAILTO:rhayes@gracefarmsfoundation.org
END:VEVENT
BEGIN:VEVENT
DTSTART;TZID=America/New_York:20220402T143000
DTEND;TZID=America/New_York:20220402T150000
DTSTAMP:20260423T030008
CREATED:20220318T183905Z
LAST-MODIFIED:20220318T183905Z
UID:10127-1648909800-1648911600@livenewcanaan.org
SUMMARY:River Retreat Orientation
DESCRIPTION:Faith Initiative Coordinator Katie Grosh will introduce the River Retreat\, a self-directed way to encounter the Faith initiative and its core question: what is the shape of flourishing life? \nCompleted at an individual pace—over the course of a couple of hours\, a full day\, or longer — it inspires insights about priorities\, relationships\, desires\, and visions of a life worthy of our shared humanity. Booklets will be handed out after the introduction for participants to explore on their own.
URL:https://livenewcanaan.org/event/river-retreat-orientation/
LOCATION:Grace Farms\, 365 Lukes Wood Rd\, New Canaan\, CT\, United States
CATEGORIES:Grace Farms Event
ATTACH;FMTTYPE=image/jpeg:https://livenewcanaan.org/wp-content/uploads/2022/03/Chamber_GraceFarms_RiverBuilding_DeanKaufmann-CzhU7S.tmp_.jpg
ORGANIZER;CN="Grace Farms Foundation":MAILTO:rhayes@gracefarmsfoundation.org
END:VEVENT
BEGIN:VEVENT
DTSTART;TZID=America/New_York:20220409T113000
DTEND;TZID=America/New_York:20220409T123000
DTSTAMP:20260423T030008
CREATED:20220318T183906Z
LAST-MODIFIED:20220318T183906Z
UID:10135-1649503800-1649507400@livenewcanaan.org
SUMMARY:Growing Your Organic Home Garden from Seed | Transplanting and Repotting
DESCRIPTION:Through our gardening series\, led by Master Gardener Lauren Elliott\, participants will learn how to cultivate their own gardens and come away with a sense of stewardship for our environment and an understanding of how we can all contribute to the well-being of our communities. \nAs the air warms\, discover techniques for spring soil preparation and transplanting seedlings into pots in preparation for the spring garden season.
URL:https://livenewcanaan.org/event/growing-your-organic-home-garden-from-seed-transplanting-and-repotting/
LOCATION:Grace Farms\, 365 Lukes Wood Rd\, New Canaan\, CT\, United States
CATEGORIES:Grace Farms Event
ATTACH;FMTTYPE=image/jpeg:https://livenewcanaan.org/wp-content/uploads/2022/03/planting_with_purpose_calendarthumb3_grace_farms-1Lp8mu.tmp_.jpg
ORGANIZER;CN="Grace Farms Foundation":MAILTO:rhayes@gracefarmsfoundation.org
END:VEVENT
BEGIN:VEVENT
DTSTART;TZID=America/New_York:20220412T120000
DTEND;TZID=America/New_York:20220412T130000
DTSTAMP:20260423T030008
CREATED:20220318T183907Z
LAST-MODIFIED:20220318T183907Z
UID:10137-1649764800-1649768400@livenewcanaan.org
SUMMARY:Books on Faith & Meaning | This Here Flesh with Cole Arthur Riley
DESCRIPTION:In her debut book\, author Cole Arthur Riley\, the creator of Black Liturgies\, writes about the stories of her family\, what they revealed to her\, and how they unlocked her spirituality. This Here Flesh: Spirituality\, Liberation\, and the Stories That Make Us encourages us to examine our own stories and reflect on how we can honor\, lament\, or heal from those stories.
URL:https://livenewcanaan.org/event/books-on-faith-meaning-this-here-flesh-with-cole-arthur-riley/
LOCATION:Grace Farms\, 365 Lukes Wood Rd\, New Canaan\, CT\, United States
CATEGORIES:Grace Farms Event
ATTACH;FMTTYPE=image/jpeg:https://livenewcanaan.org/wp-content/uploads/2022/03/hero-image-james-florio-_grace-farms_summr-set_finals_09-copy4-U0O6ym.tmp_.jpg
ORGANIZER;CN="Grace Farms Foundation":MAILTO:rhayes@gracefarmsfoundation.org
END:VEVENT
BEGIN:VEVENT
DTSTART;TZID=America/New_York:20220422T193000
DTEND;TZID=America/New_York:20220422T203000
DTSTAMP:20260423T030008
CREATED:20220318T183909Z
LAST-MODIFIED:20220318T183909Z
UID:10139-1650655800-1650659400@livenewcanaan.org
SUMMARY:Wildlife Works | A Market-Based Model for Conservation
DESCRIPTION:Nature Initiative Director Mark Fowler and our partners from Wildlife Works explore their strategy to create sustainable jobs and alternative livelihoods to poaching and deforestation. Learn about the REDD+ carbon marketplace that is financing conservation projects all over the world and the importance of making conservation work for local communities that share their land and resources with wildlife. \nPrior to the program\, enjoy our April Community Dinner\, a seasonal dining experience in our glass-enclosed Commons.
URL:https://livenewcanaan.org/event/wildlife-works-a-market-based-model-for-conservation/
LOCATION:Grace Farms\, 365 Lukes Wood Rd\, New Canaan\, CT\, United States
CATEGORIES:Grace Farms Event
ATTACH;FMTTYPE=image/jpeg:https://livenewcanaan.org/wp-content/uploads/2022/03/exploring_chivvis_ticketure_grace_farms-sTaLuC.tmp_.jpg
ORGANIZER;CN="Grace Farms Foundation":MAILTO:rhayes@gracefarmsfoundation.org
END:VEVENT
BEGIN:VEVENT
DTSTART;TZID=America/New_York:20220427T140000
DTEND;TZID=America/New_York:20220427T150000
DTSTAMP:20260423T030008
CREATED:20220318T183910Z
LAST-MODIFIED:20220318T183910Z
UID:10145-1651068000-1651071600@livenewcanaan.org
SUMMARY:Journey Into the World of Tea | Black Teas
DESCRIPTION:Journey Into the World of Tea\, a series facilitated by tea expert Frank Kwei\, is an opportunity to understand the global roots of this ancient tradition. Learn about the history and wide array of teas through tastings to understand nuances in flavor\, texture\, and smells. Moving among the River building’s volumes\, this experience includes a focused teaching and sampling of black\, green\, and white teas as well as Grace Farms Foods’ ethically and sustainably sourced line of Sips teas. \nBlack Teas \nAn introduction to black teas\, covering distinctions from India\, Sri Lanka\, and China\, with examples of Darjeeling\, Assam\, Ceylon\, Keemun\, and Yunnan teas.
URL:https://livenewcanaan.org/event/journey-into-the-world-of-tea-black-teas/
LOCATION:Grace Farms\, 365 Lukes Wood Rd\, New Canaan\, CT\, United States
CATEGORIES:Grace Farms Event
ATTACH;FMTTYPE=image/jpeg:https://livenewcanaan.org/wp-content/uploads/2022/03/interfaith_seder_calendarticket_grace_farms-Bm8rGY.tmp_.jpg
ORGANIZER;CN="Grace Farms Foundation":MAILTO:rhayes@gracefarmsfoundation.org
END:VEVENT
BEGIN:VEVENT
DTSTART;TZID=America/New_York:20220429T100000
DTEND;TZID=America/New_York:20220429T113000
DTSTAMP:20260423T030008
CREATED:20220318T183910Z
LAST-MODIFIED:20220318T183910Z
UID:10147-1651226400-1651231800@livenewcanaan.org
SUMMARY:Impact & Innovation in Fashion | Dudley Stephens
DESCRIPTION:Lauren Stephens and Kaki McGrath\, Co-Founders of the responsible fashion and lifestyle brand Dudley Stephens\, join us for a breakfast conversation about their commitment to promoting positive change through environmental stewardship\, female entrepreneurship\, diversity\, and brand philanthropy. Learn about their sustainability story and how they are part of an innovative group of leaders reshaping the world of fashion by weaving values\, vision\, and a better tomorrow into their company and products.
URL:https://livenewcanaan.org/event/impact-innovation-in-fashion-dudley-stephens/
LOCATION:Grace Farms\, 365 Lukes Wood Rd\, New Canaan\, CT\, United States
CATEGORIES:Grace Farms Event
ATTACH;FMTTYPE=image/jpeg:https://livenewcanaan.org/wp-content/uploads/2022/03/morethanmetoo_calendarthumb1_grace_farms-vFFqte.tmp_.jpg
ORGANIZER;CN="Grace Farms Foundation":MAILTO:rhayes@gracefarmsfoundation.org
END:VEVENT
BEGIN:VEVENT
DTSTART;TZID=America/New_York:20220430T103000
DTEND;TZID=America/New_York:20220430T120000
DTSTAMP:20260423T030008
CREATED:20220318T183911Z
LAST-MODIFIED:20220318T183911Z
UID:10151-1651314600-1651320000@livenewcanaan.org
SUMMARY:Sustainable Materials Tour from Design for Freedom
DESCRIPTION:Nora Rizzo\, Sustainable Materials Director at Grace Farms\, will tour the SANAA-designed River building and Barns to highlight ethical and sustainable material sourcing. In buildings worldwide\, glass\, brick\, timber\, stone\, and copper are vulnerable to being produced with forced labor\, and this tour will offer guidance for asking questions about material sourcing as a professional or consumer. \nThe tour includes an introduction to the Design for Freedom initiative as well as complimentary tea in the Pavilion. Participants will also receive a copy of the Design for Freedom Report.
URL:https://livenewcanaan.org/event/sustainable-materials-tour-from-design-for-freedom/
LOCATION:Grace Farms\, 365 Lukes Wood Rd\, New Canaan\, CT\, United States
CATEGORIES:Grace Farms Event
ATTACH;FMTTYPE=image/jpeg:https://livenewcanaan.org/wp-content/uploads/2022/03/hero-image-james-florio-_grace-farms_summr-set_finals_09-copy4-U0O6ym.tmp_.jpg
ORGANIZER;CN="Grace Farms Foundation":MAILTO:rhayes@gracefarmsfoundation.org
END:VEVENT
BEGIN:VEVENT
DTSTART;TZID=America/New_York:20220430T140000
DTEND;TZID=America/New_York:20220430T150000
DTSTAMP:20260423T030008
CREATED:20220318T183911Z
LAST-MODIFIED:20220318T183911Z
UID:10152-1651327200-1651330800@livenewcanaan.org
SUMMARY:Young Gardeners Series
DESCRIPTION:Explore the senses through experiential learning during this five-part series. Young gardeners (ages 8–13) and their families will spend time planting\, exploring our Community Garden\, creating nature collages\, and contemplating their connection to the earth. This multi-sensory approach connects families to the natural world and invites them to think deeper about how a garden can grow more than plants.
URL:https://livenewcanaan.org/event/young-gardeners-series/
LOCATION:Grace Farms\, 365 Lukes Wood Rd\, New Canaan\, CT\, United States
CATEGORIES:Grace Farms Event
ATTACH;FMTTYPE=image/jpeg:https://livenewcanaan.org/wp-content/uploads/2022/03/exploring_chivvis_ticketure_grace_farms-sTaLuC.tmp_.jpg
ORGANIZER;CN="Grace Farms Foundation":MAILTO:rhayes@gracefarmsfoundation.org
END:VEVENT
END:VCALENDAR