BEGIN:VCALENDAR
VERSION:2.0
PRODID:-//LiveNewCanaan - ECPv6.15.18//NONSGML v1.0//EN
CALSCALE:GREGORIAN
METHOD:PUBLISH
X-WR-CALNAME:LiveNewCanaan
X-ORIGINAL-URL:https://livenewcanaan.org
X-WR-CALDESC:Events for LiveNewCanaan
REFRESH-INTERVAL;VALUE=DURATION:PT1H
X-Robots-Tag:noindex
X-PUBLISHED-TTL:PT1H
BEGIN:VTIMEZONE
TZID:America/New_York
BEGIN:DAYLIGHT
TZOFFSETFROM:-0500
TZOFFSETTO:-0400
TZNAME:EDT
DTSTART:20200308T070000
END:DAYLIGHT
BEGIN:STANDARD
TZOFFSETFROM:-0400
TZOFFSETTO:-0500
TZNAME:EST
DTSTART:20201101T060000
END:STANDARD
BEGIN:DAYLIGHT
TZOFFSETFROM:-0500
TZOFFSETTO:-0400
TZNAME:EDT
DTSTART:20210314T070000
END:DAYLIGHT
BEGIN:STANDARD
TZOFFSETFROM:-0400
TZOFFSETTO:-0500
TZNAME:EST
DTSTART:20211107T060000
END:STANDARD
BEGIN:DAYLIGHT
TZOFFSETFROM:-0500
TZOFFSETTO:-0400
TZNAME:EDT
DTSTART:20220313T070000
END:DAYLIGHT
BEGIN:STANDARD
TZOFFSETFROM:-0400
TZOFFSETTO:-0500
TZNAME:EST
DTSTART:20221106T060000
END:STANDARD
END:VTIMEZONE
BEGIN:VEVENT
DTSTART;TZID=America/New_York:20211106T160000
DTEND;TZID=America/New_York:20211106T180000
DTSTAMP:20260423T101848
CREATED:20210927T214608Z
LAST-MODIFIED:20211028T014823Z
UID:8990-1636214400-1636221600@livenewcanaan.org
SUMMARY:Design for Freedom x Fashion presents: Woven—a Panel on Community\, Fashion and Sustainability
DESCRIPTION:Jay Fielden\, former editor of Esquire\, will moderate Woven – A Panel on Community\, Fashion and Sustainability\, featuring a group of innovative industry leaders reshaping the world of fashion by weaving values\, vision\, and a commitment to a better tomorrow into their companies and products. This program is a part of a series that will explore materials\, like textiles\, and others highlighted in the Design for Freedom movement.
URL:https://livenewcanaan.org/event/design-for-freedom-x-fashion-presents-woven-a-panel-on-community-fashion-and-sustainability/
LOCATION:Grace Farms\, 365 Lukes Wood Rd\, New Canaan\, CT\, United States
ATTACH;FMTTYPE=image/jpeg:https://livenewcanaan.org/wp-content/uploads/2021/09/design-for-freedom-x-fashion-presents-woven-cLHPmC.tmp_.jpg
ORGANIZER;CN="Grace Farms":MAILTO:info@gracefarms.org
END:VEVENT
BEGIN:VEVENT
DTSTART;TZID=America/New_York:20211119T193000
DTEND;TZID=America/New_York:20211119T210000
DTSTAMP:20260423T101848
CREATED:20210927T214609Z
LAST-MODIFIED:20211112T220942Z
UID:8992-1637350200-1637355600@livenewcanaan.org
SUMMARY:Beauty and Logic
DESCRIPTION:Marcus G. Miller\, acclaimed saxophonist and mathematician\, will lead a workshop on how to explore the world\, ourselves\, and our community through beauty and logic. A long-time collaborator of Grace Farms\, Marcus Miller performed at Our Sustainable Future our 2019 annual benefit and with the Arts Initiative’s Artists Warm-Up during construction.
URL:https://livenewcanaan.org/event/beauty-and-logic/
LOCATION:Grace Farms\, 365 Lukes Wood Rd\, New Canaan\, CT\, United States
ATTACH;FMTTYPE=image/jpeg:https://livenewcanaan.org/wp-content/uploads/2021/09/beauty-and-logic-MouSHq.tmp_.jpg
ORGANIZER;CN="Grace Farms":MAILTO:info@gracefarms.org
END:VEVENT
END:VCALENDAR