BEGIN:VCALENDAR
VERSION:2.0
PRODID:-//LiveNewCanaan - ECPv6.15.18//NONSGML v1.0//EN
CALSCALE:GREGORIAN
METHOD:PUBLISH
X-ORIGINAL-URL:https://livenewcanaan.org
X-WR-CALDESC:Events for LiveNewCanaan
REFRESH-INTERVAL;VALUE=DURATION:PT1H
X-Robots-Tag:noindex
X-PUBLISHED-TTL:PT1H
BEGIN:VTIMEZONE
TZID:America/New_York
BEGIN:DAYLIGHT
TZOFFSETFROM:-0500
TZOFFSETTO:-0400
TZNAME:EDT
DTSTART:20200308T070000
END:DAYLIGHT
BEGIN:STANDARD
TZOFFSETFROM:-0400
TZOFFSETTO:-0500
TZNAME:EST
DTSTART:20201101T060000
END:STANDARD
BEGIN:DAYLIGHT
TZOFFSETFROM:-0500
TZOFFSETTO:-0400
TZNAME:EDT
DTSTART:20210314T070000
END:DAYLIGHT
BEGIN:STANDARD
TZOFFSETFROM:-0400
TZOFFSETTO:-0500
TZNAME:EST
DTSTART:20211107T060000
END:STANDARD
BEGIN:DAYLIGHT
TZOFFSETFROM:-0500
TZOFFSETTO:-0400
TZNAME:EDT
DTSTART:20220313T070000
END:DAYLIGHT
BEGIN:STANDARD
TZOFFSETFROM:-0400
TZOFFSETTO:-0500
TZNAME:EST
DTSTART:20221106T060000
END:STANDARD
END:VTIMEZONE
BEGIN:VEVENT
DTSTART;TZID=America/New_York:20211002T143000
DTEND;TZID=America/New_York:20211002T160000
DTSTAMP:20260423T115050
CREATED:20210927T214550Z
LAST-MODIFIED:20210927T214550Z
UID:8930-1633185000-1633190400@livenewcanaan.org
SUMMARY:Tour & Tea with artist Alyson Shotz
DESCRIPTION:Experience Temporal Shift\, a new site-responsive sculpture that interacts with natural light\, animating an interior courtyard of the SANAA-designed River building at Grace Farms. Join the artist Alyson Shotz and curator Pamela Ruggio for a conversation about the Arts Initiative’s interdisciplinary study of time.
URL:https://livenewcanaan.org/event/tour-tea-with-artist-alyson-shotz/
LOCATION:Grace Farms\, 365 Lukes Wood Rd\, New Canaan\, CT\, United States
ATTACH;FMTTYPE=image/jpeg:https://livenewcanaan.org/wp-content/uploads/2021/09/vvr-110619-036-gdXAEX.tmp_.jpg
ORGANIZER;CN="Grace Farms":MAILTO:info@gracefarms.org
END:VEVENT
BEGIN:VEVENT
DTSTART;TZID=America/New_York:20211021T130000
DTEND;TZID=America/New_York:20211021T140000
DTSTAMP:20260423T115050
CREATED:20210927T214559Z
LAST-MODIFIED:20210927T214559Z
UID:8960-1634821200-1634824800@livenewcanaan.org
SUMMARY:Exploring Nature Series
DESCRIPTION:Join Nature Initiative Director Mark Fowler and visiting explorer Richard Wiese from the renowned Explorers Club\, where Mark serves as Vice President of Conservation\, Wildlife and Sustainability\, for an engaging conversation on topics ranging from preserving forest\, protecting wildlife and restoring our climate\, among many others.
URL:https://livenewcanaan.org/event/exploring-nature-series/
LOCATION:Grace Farms\, 365 Lukes Wood Rd\, New Canaan\, CT\, United States
ATTACH;FMTTYPE=image/jpeg:https://livenewcanaan.org/wp-content/uploads/2021/09/exploring-nature-6lA5si.tmp_.jpg
ORGANIZER;CN="Grace Farms":MAILTO:info@gracefarms.org
END:VEVENT
BEGIN:VEVENT
DTSTART;TZID=America/New_York:20211023T103000
DTEND;TZID=America/New_York:20211023T120000
DTSTAMP:20260423T115050
CREATED:20210927T214602Z
LAST-MODIFIED:20211022T154518Z
UID:8971-1634985000-1634990400@livenewcanaan.org
SUMMARY:Design for Freedom & Sustainable Materials Tour
DESCRIPTION:Nora Rizzo\, Sustainable Materials Director at Grace Farms\, will tour the SANAA-designed River building and Barns to highlight ethical and sustainable material sourcing. In buildings worldwide\, glass\, brick\, timber\, stone\, and copper are vulnerable to being produced with forced labor\, and this tour will offer guidance for asking questions about material sourcing as a professional or consumer.
URL:https://livenewcanaan.org/event/design-for-freedom-sustainable-materials-tour/
LOCATION:Grace Farms\, 365 Lukes Wood Rd\, New Canaan\, CT\, United States
ATTACH;FMTTYPE=image/jpeg:https://livenewcanaan.org/wp-content/uploads/2021/09/design-for-freedom-and-sustainable-materials-tour-14B1M9.tmp_.jpg
ORGANIZER;CN="Grace Farms":MAILTO:info@gracefarms.org
END:VEVENT
BEGIN:VEVENT
DTSTART;TZID=America/New_York:20211023T150000
DTEND;TZID=America/New_York:20211023T170000
DTSTAMP:20260423T115050
CREATED:20210927T214603Z
LAST-MODIFIED:20211022T154518Z
UID:8973-1635001200-1635008400@livenewcanaan.org
SUMMARY:Fieldnotes on Time featuring distinguished poet Tracy K. Smith
DESCRIPTION:The grammar of time allows a way of perceiving that assumes a layered composition of past events and future becomings\, a perspective often lacking in daily life and in public discourse. Join the 22nd United States Poet Laureate\, Pulitzer Prize-winning author\, and Harvard professor for a program that invites participants into a world of ideas from the Arts Initiative’s interdisciplinary study of time at Grace Farms. \nA book signing will follow the reading.
URL:https://livenewcanaan.org/event/fieldnotes-on-time-featuring-distinguished-poet-tracy-k-smith/
LOCATION:Grace Farms\, 365 Lukes Wood Rd\, New Canaan\, CT\, United States
ATTACH;FMTTYPE=image/jpeg:https://livenewcanaan.org/wp-content/uploads/2021/09/tracy-k-smith-UOE6x1.tmp_.jpg
ORGANIZER;CN="Grace Farms":MAILTO:info@gracefarms.org
END:VEVENT
END:VCALENDAR