BEGIN:VCALENDAR
VERSION:2.0
PRODID:-//LiveNewCanaan - ECPv6.15.18//NONSGML v1.0//EN
CALSCALE:GREGORIAN
METHOD:PUBLISH
X-ORIGINAL-URL:https://livenewcanaan.org
X-WR-CALDESC:Events for LiveNewCanaan
REFRESH-INTERVAL;VALUE=DURATION:PT1H
X-Robots-Tag:noindex
X-PUBLISHED-TTL:PT1H
BEGIN:VTIMEZONE
TZID:America/New_York
BEGIN:DAYLIGHT
TZOFFSETFROM:-0500
TZOFFSETTO:-0400
TZNAME:EDT
DTSTART:20200308T070000
END:DAYLIGHT
BEGIN:STANDARD
TZOFFSETFROM:-0400
TZOFFSETTO:-0500
TZNAME:EST
DTSTART:20201101T060000
END:STANDARD
BEGIN:DAYLIGHT
TZOFFSETFROM:-0500
TZOFFSETTO:-0400
TZNAME:EDT
DTSTART:20210314T070000
END:DAYLIGHT
BEGIN:STANDARD
TZOFFSETFROM:-0400
TZOFFSETTO:-0500
TZNAME:EST
DTSTART:20211107T060000
END:STANDARD
BEGIN:DAYLIGHT
TZOFFSETFROM:-0500
TZOFFSETTO:-0400
TZNAME:EDT
DTSTART:20220313T070000
END:DAYLIGHT
BEGIN:STANDARD
TZOFFSETFROM:-0400
TZOFFSETTO:-0500
TZNAME:EST
DTSTART:20221106T060000
END:STANDARD
END:VTIMEZONE
BEGIN:VEVENT
DTSTART;TZID=America/New_York:20210614T073000
DTEND;TZID=America/New_York:20210614T170000
DTSTAMP:20260423T115052
CREATED:20210527T143816Z
LAST-MODIFIED:20210527T151349Z
UID:8297-1623655800-1623690000@livenewcanaan.org
SUMMARY:VOICES 20th Anniversary Golf Outing
DESCRIPTION:Join VOICES to Commemorate the 20th Anniversary of the 9/11 Terror Attacks with Anniversary Season of Programs and Events. \nVOICES Golf Outing is nearly full\, but sponsorships are available for all other programs and events\, see below. \nDetails: \nVoices Center for Resilience (formerly Voices of September 11th) will host its 7th Annual Golf Outing on Monday\, June 14\, 2021 at Quaker Ridge Golf Club in Scarsdale\, NY. All proceeds will benefit VOICES work to assist communities preparing for and recovering from tragedy\, and to provide long-term support and resources that promote mental health care and wellness for victims’ families\, survivors and responders. \nhttps://voicescenter.org/events/golf-outing/2021 \nFrank Fetchet\, VOICES VP of Business Development\, said\, “This is our second year at Quaker\, and we’re thrilled to be welcomed back. As many golfers know\, Quaker Ridge is one of the world’s premier golf courses\, and its recent redesign by architect Gil Hanse makes a golf experience at QR second to none.” \nThis year marks the 20th Anniversary of 9/11 – a milestone that also recognizes VOICES as a thought leader in advocacy and social services. Most importantly\, VOICES continues to provide a legacy of support with a wide array of services and programs including workshops and webinars on topics such as loss during COVID-19\, mental health considerations\, and 9/11-related issues. \nThis September 11 VOICES commemorates the 20th Anniversary and honors the 2\,977 lives lost\, and the over 4\,100 that have died since of 9/11 related illnesses. VOICES 20th Anniversary Commemoration Programs will reflect on the organization’s nearly two decades of work and will provide support that is needed during this challenging time. In honor of the Anniversary\, VOICES special programs and events include: \nReflections on the 20th Anniversary – A retrospective video featuring personal stories of prominent dignitaries \nPathways to Resilience Programs & Support Services – Ongoing support groups\, workshops and webinars \n9/11 Living Memorial Honoring Survivors & Responders – For the over 4\,100 who died since of 9/11-related illnesses \nThe Wolfgruber Digital Resource Library – Access to VOICES extensive resources\, publications\, and videos \nVoices of Reflection Art Exhibit – At Silvermine Art Center and online\, from September 1 – October 9 \n20th Annual Remembrance Symposium – VOICES virtual and in-person event in NYC\, September 9 and 10 \nAlways Remember Gala – An inspirational evening commemorating VOICES work\, at Cipriani’s in NYC\, November 12 \n“Our annual Golf Outing is an opportunity for us to connect directly with some of our most ardent and loyal supporters while raising funds to continue our work\, during this special 20th Anniversary commemorative year. We would especially like to thank our early and generous sponsors POLO Ralph Lauren\, Ray Catena Lexus of Larchmont\, and Kane 11 socks\,” said Fetchet. \n“The outing\, given its longevity\, is near sellout\, so for those who may like to play or put together a foursome\, please reach out sooner rather than later to Voices” he continued. \nFor more information or to become a Sponsor please contact Susan Serven at sserven@voicesofsept11.org.
URL:https://livenewcanaan.org/event/voices-20th-anniversary-golf-outing/
LOCATION:CT
ATTACH;FMTTYPE=image/jpeg:https://livenewcanaan.org/wp-content/uploads/2021/05/2021_golf_pr-image-FhIGBK.tmp_.jpg
ORGANIZER;CN="Voices of September 11th":MAILTO:seng@voicesofsept11.org
END:VEVENT
END:VCALENDAR