BEGIN:VCALENDAR
VERSION:2.0
PRODID:-//LiveNewCanaan - ECPv6.15.18//NONSGML v1.0//EN
CALSCALE:GREGORIAN
METHOD:PUBLISH
X-ORIGINAL-URL:https://livenewcanaan.org
X-WR-CALDESC:Events for LiveNewCanaan
REFRESH-INTERVAL;VALUE=DURATION:PT1H
X-Robots-Tag:noindex
X-PUBLISHED-TTL:PT1H
BEGIN:VTIMEZONE
TZID:America/New_York
BEGIN:DAYLIGHT
TZOFFSETFROM:-0500
TZOFFSETTO:-0400
TZNAME:EDT
DTSTART:20190310T070000
END:DAYLIGHT
BEGIN:STANDARD
TZOFFSETFROM:-0400
TZOFFSETTO:-0500
TZNAME:EST
DTSTART:20191103T060000
END:STANDARD
BEGIN:DAYLIGHT
TZOFFSETFROM:-0500
TZOFFSETTO:-0400
TZNAME:EDT
DTSTART:20200308T070000
END:DAYLIGHT
BEGIN:STANDARD
TZOFFSETFROM:-0400
TZOFFSETTO:-0500
TZNAME:EST
DTSTART:20201101T060000
END:STANDARD
BEGIN:DAYLIGHT
TZOFFSETFROM:-0500
TZOFFSETTO:-0400
TZNAME:EDT
DTSTART:20210314T070000
END:DAYLIGHT
BEGIN:STANDARD
TZOFFSETFROM:-0400
TZOFFSETTO:-0500
TZNAME:EST
DTSTART:20211107T060000
END:STANDARD
END:VTIMEZONE
BEGIN:VEVENT
DTSTART;TZID=America/New_York:20201105T150000
DTEND;TZID=America/New_York:20201105T160000
DTSTAMP:20260423T131951
CREATED:20201028T130750Z
LAST-MODIFIED:20201105T080725Z
UID:7137-1604588400-1604592000@livenewcanaan.org
SUMMARY:Moda Training Chair Cardio and Strength
DESCRIPTION:FREE! This movement class are for those new to exercise\, recovering from an injury or a senior that needs a safe way to exercise. Especially for those who can’t get out of the house due to COVID. Light weights are optional!\nJoin us for a fun filled hour every Thursday on Zoom at 3 pm. Please email\nSuzanne for the meeting ID at suzanne@modatraining!
URL:https://livenewcanaan.org/event/moda-training-chair-cardio-and-strength-2/
LOCATION:CT
ATTACH;FMTTYPE=image/jpeg:https://livenewcanaan.org/wp-content/uploads/2020/10/7664db3b-4278-4cd8-8e6a-13438956c0f8-I6wRLI.tmp_.jpg
ORGANIZER;CN="Moda Training":MAILTO:Suzanne@modatraining.com
END:VEVENT
BEGIN:VEVENT
DTSTART;TZID=America/New_York:20201112T150000
DTEND;TZID=America/New_York:20201112T160000
DTSTAMP:20260423T131951
CREATED:20201030T130648Z
LAST-MODIFIED:20201112T083705Z
UID:7149-1605193200-1605196800@livenewcanaan.org
SUMMARY:Moda Training Chair Cardio and Strength
DESCRIPTION:FREE! This movement class are for those new to exercise\, recovering from an injury or a senior that needs a safe way to exercise. Especially for those who can’t get out of the house due to COVID. Light weights are optional!\nJoin us for a fun filled hour every Thursday on Zoom at 3 pm. Please email\nSuzanne for the meeting ID at suzanne@modatraining!
URL:https://livenewcanaan.org/event/moda-training-chair-cardio-and-strength-3/
LOCATION:CT
ATTACH;FMTTYPE=image/jpeg:https://livenewcanaan.org/wp-content/uploads/2020/10/7664db3b-4278-4cd8-8e6a-13438956c0f8-I6wRLI.tmp_.jpg
ORGANIZER;CN="Moda Training":MAILTO:Suzanne@modatraining.com
END:VEVENT
BEGIN:VEVENT
DTSTART;TZID=America/New_York:20201118T193000
DTEND;TZID=America/New_York:20201118T203000
DTSTAMP:20260423T131951
CREATED:20201102T194145Z
LAST-MODIFIED:20201118T083646Z
UID:7175-1605727800-1605731400@livenewcanaan.org
SUMMARY:Toddlertime Nursery School Open House
DESCRIPTION:We are thrilled to announce that early enrollment is now open for the 21-22 school year! We invite you to join us for a discussion about our exciting\, innovating and active learning experiences in a secure and nurturing environment. While enrollment season will look a bit different this year\, we are committed to giving prospective families an opportunity to understand what makes Toddlertime special. Don’t forget to ask about our Covid tuition refund policy. Please RSVP for the invitation/link to our upcoming Virtual Open House on November 18th at 7:30.
URL:https://livenewcanaan.org/event/toddlertime-nursery-school-open-house/
LOCATION:Zoom
CATEGORIES:For Children
ATTACH;FMTTYPE=image/jpeg:https://livenewcanaan.org/wp-content/uploads/2020/11/open-house-graphic-n7ohO8.tmp_.jpg
ORGANIZER;CN="Toddlertime Nursery School":MAILTO:office@toddlertimens.org
END:VEVENT
BEGIN:VEVENT
DTSTART;TZID=America/New_York:20201119T150000
DTEND;TZID=America/New_York:20201119T160000
DTSTAMP:20260423T131951
CREATED:20201102T194150Z
LAST-MODIFIED:20201119T083732Z
UID:7206-1605798000-1605801600@livenewcanaan.org
SUMMARY:Moda Training Chair Cardio and Strength
DESCRIPTION:FREE! This movement class are for those new to exercise\, recovering from an injury or a senior that needs a safe way to exercise. Especially for those who can’t get out of the house due to COVID. Light weights are optional!\nJoin us for a fun filled hour every Thursday on Zoom at 3 pm. Please email\nSuzanne for the meeting ID at suzanne@modatraining!
URL:https://livenewcanaan.org/event/moda-training-chair-cardio-and-strength-4/
LOCATION:CT
ATTACH;FMTTYPE=image/jpeg:https://livenewcanaan.org/wp-content/uploads/2020/10/7664db3b-4278-4cd8-8e6a-13438956c0f8-I6wRLI.tmp_.jpg
ORGANIZER;CN="Moda Training":MAILTO:Suzanne@modatraining.com
END:VEVENT
BEGIN:VEVENT
DTSTART;TZID=America/New_York:20201126T150000
DTEND;TZID=America/New_York:20201126T160000
DTSTAMP:20260423T131951
CREATED:20201102T194150Z
LAST-MODIFIED:20201126T090654Z
UID:7208-1606402800-1606406400@livenewcanaan.org
SUMMARY:Moda Training Chair Cardio and Strength
DESCRIPTION:FREE! This movement class are for those new to exercise\, recovering from an injury or a senior that needs a safe way to exercise. Especially for those who can’t get out of the house due to COVID. Light weights are optional!\nJoin us for a fun filled hour every Thursday on Zoom at 3 pm. Please email\nSuzanne for the meeting ID at suzanne@modatraining!
URL:https://livenewcanaan.org/event/moda-training-chair-cardio-and-strength-5/
LOCATION:CT
ATTACH;FMTTYPE=image/jpeg:https://livenewcanaan.org/wp-content/uploads/2020/10/7664db3b-4278-4cd8-8e6a-13438956c0f8-I6wRLI.tmp_.jpg
ORGANIZER;CN="Moda Training":MAILTO:Suzanne@modatraining.com
END:VEVENT
END:VCALENDAR