BEGIN:VCALENDAR
VERSION:2.0
PRODID:-//LiveNewCanaan - ECPv6.15.18//NONSGML v1.0//EN
CALSCALE:GREGORIAN
METHOD:PUBLISH
X-WR-CALNAME:LiveNewCanaan
X-ORIGINAL-URL:https://livenewcanaan.org
X-WR-CALDESC:Events for LiveNewCanaan
REFRESH-INTERVAL;VALUE=DURATION:PT1H
X-Robots-Tag:noindex
X-PUBLISHED-TTL:PT1H
BEGIN:VTIMEZONE
TZID:America/New_York
BEGIN:DAYLIGHT
TZOFFSETFROM:-0500
TZOFFSETTO:-0400
TZNAME:EDT
DTSTART:20190310T070000
END:DAYLIGHT
BEGIN:STANDARD
TZOFFSETFROM:-0400
TZOFFSETTO:-0500
TZNAME:EST
DTSTART:20191103T060000
END:STANDARD
BEGIN:DAYLIGHT
TZOFFSETFROM:-0500
TZOFFSETTO:-0400
TZNAME:EDT
DTSTART:20200308T070000
END:DAYLIGHT
BEGIN:STANDARD
TZOFFSETFROM:-0400
TZOFFSETTO:-0500
TZNAME:EST
DTSTART:20201101T060000
END:STANDARD
BEGIN:DAYLIGHT
TZOFFSETFROM:-0500
TZOFFSETTO:-0400
TZNAME:EDT
DTSTART:20210314T070000
END:DAYLIGHT
BEGIN:STANDARD
TZOFFSETFROM:-0400
TZOFFSETTO:-0500
TZNAME:EST
DTSTART:20211107T060000
END:STANDARD
END:VTIMEZONE
BEGIN:VEVENT
DTSTART;TZID=America/New_York:20200402T173000
DTEND;TZID=America/New_York:20200402T193000
DTSTAMP:20260424T001724
CREATED:20200318T175345Z
LAST-MODIFIED:20200402T130722Z
UID:4975-1585848600-1585855800@livenewcanaan.org
SUMMARY:Opening Reception – Exhibit: “About Women”
DESCRIPTION:The Lockwood-Mathews Mansion Museum in collaboration with Silvermine Arts Center will celebrate women’s artistic contributions by opening a new exhibition titled\, About Women\, on April 2\, 2020\, and runs through June 21\, 2020. Curated by Silvermine Gallery Director Roger Mudre\, the exhibition will feature selected works by female members of the Silvermine Guild of Artists—where renowned artists\, Elaine de Kooning\, Alice Neel\, Louise Nevelson\, Faith Ringgold and others socialized\, exchanged ideas\, and critiqued each other’s works for nearly a century— and provide an overview that will celebrate their diverse directions in subject matter and media and their contributions to contemporary art. The Lockwood-Mathews Mansion Museum will host an opening reception for the new exhibition on April 2nd; please RSVP by March 27th.
URL:https://livenewcanaan.org/event/opening-reception-exhibit-about-women/
LOCATION:Lockwood-Mathews Mansion\, 295 West Ave.\, Norwalk\, CT\, 06850
CATEGORIES:The Arts
ATTACH;FMTTYPE=image/jpeg:https://livenewcanaan.org/wp-content/uploads/2020/03/feminist-fatale-by-caroline-bergonzi.jpg
ORGANIZER;CN="Lockwood-Mathews Mansion Museum":MAILTO:info@lockwoodmathewsmansion.com
END:VEVENT
BEGIN:VEVENT
DTSTART;TZID=America/New_York:20200404T000000
DTEND;TZID=America/New_York:20200404T160000
DTSTAMP:20260424T001724
CREATED:20200318T175349Z
LAST-MODIFIED:20200402T130722Z
UID:4979-1585958400-1586016000@livenewcanaan.org
SUMMARY:Smithsonian Magazine’s Museum Day
DESCRIPTION:The Lockwood-Mathews Mansion Museum will open its doors free of charge to all Museum Day ticket holders as part of Smithsonian magazine’s 16th annual Museum Day\, a national celebration of boundless curiosity in which participating museums emulate the free admission policy at the Smithsonian Institution’s Washington D.C.-based museums. In celebration of this year’s theme on Earth Optimism\, the Museum’s Conservatory will be on view and docents will share with Museum Day visitors newly uncovered information highlighting the history of this room and the Mansion’s surrounding gardens during the mid-to-late 19th century.
URL:https://livenewcanaan.org/event/smithsonian-magazines-museum-day/
LOCATION:Lockwood-Mathews Mansion\, 295 West Ave.\, Norwalk\, CT\, 06850
CATEGORIES:Family Friendly Events
ATTACH;FMTTYPE=image/jpeg:https://livenewcanaan.org/wp-content/uploads/2020/03/20180426_sarah-grote-photo_0239-scaled-1.jpg
ORGANIZER;CN="Lockwood-Mathews Mansion Museum":MAILTO:info@lockwoodmathewsmansion.com
END:VEVENT
END:VCALENDAR