BEGIN:VCALENDAR
VERSION:2.0
PRODID:-//LiveNewCanaan - ECPv6.15.18//NONSGML v1.0//EN
CALSCALE:GREGORIAN
METHOD:PUBLISH
X-WR-CALNAME:LiveNewCanaan
X-ORIGINAL-URL:https://livenewcanaan.org
X-WR-CALDESC:Events for LiveNewCanaan
REFRESH-INTERVAL;VALUE=DURATION:PT1H
X-Robots-Tag:noindex
X-PUBLISHED-TTL:PT1H
BEGIN:VTIMEZONE
TZID:America/New_York
BEGIN:DAYLIGHT
TZOFFSETFROM:-0500
TZOFFSETTO:-0400
TZNAME:EDT
DTSTART:20200308T070000
END:DAYLIGHT
BEGIN:STANDARD
TZOFFSETFROM:-0400
TZOFFSETTO:-0500
TZNAME:EST
DTSTART:20201101T060000
END:STANDARD
BEGIN:DAYLIGHT
TZOFFSETFROM:-0500
TZOFFSETTO:-0400
TZNAME:EDT
DTSTART:20210314T070000
END:DAYLIGHT
BEGIN:STANDARD
TZOFFSETFROM:-0400
TZOFFSETTO:-0500
TZNAME:EST
DTSTART:20211107T060000
END:STANDARD
BEGIN:DAYLIGHT
TZOFFSETFROM:-0500
TZOFFSETTO:-0400
TZNAME:EDT
DTSTART:20220313T070000
END:DAYLIGHT
BEGIN:STANDARD
TZOFFSETFROM:-0400
TZOFFSETTO:-0500
TZNAME:EST
DTSTART:20221106T060000
END:STANDARD
END:VTIMEZONE
BEGIN:VEVENT
DTSTART;TZID=America/New_York:20210808T160000
DTEND;TZID=America/New_York:20210808T173000
DTSTAMP:20260421T105414
CREATED:20210709T111102Z
LAST-MODIFIED:20210709T111121Z
UID:8459-1628438400-1628443800@livenewcanaan.org
SUMMARY:New Canaan Chamber Music Summer Concert
DESCRIPTION:World-class pianist and New Canaan native Andrew Armstrong wll be joined in concert by Arnaud Sussman\, violinist and winner of an Avery Fisher grant\, and R.J. Kelley\, recognized as one of the foremost player of horns of every historical era.
URL:https://livenewcanaan.org/event/new-canaan-chamber-music-summer-concert/
LOCATION:First Presbyterian Church\, 178 Oenoke Ridge\, New Canaan\, CT\, United States
CATEGORIES:Family Friendly Events
ATTACH;FMTTYPE=image/jpeg:https://livenewcanaan.org/wp-content/uploads/2021/07/andrew-armstrong-pressweb2-copy-CgRydu.tmp_.jpg
ORGANIZER;CN="New Canaan Chamber Music":MAILTO:info@newcanaanchambermusic.org
END:VEVENT
BEGIN:VEVENT
DTSTART;TZID=America/New_York:20210828T140000
DTEND;TZID=America/New_York:20210828T160000
DTSTAMP:20260421T105414
CREATED:20210824T205001Z
LAST-MODIFIED:20210824T205001Z
UID:8714-1630159200-1630166400@livenewcanaan.org
SUMMARY:Newcomers Club of New Canaan Open House
DESCRIPTION:Are you new to town and would like to learn more about the Newcomers Club of New Canaan? Are you a current member that’s curious to learn more about upcoming events\, or would like to sign-up for one of our many clubs or playgroups? \nJoin the Newcomers Club of New Canaan at an Open House on Saturday\, August 28 from 2-4pm at Mead Park Playground. \nBring yourself or your family for a meet-and-greet with Newcomers Board members and to learn about the organization and membership. All are welcome. Adults\, children\, families\, couples and singles. We’ll be setup at a picnic table near the Playground at Mead Park – look for our pineapple balloon. \nRSVP not required but encouraged to membership@newcanaannewcomers.com.
URL:https://livenewcanaan.org/event/newcomers-club-of-new-canaan-open-house/
LOCATION:Mead Memorial Park\, 241 Park Street\, New Canaan\, CT\, 06840\, United States
CATEGORIES:Family Friendly Events
ATTACH;FMTTYPE=image/jpeg:https://livenewcanaan.org/wp-content/uploads/2021/08/98eb1683-0707-4db4-8c5b-e111f8f9dd86-xN1WyH.tmp_.jpg
END:VEVENT
END:VCALENDAR