BEGIN:VCALENDAR
VERSION:2.0
PRODID:-//LiveNewCanaan - ECPv6.15.18//NONSGML v1.0//EN
CALSCALE:GREGORIAN
METHOD:PUBLISH
X-ORIGINAL-URL:https://livenewcanaan.org
X-WR-CALDESC:Events for LiveNewCanaan
REFRESH-INTERVAL;VALUE=DURATION:PT1H
X-Robots-Tag:noindex
X-PUBLISHED-TTL:PT1H
BEGIN:VTIMEZONE
TZID:America/New_York
BEGIN:DAYLIGHT
TZOFFSETFROM:-0500
TZOFFSETTO:-0400
TZNAME:EDT
DTSTART:20190310T070000
END:DAYLIGHT
BEGIN:STANDARD
TZOFFSETFROM:-0400
TZOFFSETTO:-0500
TZNAME:EST
DTSTART:20191103T060000
END:STANDARD
BEGIN:DAYLIGHT
TZOFFSETFROM:-0500
TZOFFSETTO:-0400
TZNAME:EDT
DTSTART:20200308T070000
END:DAYLIGHT
BEGIN:STANDARD
TZOFFSETFROM:-0400
TZOFFSETTO:-0500
TZNAME:EST
DTSTART:20201101T060000
END:STANDARD
BEGIN:DAYLIGHT
TZOFFSETFROM:-0500
TZOFFSETTO:-0400
TZNAME:EDT
DTSTART:20210314T070000
END:DAYLIGHT
BEGIN:STANDARD
TZOFFSETFROM:-0400
TZOFFSETTO:-0500
TZNAME:EST
DTSTART:20211107T060000
END:STANDARD
END:VTIMEZONE
BEGIN:VEVENT
DTSTART;TZID=America/New_York:20200807T160000
DTEND;TZID=America/New_York:20200807T163000
DTSTAMP:20260422T075332
CREATED:20200623T093815Z
LAST-MODIFIED:20200807T103647Z
UID:6115-1596816000-1596817800@livenewcanaan.org
SUMMARY:Free Kids Live Trivia
DESCRIPTION:FREE weekly trivia every Friday at 4pm. \nSuitable for ages 6-12 years. \nThe password and pin changes for every game and will be posted on this group one hour beforehand. Simply join our private Facebook Group or message rachel@rockpaperscissors.events for the login.
URL:https://livenewcanaan.org/event/free-kids-live-trivia-7/
LOCATION:Online Event
CATEGORIES:Family Friendly Events
ATTACH;FMTTYPE=image/jpeg:https://livenewcanaan.org/wp-content/uploads/2020/06/welcome-screen-with-instructions-kids-scaled-tOaCZT.tmp_.jpg
ORGANIZER;CN="Rachel Lampen":MAILTO:rachel@lampen.co.uk
END:VEVENT
BEGIN:VEVENT
DTSTART;TZID=America/New_York:20200814T160000
DTEND;TZID=America/New_York:20200814T163000
DTSTAMP:20260422T075332
CREATED:20200624T093659Z
LAST-MODIFIED:20200814T105206Z
UID:6128-1597420800-1597422600@livenewcanaan.org
SUMMARY:Free Kids Live Trivia
DESCRIPTION:FREE weekly trivia every Friday at 4pm. \nSuitable for ages 6-12 years. \nThe password and pin changes for every game and will be posted on this group one hour beforehand. Simply join our private Facebook Group or message rachel@rockpaperscissors.events for the login.
URL:https://livenewcanaan.org/event/free-kids-live-trivia-8/
LOCATION:Online Event
CATEGORIES:Family Friendly Events
ATTACH;FMTTYPE=image/jpeg:https://livenewcanaan.org/wp-content/uploads/2020/06/welcome-screen-with-instructions-kids-scaled-tOaCZT.tmp_.jpg
ORGANIZER;CN="Rachel Lampen":MAILTO:rachel@lampen.co.uk
END:VEVENT
BEGIN:VEVENT
DTSTART;TZID=America/New_York:20200821T160000
DTEND;TZID=America/New_York:20200821T163000
DTSTAMP:20260422T075332
CREATED:20200702T100704Z
LAST-MODIFIED:20200821T112316Z
UID:6149-1598025600-1598027400@livenewcanaan.org
SUMMARY:Free Kids Live Trivia
DESCRIPTION:FREE weekly trivia every Friday at 4pm. \nSuitable for ages 6-12 years. \nThe password and pin changes for every game and will be posted on this group one hour beforehand. Simply join our private Facebook Group or message rachel@rockpaperscissors.events for the login.
URL:https://livenewcanaan.org/event/free-kids-live-trivia-9/
LOCATION:Online Event
CATEGORIES:Family Friendly Events
ATTACH;FMTTYPE=image/jpeg:https://livenewcanaan.org/wp-content/uploads/2020/06/welcome-screen-with-instructions-kids-scaled-tOaCZT.tmp_.jpg
ORGANIZER;CN="Rachel Lampen":MAILTO:rachel@lampen.co.uk
END:VEVENT
BEGIN:VEVENT
DTSTART;TZID=America/New_York:20200828T160000
DTEND;TZID=America/New_York:20200828T163000
DTSTAMP:20260422T075332
CREATED:20200704T101024Z
LAST-MODIFIED:20200828T112148Z
UID:6157-1598630400-1598632200@livenewcanaan.org
SUMMARY:Free Kids Live Trivia
DESCRIPTION:FREE weekly trivia every Friday at 4pm. \nSuitable for ages 6-12 years. \nThe password and pin changes for every game and will be posted on this group one hour beforehand. Simply join our private Facebook Group or message rachel@rockpaperscissors.events for the login.
URL:https://livenewcanaan.org/event/free-kids-live-trivia-10/
LOCATION:Online Event
CATEGORIES:Family Friendly Events
ATTACH;FMTTYPE=image/jpeg:https://livenewcanaan.org/wp-content/uploads/2020/06/welcome-screen-with-instructions-kids-scaled-tOaCZT.tmp_.jpg
ORGANIZER;CN="Rachel Lampen":MAILTO:rachel@lampen.co.uk
END:VEVENT
END:VCALENDAR