BEGIN:VCALENDAR
VERSION:2.0
PRODID:-//LiveNewCanaan - ECPv6.15.18//NONSGML v1.0//EN
CALSCALE:GREGORIAN
METHOD:PUBLISH
X-ORIGINAL-URL:https://livenewcanaan.org
X-WR-CALDESC:Events for LiveNewCanaan
REFRESH-INTERVAL;VALUE=DURATION:PT1H
X-Robots-Tag:noindex
X-PUBLISHED-TTL:PT1H
BEGIN:VTIMEZONE
TZID:America/New_York
BEGIN:DAYLIGHT
TZOFFSETFROM:-0500
TZOFFSETTO:-0400
TZNAME:EDT
DTSTART:20190310T070000
END:DAYLIGHT
BEGIN:STANDARD
TZOFFSETFROM:-0400
TZOFFSETTO:-0500
TZNAME:EST
DTSTART:20191103T060000
END:STANDARD
BEGIN:DAYLIGHT
TZOFFSETFROM:-0500
TZOFFSETTO:-0400
TZNAME:EDT
DTSTART:20200308T070000
END:DAYLIGHT
BEGIN:STANDARD
TZOFFSETFROM:-0400
TZOFFSETTO:-0500
TZNAME:EST
DTSTART:20201101T060000
END:STANDARD
BEGIN:DAYLIGHT
TZOFFSETFROM:-0500
TZOFFSETTO:-0400
TZNAME:EDT
DTSTART:20210314T070000
END:DAYLIGHT
BEGIN:STANDARD
TZOFFSETFROM:-0400
TZOFFSETTO:-0500
TZNAME:EST
DTSTART:20211107T060000
END:STANDARD
END:VTIMEZONE
BEGIN:VEVENT
DTSTART;TZID=America/New_York:20200626T160000
DTEND;TZID=America/New_York:20200626T163000
DTSTAMP:20260422T105947
CREATED:20200623T093812Z
LAST-MODIFIED:20200626T095323Z
UID:6105-1593187200-1593189000@livenewcanaan.org
SUMMARY:Free Kids Live Trivia
DESCRIPTION:FREE weekly trivia every Friday at 4pm. \nSuitable for ages 6-12 years. \nThe password and pin changes for every game and will be posted on this group one hour beforehand. Simply join our private Facebook Group or message rachel@rockpaperscissors.events for the login.
URL:https://livenewcanaan.org/event/free-kids-live-trivia/
LOCATION:Online Event
CATEGORIES:Family Friendly Events
ATTACH;FMTTYPE=image/jpeg:https://livenewcanaan.org/wp-content/uploads/2020/06/welcome-screen-with-instructions-kids-scaled-tOaCZT.tmp_.jpg
ORGANIZER;CN="Rachel Lampen":MAILTO:rachel@lampen.co.uk
END:VEVENT
END:VCALENDAR