BEGIN:VCALENDAR
VERSION:2.0
PRODID:-//LiveNewCanaan - ECPv6.15.18//NONSGML v1.0//EN
CALSCALE:GREGORIAN
METHOD:PUBLISH
X-WR-CALNAME:LiveNewCanaan
X-ORIGINAL-URL:https://livenewcanaan.org
X-WR-CALDESC:Events for LiveNewCanaan
REFRESH-INTERVAL;VALUE=DURATION:PT1H
X-Robots-Tag:noindex
X-PUBLISHED-TTL:PT1H
BEGIN:VTIMEZONE
TZID:America/New_York
BEGIN:DAYLIGHT
TZOFFSETFROM:-0500
TZOFFSETTO:-0400
TZNAME:EDT
DTSTART:20190310T070000
END:DAYLIGHT
BEGIN:STANDARD
TZOFFSETFROM:-0400
TZOFFSETTO:-0500
TZNAME:EST
DTSTART:20191103T060000
END:STANDARD
BEGIN:DAYLIGHT
TZOFFSETFROM:-0500
TZOFFSETTO:-0400
TZNAME:EDT
DTSTART:20200308T070000
END:DAYLIGHT
BEGIN:STANDARD
TZOFFSETFROM:-0400
TZOFFSETTO:-0500
TZNAME:EST
DTSTART:20201101T060000
END:STANDARD
BEGIN:DAYLIGHT
TZOFFSETFROM:-0500
TZOFFSETTO:-0400
TZNAME:EDT
DTSTART:20210314T070000
END:DAYLIGHT
BEGIN:STANDARD
TZOFFSETFROM:-0400
TZOFFSETTO:-0500
TZNAME:EST
DTSTART:20211107T060000
END:STANDARD
END:VTIMEZONE
BEGIN:VEVENT
DTSTART;TZID=America/New_York:20200516T093000
DTEND;TZID=America/New_York:20200516T234500
DTSTAMP:20260424T122026
CREATED:20200318T175828Z
LAST-MODIFIED:20200427T050853Z
UID:5087-1589621400-1589672700@livenewcanaan.org
SUMMARY:New Canaan Food Revolution
DESCRIPTION:The New Canaan Food Revolution\, founded by Jamie Oliver returns for a SIXTH year on Saturday\, May 16th between 9.30–11:45am.\nThe Food Trail was created to encourage children of all ages to sample small bites that they would never normally try. Food they haven’t heard of\, food that looks or smells different. \nToday children\, adults and families are strongly encouraged to participate – as long as you are wearing a special wristband. You earn a stamp for everything you taste and if you complete your passport then you get a BRAVERY CERTIFICATE and will be entered into a prize draw.\nRegistration and vendors will be located in front of New Canaan Town Hall with free parking at the back! Enjoy music from Mind The Gap. Proceeds will be going towards Food Rescue US. \nNew for 2020 is a Food Demonstration featuring Angela Baldanza and Author of Heirloom Kitchen\, Anna Francese Gass. These tickets will be available to purchase separately to the TRAIL.
URL:https://livenewcanaan.org/event/new-canaan-food-revolution/
LOCATION:New Canaan Town Hall\, 77 Main Street\, New Canaan\, CT\, 06840
CATEGORIES:Family Friendly Events
ORGANIZER;CN="Rachel Lampen":MAILTO:rachel@lampen.co.uk
END:VEVENT
END:VCALENDAR