BEGIN:VCALENDAR
VERSION:2.0
PRODID:-//LiveNewCanaan - ECPv6.15.18//NONSGML v1.0//EN
CALSCALE:GREGORIAN
METHOD:PUBLISH
X-ORIGINAL-URL:https://livenewcanaan.org
X-WR-CALDESC:Events for LiveNewCanaan
REFRESH-INTERVAL;VALUE=DURATION:PT1H
X-Robots-Tag:noindex
X-PUBLISHED-TTL:PT1H
BEGIN:VTIMEZONE
TZID:America/New_York
BEGIN:DAYLIGHT
TZOFFSETFROM:-0500
TZOFFSETTO:-0400
TZNAME:EDT
DTSTART:20220313T070000
END:DAYLIGHT
BEGIN:STANDARD
TZOFFSETFROM:-0400
TZOFFSETTO:-0500
TZNAME:EST
DTSTART:20221106T060000
END:STANDARD
BEGIN:DAYLIGHT
TZOFFSETFROM:-0500
TZOFFSETTO:-0400
TZNAME:EDT
DTSTART:20230312T070000
END:DAYLIGHT
BEGIN:STANDARD
TZOFFSETFROM:-0400
TZOFFSETTO:-0500
TZNAME:EST
DTSTART:20231105T060000
END:STANDARD
BEGIN:DAYLIGHT
TZOFFSETFROM:-0500
TZOFFSETTO:-0400
TZNAME:EDT
DTSTART:20240310T070000
END:DAYLIGHT
BEGIN:STANDARD
TZOFFSETFROM:-0400
TZOFFSETTO:-0500
TZNAME:EST
DTSTART:20241103T060000
END:STANDARD
END:VTIMEZONE
BEGIN:VEVENT
DTSTART;TZID=America/New_York:20230602T080000
DTEND;TZID=America/New_York:20230624T170000
DTSTAMP:20260420T165806
CREATED:20230523T205131Z
LAST-MODIFIED:20230523T205131Z
UID:11989-1685692800-1687626000@livenewcanaan.org
SUMMARY:Art In The Windows Call for Submissions Including Youth Category – Presented by the Carriage Barn
DESCRIPTION:Art In The Windows Call for Submissions Including Youth Category – Presented by the Carriage Barn\nSubmission Deadline May 7\nArtists are invited to submit work to be showcased in downtown store windows. New Canaan’s premier retailers participate in this annual event\, creating a strolling gallery by exhibiting original painting\, photographs or sculpture in each participating establishment and its windows.\nYouth category for artists ages 5-16. Selected works will be displayed in designated store windows or in a special youth gallery in town.\nArt In The Windows runs from June 2 – June 24.\nArt Stroll Kick Off Event Friday June 2 from 5-7 pm \n\nArt In The Windows Submission
URL:https://livenewcanaan.org/event/art-in-the-windows-call-for-submissions-including-youth-category-presented-by-the-carriage-barn/
LOCATION:Downtown New Canaan Store Windows\, Elm Street\, New Canaan\, CT\, 06840\, United States
CATEGORIES:Carriage Barn Arts Center Event
ATTACH;FMTTYPE=image/jpeg:https://livenewcanaan.org/wp-content/uploads/2023/05/call-for-entry-A92elt.tmp_.jpg
ORGANIZER;CN="Carriage Barn Arts Center":MAILTO:admin@carriagebarn.org
END:VEVENT
BEGIN:VEVENT
DTSTART;TZID=America/New_York:20230611T180000
DTEND;TZID=America/New_York:20230611T200000
DTSTAMP:20260420T165806
CREATED:20230523T205151Z
LAST-MODIFIED:20230523T205151Z
UID:12018-1686506400-1686513600@livenewcanaan.org
SUMMARY:New Canaan Pops in the Park
DESCRIPTION:WELCOME TO THE 2ND ANNUAL POPS IN THE PARK concert featuring the Norwalk Symphony Orchestra! New Canaan Pops in the Park\, Inc. is pleased to share a beautiful evening of music with all of you — our very special guests. This year\, we feature “A Night in Hollywood” as our theme for the evening\, with an emphasis on music featured in movies and television. Inspired by the Boston Pops concerts on Cape Cod and Nantucket and the NY Philharmonic’s summer concerts in Central Park this evening is one that is sure to delight audiences of all ages. Join us with your picnic baskets as concertgoers gather on lawn chairs and blankets for a summer evening of lively classical music. \nTickets are free and you must reserve them through Eventbrite as we are limited to 1500 attendees.
URL:https://livenewcanaan.org/event/new-canaan-pops-in-the-park/
LOCATION:Waveny Park
ATTACH;FMTTYPE=image/jpeg:https://livenewcanaan.org/wp-content/uploads/2023/05/PITP23.FB-POST-1-scaled-AlZUHe.tmp_.jpg
END:VEVENT
END:VCALENDAR