BEGIN:VCALENDAR
VERSION:2.0
PRODID:-//LiveNewCanaan - ECPv6.15.18//NONSGML v1.0//EN
CALSCALE:GREGORIAN
METHOD:PUBLISH
X-ORIGINAL-URL:https://livenewcanaan.org
X-WR-CALDESC:Events for LiveNewCanaan
REFRESH-INTERVAL;VALUE=DURATION:PT1H
X-Robots-Tag:noindex
X-PUBLISHED-TTL:PT1H
BEGIN:VTIMEZONE
TZID:America/New_York
BEGIN:DAYLIGHT
TZOFFSETFROM:-0500
TZOFFSETTO:-0400
TZNAME:EDT
DTSTART:20220313T070000
END:DAYLIGHT
BEGIN:STANDARD
TZOFFSETFROM:-0400
TZOFFSETTO:-0500
TZNAME:EST
DTSTART:20221106T060000
END:STANDARD
BEGIN:DAYLIGHT
TZOFFSETFROM:-0500
TZOFFSETTO:-0400
TZNAME:EDT
DTSTART:20230312T070000
END:DAYLIGHT
BEGIN:STANDARD
TZOFFSETFROM:-0400
TZOFFSETTO:-0500
TZNAME:EST
DTSTART:20231105T060000
END:STANDARD
BEGIN:DAYLIGHT
TZOFFSETFROM:-0500
TZOFFSETTO:-0400
TZNAME:EDT
DTSTART:20240310T070000
END:DAYLIGHT
BEGIN:STANDARD
TZOFFSETFROM:-0400
TZOFFSETTO:-0500
TZNAME:EST
DTSTART:20241103T060000
END:STANDARD
END:VTIMEZONE
BEGIN:VEVENT
DTSTART;TZID=America/New_York:20230421T200000
DTEND;TZID=America/New_York:20230421T220000
DTSTAMP:20260420T195539
CREATED:20230401T021904Z
LAST-MODIFIED:20230413T161632Z
UID:11661-1682107200-1682114400@livenewcanaan.org
SUMMARY:DROP DEAD by Billy Van Zandt and Jane Milmore (a comedy murder mystery)
DESCRIPTION:Drop Dead!” is a play about a bad stage production\, similar to “The Play That Goes Wrong”. Most of the action takes place on a stage that has to be transformed to resemble the low-budget “off-off-off-off Broadway” stage called for in the script.\nThe stage\, which is said to have been created on a $35 budget\, is complete with uneven walls and defective props. Even the furniture is painted into the background.\nAt Town Players of New Canaan\, we’re so used to doing all the little things that make a set look really good\, this is gonna be a challenge to continually remind ourselves NOT to do those things\, and rather to make the set look the part!\nTickets for sale at: TPNC.ORG FINAL WEEKEND!\nBUT we also have a new season coming soon\, and lots of special events and staged readings throughout the Summer. So sign up for our newsletter to stay “in the know!” for events and auditions. Send Email to: INFO@TPNC.ORG
URL:https://livenewcanaan.org/event/drop-dead-by-billy-van-zandt-and-jane-milmore-a-comedy-murder-mystery-4/
LOCATION:Powerhouse Theater\, Waveny Park\, 679 South Avenue\, New Canaan\, CT\, 06840\, United States
CATEGORIES:Town Players of New Canaan
ATTACH;FMTTYPE=image/jpeg:https://livenewcanaan.org/wp-content/uploads/2023/03/922F5C18-0FFC-4279-A6BC-1CCD79467A8C-7One4h.tmp_.jpg
ORGANIZER;CN="Town Players of New Canaan":MAILTO:info@tpnc.org
END:VEVENT
BEGIN:VEVENT
DTSTART;TZID=America/New_York:20230422T200000
DTEND;TZID=America/New_York:20230422T220000
DTSTAMP:20260420T195539
CREATED:20230401T021905Z
LAST-MODIFIED:20230413T161632Z
UID:11663-1682193600-1682200800@livenewcanaan.org
SUMMARY:DROP DEAD by Billy Van Zandt and Jane Milmore (a comedy murder mystery)
DESCRIPTION:Drop Dead!” is a play about a bad stage production\, similar to “The Play That Goes Wrong”. Most of the action takes place on a stage that has to be transformed to resemble the low-budget “off-off-off-off Broadway” stage called for in the script.\nThe stage\, which is said to have been created on a $35 budget\, is complete with uneven walls and defective props. Even the furniture is painted into the background.\nAt Town Players of New Canaan\, we’re so used to doing all the little things that make a set look really good\, this is gonna be a challenge to continually remind ourselves NOT to do those things\, and rather to make the set look the part!\nTickets for sale at: TPNC.ORG FINAL WEEKEND!\nBUT we also have a new season coming soon\, and lots of special events and staged readings throughout the Summer. So sign up for our newsletter to stay “in the know!” for events and auditions. Send Email to: INFO@TPNC.ORG
URL:https://livenewcanaan.org/event/drop-dead-by-billy-van-zandt-and-jane-milmore-a-comedy-murder-mystery-5/
LOCATION:Powerhouse Theater\, Waveny Park\, 679 South Avenue\, New Canaan\, CT\, 06840\, United States
CATEGORIES:Town Players of New Canaan
ATTACH;FMTTYPE=image/jpeg:https://livenewcanaan.org/wp-content/uploads/2023/03/922F5C18-0FFC-4279-A6BC-1CCD79467A8C-7One4h.tmp_.jpg
ORGANIZER;CN="Town Players of New Canaan":MAILTO:info@tpnc.org
END:VEVENT
BEGIN:VEVENT
DTSTART;TZID=America/New_York:20230423T140000
DTEND;TZID=America/New_York:20230423T160000
DTSTAMP:20260420T195539
CREATED:20230401T021906Z
LAST-MODIFIED:20230413T161632Z
UID:11666-1682258400-1682265600@livenewcanaan.org
SUMMARY:DROP DEAD by Billy Van Zandt and Jane Milmore (a comedy murder mystery)
DESCRIPTION:Drop Dead!” is a play about a bad stage production\, similar to “The Play That Goes Wrong”. Most of the action takes place on a stage that has to be transformed to resemble the low-budget “off-off-off-off Broadway” stage called for in the script.\nThe stage\, which is said to have been created on a $35 budget\, is complete with uneven walls and defective props. Even the furniture is painted into the background.\nAt Town Players of New Canaan\, we’re so used to doing all the little things that make a set look really good\, this is gonna be a challenge to continually remind ourselves NOT to do those things\, and rather to make the set look the part!\nTickets for sale at: TPNC.ORG FINAL WEEKEND!\nBUT we also have a new season coming soon\, and lots of special events and staged readings throughout the Summer. So sign up for our newsletter to stay “in the know!” for events and auditions. Send Email to: INFO@TPNC.ORG
URL:https://livenewcanaan.org/event/drop-dead-by-billy-van-zandt-and-jane-milmore-a-comedy-murder-mystery-6/
LOCATION:Powerhouse Theater\, Waveny Park\, 679 South Avenue\, New Canaan\, CT\, 06840\, United States
CATEGORIES:Town Players of New Canaan
ATTACH;FMTTYPE=image/jpeg:https://livenewcanaan.org/wp-content/uploads/2023/03/922F5C18-0FFC-4279-A6BC-1CCD79467A8C-7One4h.tmp_.jpg
ORGANIZER;CN="Town Players of New Canaan":MAILTO:info@tpnc.org
END:VEVENT
END:VCALENDAR