BEGIN:VCALENDAR
VERSION:2.0
PRODID:-//LiveNewCanaan - ECPv6.15.18//NONSGML v1.0//EN
CALSCALE:GREGORIAN
METHOD:PUBLISH
X-WR-CALNAME:LiveNewCanaan
X-ORIGINAL-URL:https://livenewcanaan.org
X-WR-CALDESC:Events for LiveNewCanaan
REFRESH-INTERVAL;VALUE=DURATION:PT1H
X-Robots-Tag:noindex
X-PUBLISHED-TTL:PT1H
BEGIN:VTIMEZONE
TZID:America/New_York
BEGIN:DAYLIGHT
TZOFFSETFROM:-0500
TZOFFSETTO:-0400
TZNAME:EDT
DTSTART:20210314T070000
END:DAYLIGHT
BEGIN:STANDARD
TZOFFSETFROM:-0400
TZOFFSETTO:-0500
TZNAME:EST
DTSTART:20211107T060000
END:STANDARD
BEGIN:DAYLIGHT
TZOFFSETFROM:-0500
TZOFFSETTO:-0400
TZNAME:EDT
DTSTART:20220313T070000
END:DAYLIGHT
BEGIN:STANDARD
TZOFFSETFROM:-0400
TZOFFSETTO:-0500
TZNAME:EST
DTSTART:20221106T060000
END:STANDARD
BEGIN:DAYLIGHT
TZOFFSETFROM:-0500
TZOFFSETTO:-0400
TZNAME:EDT
DTSTART:20230312T070000
END:DAYLIGHT
BEGIN:STANDARD
TZOFFSETFROM:-0400
TZOFFSETTO:-0500
TZNAME:EST
DTSTART:20231105T060000
END:STANDARD
END:VTIMEZONE
BEGIN:VEVENT
DTSTART;TZID=America/New_York:20221118T200000
DTEND;TZID=America/New_York:20221118T220000
DTSTAMP:20260421T041647
CREATED:20221109T103216Z
LAST-MODIFIED:20221109T112517Z
UID:10964-1668801600-1668808800@livenewcanaan.org
SUMMARY:JOYFUL NOISE by Tim Slover (similar to Amadeus\, but about Handel’s Messiah)
DESCRIPTION:A joyful play that “hits all the right notes”! Clever and funny as well as inspiring. If you love Handel’s Messiah\, this play is a MUST SEE!\nBased on actual historical facts of the composing of Handel’s Messiah. This play has the feel of a juicy soap opera\, with dueling diva sopranos\, a plot combining religious protest\, political alienation\, social humiliation\, and a sex scandal.\nIt’s the year 1741 and George Frederick Handel is in trouble: his last opera flopped\, he is no longer in favor with King George II and preachers are raging that his latest work is blasphemous. In this climate\, he struggles to present “The Messiah.” Handel’s travails are linked with those of his leading soprano. Forced into retirement because of a scandal\, she is slated to make her comeback in his new masterpiece and fears a nasty reception. A malicious\, back stabbing alternate is waiting in the wings to replace her. A devious bishop and Handel’s bulky librettist add to the conflict in this true story of the politics and passion that nearly prevented “The Messiah” from ever being performed. \nTickets for sale at: TPNC.ORG .\nThe show runs for 3 weekends only.\nBUT we also have a line-up of other TERRIFIC and rarely produced shows this season! Visit TPNC.ORG for all info and tickets to:\nFeb. 17-March 5 – ORDINARY PEOPLE (based on the Oscar-winning movie)\nApril 21-May 7 – DROP DEAD (a comedy murder mystery)
URL:https://livenewcanaan.org/event/joyful-noise-by-tim-slover-similar-to-amadeus-but-about-handels-messiah/
LOCATION:Powerhouse Theater\, Waveny Park\, 679 South Avenue\, New Canaan\, CT\, 06840\, United States
CATEGORIES:Town Players of New Canaan
ATTACH;FMTTYPE=image/jpeg:https://livenewcanaan.org/wp-content/uploads/2022/11/86462441-2AF9-403D-80AE-BA5E91072477-pNK8w1.tmp_.jpg
ORGANIZER;CN="Town Players of New Canaan":MAILTO:info@tpnc.org
END:VEVENT
BEGIN:VEVENT
DTSTART;TZID=America/New_York:20221119T200000
DTEND;TZID=America/New_York:20221119T220000
DTSTAMP:20260421T041647
CREATED:20221109T103219Z
LAST-MODIFIED:20221109T112518Z
UID:10972-1668888000-1668895200@livenewcanaan.org
SUMMARY:JOYFUL NOISE by Tim Slover (similar to Amadeus\, but about Handel’s Messiah)
DESCRIPTION:A joyful play that “hits all the right notes”! Clever and funny as well as inspiring. If you love Handel’s Messiah\, this play is a MUST SEE!\nBased on actual historical facts of the composing of Handel’s Messiah. This play has the feel of a juicy soap opera\, with dueling diva sopranos\, a plot combining religious protest\, political alienation\, social humiliation\, and a sex scandal.\nIt’s the year 1741 and George Frederick Handel is in trouble: his last opera flopped\, he is no longer in favor with King George II and preachers are raging that his latest work is blasphemous. In this climate\, he struggles to present “The Messiah.” Handel’s travails are linked with those of his leading soprano. Forced into retirement because of a scandal\, she is slated to make her comeback in his new masterpiece and fears a nasty reception. A malicious\, back stabbing alternate is waiting in the wings to replace her. A devious bishop and Handel’s bulky librettist add to the conflict in this true story of the politics and passion that nearly prevented “The Messiah” from ever being performed. \nTickets for sale at: TPNC.ORG .\nThe show runs for 3 weekends only.\nBUT we also have a line-up of other TERRIFIC and rarely produced shows this season! Visit TPNC.ORG for all info and tickets to:\nFeb. 17-March 5 – ORDINARY PEOPLE (based on the Oscar-winning movie)\nApril 21-May 7 – DROP DEAD (a comedy murder mystery)
URL:https://livenewcanaan.org/event/joyful-noise-by-tim-slover-similar-to-amadeus-but-about-handels-messiah-2/
LOCATION:Powerhouse Theater\, Waveny Park\, 679 South Avenue\, New Canaan\, CT\, 06840\, United States
CATEGORIES:Town Players of New Canaan
ATTACH;FMTTYPE=image/jpeg:https://livenewcanaan.org/wp-content/uploads/2022/11/86462441-2AF9-403D-80AE-BA5E91072477-pNK8w1.tmp_.jpg
ORGANIZER;CN="Town Players of New Canaan":MAILTO:info@tpnc.org
END:VEVENT
BEGIN:VEVENT
DTSTART;TZID=America/New_York:20221120T140000
DTEND;TZID=America/New_York:20221120T160000
DTSTAMP:20260421T041647
CREATED:20221109T103220Z
LAST-MODIFIED:20221109T112518Z
UID:10977-1668952800-1668960000@livenewcanaan.org
SUMMARY:JOYFUL NOISE by Tim Slover (similar to Amadeus\, but about Handel’s Messiah)
DESCRIPTION:A joyful play that “hits all the right notes”! Clever and funny as well as inspiring. If you love Handel’s Messiah\, this play is a MUST SEE!\nBased on actual historical facts of the composing of Handel’s Messiah. This play has the feel of a juicy soap opera\, with dueling diva sopranos\, a plot combining religious protest\, political alienation\, social humiliation\, and a sex scandal.\nIt’s the year 1741 and George Frederick Handel is in trouble: his last opera flopped\, he is no longer in favor with King George II and preachers are raging that his latest work is blasphemous. In this climate\, he struggles to present “The Messiah.” Handel’s travails are linked with those of his leading soprano. Forced into retirement because of a scandal\, she is slated to make her comeback in his new masterpiece and fears a nasty reception. A malicious\, back stabbing alternate is waiting in the wings to replace her. A devious bishop and Handel’s bulky librettist add to the conflict in this true story of the politics and passion that nearly prevented “The Messiah” from ever being performed. \nTickets for sale at: TPNC.ORG .\nThe show runs for 3 weekends only.\nBUT we also have a line-up of other TERRIFIC and rarely produced shows this season! Visit TPNC.ORG for all info and tickets to:\nFeb. 17-March 5 – ORDINARY PEOPLE (based on the Oscar-winning movie)\nApril 21-May 7 – DROP DEAD (a comedy murder mystery)
URL:https://livenewcanaan.org/event/joyful-noise-by-tim-slover-similar-to-amadeus-but-about-handels-messiah-3/
LOCATION:Powerhouse Theater\, Waveny Park\, 679 South Avenue\, New Canaan\, CT\, 06840\, United States
CATEGORIES:Town Players of New Canaan
ATTACH;FMTTYPE=image/jpeg:https://livenewcanaan.org/wp-content/uploads/2022/11/86462441-2AF9-403D-80AE-BA5E91072477-pNK8w1.tmp_.jpg
ORGANIZER;CN="Town Players of New Canaan":MAILTO:info@tpnc.org
END:VEVENT
END:VCALENDAR