BEGIN:VCALENDAR
VERSION:2.0
PRODID:-//LiveNewCanaan - ECPv6.15.18//NONSGML v1.0//EN
CALSCALE:GREGORIAN
METHOD:PUBLISH
X-WR-CALNAME:LiveNewCanaan
X-ORIGINAL-URL:https://livenewcanaan.org
X-WR-CALDESC:Events for LiveNewCanaan
REFRESH-INTERVAL;VALUE=DURATION:PT1H
X-Robots-Tag:noindex
X-PUBLISHED-TTL:PT1H
BEGIN:VTIMEZONE
TZID:America/New_York
BEGIN:DAYLIGHT
TZOFFSETFROM:-0500
TZOFFSETTO:-0400
TZNAME:EDT
DTSTART:20200308T070000
END:DAYLIGHT
BEGIN:STANDARD
TZOFFSETFROM:-0400
TZOFFSETTO:-0500
TZNAME:EST
DTSTART:20201101T060000
END:STANDARD
BEGIN:DAYLIGHT
TZOFFSETFROM:-0500
TZOFFSETTO:-0400
TZNAME:EDT
DTSTART:20210314T070000
END:DAYLIGHT
BEGIN:STANDARD
TZOFFSETFROM:-0400
TZOFFSETTO:-0500
TZNAME:EST
DTSTART:20211107T060000
END:STANDARD
BEGIN:DAYLIGHT
TZOFFSETFROM:-0500
TZOFFSETTO:-0400
TZNAME:EDT
DTSTART:20220313T070000
END:DAYLIGHT
BEGIN:STANDARD
TZOFFSETFROM:-0400
TZOFFSETTO:-0500
TZNAME:EST
DTSTART:20221106T060000
END:STANDARD
END:VTIMEZONE
BEGIN:VEVENT
DTSTART;TZID=America/New_York:20211023T180000
DTEND;TZID=America/New_York:20211023T213000
DTSTAMP:20260422T004631
CREATED:20211022T154449Z
LAST-MODIFIED:20211022T154518Z
UID:9203-1635012000-1635024600@livenewcanaan.org
SUMMARY:A Spooky Soiree for the Arts!
DESCRIPTION:A Party Is Brewing… \nJoin us for an Evening of Spirits & Drama to support the Arts in New Canaan \nSaturday\, October 23 \nHaunted Cocktail Soirée @ The Carriage Barn / 6pm\nPerformance of The Turn of the Screw @ The Powerhouse Theater / 8pm \n$75 – Includes admission to cocktail soiree and play \n$200 – Includes admission to cocktail soiree\, reserved theater seating\, and a one year membership to the Carriage Barn Arts Center.
URL:https://livenewcanaan.org/event/a-spooky-soiree-for-the-arts/
LOCATION:Powerhouse Theater\, Waveny Park\, 679 South Avenue\, New Canaan\, CT\, 06840\, United States
CATEGORIES:Carriage Barn Arts Center Event,Town Players of New Canaan
ATTACH;FMTTYPE=image/png:https://livenewcanaan.org/wp-content/uploads/2021/10/haunted-soiree-3-Iwm0IQ.tmp_.png
ORGANIZER;CN="Carriage Barn Arts Center":MAILTO:admin@carriagebarn.org
END:VEVENT
END:VCALENDAR