BEGIN:VCALENDAR
VERSION:2.0
PRODID:-//LiveNewCanaan - ECPv6.15.18//NONSGML v1.0//EN
CALSCALE:GREGORIAN
METHOD:PUBLISH
X-WR-CALNAME:LiveNewCanaan
X-ORIGINAL-URL:https://livenewcanaan.org
X-WR-CALDESC:Events for LiveNewCanaan
REFRESH-INTERVAL;VALUE=DURATION:PT1H
X-Robots-Tag:noindex
X-PUBLISHED-TTL:PT1H
BEGIN:VTIMEZONE
TZID:America/New_York
BEGIN:DAYLIGHT
TZOFFSETFROM:-0500
TZOFFSETTO:-0400
TZNAME:EDT
DTSTART:20190310T070000
END:DAYLIGHT
BEGIN:STANDARD
TZOFFSETFROM:-0400
TZOFFSETTO:-0500
TZNAME:EST
DTSTART:20191103T060000
END:STANDARD
BEGIN:DAYLIGHT
TZOFFSETFROM:-0500
TZOFFSETTO:-0400
TZNAME:EDT
DTSTART:20200308T070000
END:DAYLIGHT
BEGIN:STANDARD
TZOFFSETFROM:-0400
TZOFFSETTO:-0500
TZNAME:EST
DTSTART:20201101T060000
END:STANDARD
BEGIN:DAYLIGHT
TZOFFSETFROM:-0500
TZOFFSETTO:-0400
TZNAME:EDT
DTSTART:20210314T070000
END:DAYLIGHT
BEGIN:STANDARD
TZOFFSETFROM:-0400
TZOFFSETTO:-0500
TZNAME:EST
DTSTART:20211107T060000
END:STANDARD
END:VTIMEZONE
BEGIN:VEVENT
DTSTART;TZID=America/New_York:20200623T093000
DTEND;TZID=America/New_York:20200623T163000
DTSTAMP:20260423T011423
CREATED:20200611T085146Z
LAST-MODIFIED:20200623T093811Z
UID:6008-1592904600-1592929800@livenewcanaan.org
SUMMARY:New Canaan Museum & Historical Society Reopens
DESCRIPTION:The New Canaan Museum & Historical Society will be reopening to the public on June 23rd. Tours of the house museums\, including the Cody Pharmacy\, the Hanford-Silliman House\, the Rock School\, the Tool Museum and the Little Red Schoolhouse\, will be available to individuals or families that have been sheltering in place together by appointment. The research library will be open with limited capacity so reservations are recommended. Visitors will be asked to wear masks and have their temperatures taken; researchers will need to also wear gloves. Equipment will be provided. “We are excited to welcome the public back to the Museum\,” said Nancy Geary\, Executive Director. “Even though we will remain socially distanced\, we can share many of the wonderful assets on our campus. It is a great time to come explore historical New Canaan.” The research library will be open Tuesday-Friday 9:30-4:30. Tours are also available on Saturdays. And the beautiful lawn is available for picnics. For more information\, or to make a reservation\, please call 203-966-1776 ext. 2 or email info@nchistory.org.
URL:https://livenewcanaan.org/event/new-canaan-museum-historical-society-reopens/
LOCATION:New Canaan Museum & Historical Society\, 13 Oenoke Ridge\, NEW CANAAN\, 06840
CATEGORIES:Family Friendly Events,Historical Society Event
ATTACH;FMTTYPE=image/jpeg:https://livenewcanaan.org/wp-content/uploads/2020/06/cody-drug-store-2-1-1-1-1-qi88Au.tmp_.jpg
ORGANIZER;CN="New Canaan Museum &amp%3B Historical Society":MAILTO:info@nchisotry.org.
END:VEVENT
END:VCALENDAR