BEGIN:VCALENDAR
VERSION:2.0
PRODID:-//LiveNewCanaan - ECPv6.15.18//NONSGML v1.0//EN
CALSCALE:GREGORIAN
METHOD:PUBLISH
X-WR-CALNAME:LiveNewCanaan
X-ORIGINAL-URL:https://livenewcanaan.org
X-WR-CALDESC:Events for LiveNewCanaan
REFRESH-INTERVAL;VALUE=DURATION:PT1H
X-Robots-Tag:noindex
X-PUBLISHED-TTL:PT1H
BEGIN:VTIMEZONE
TZID:America/New_York
BEGIN:DAYLIGHT
TZOFFSETFROM:-0500
TZOFFSETTO:-0400
TZNAME:EDT
DTSTART:20190310T070000
END:DAYLIGHT
BEGIN:STANDARD
TZOFFSETFROM:-0400
TZOFFSETTO:-0500
TZNAME:EST
DTSTART:20191103T060000
END:STANDARD
BEGIN:DAYLIGHT
TZOFFSETFROM:-0500
TZOFFSETTO:-0400
TZNAME:EDT
DTSTART:20200308T070000
END:DAYLIGHT
BEGIN:STANDARD
TZOFFSETFROM:-0400
TZOFFSETTO:-0500
TZNAME:EST
DTSTART:20201101T060000
END:STANDARD
BEGIN:DAYLIGHT
TZOFFSETFROM:-0500
TZOFFSETTO:-0400
TZNAME:EDT
DTSTART:20210314T070000
END:DAYLIGHT
BEGIN:STANDARD
TZOFFSETFROM:-0400
TZOFFSETTO:-0500
TZNAME:EST
DTSTART:20211107T060000
END:STANDARD
END:VTIMEZONE
BEGIN:VEVENT
DTSTART;TZID=America/New_York:20200410T110000
DTEND;TZID=America/New_York:20200410T151500
DTSTAMP:20260426T001756
CREATED:20200318T175358Z
LAST-MODIFIED:20200325T132537Z
UID:4998-1586516400-1586531700@livenewcanaan.org
SUMMARY:New Canaan Nature Center’s Great Egg Hunts
DESCRIPTION:Perfect for children\, ages 2-10\, our egg hunts are designed for smaller groups (approximately 25 per hunt) and\, in addition to the hunt\, include an egg & spoon obstacle course and meet & greet with our baby chicks & bunny rabbits. Just BYOB (bring your own basket) for collecting eggs (which contain nature-themed prizes and nut-free sweets). \nRain or shine. \nMembers: $10/child\nNon-Members: $15/child \nJoin us for one of 11 egg hunt times!\nThursday\, April 9th: 12:30pm\, 1:45pm\, or 3:00pm \nFriday\, April 10th: 11:00am\, 12:00pm\, 1:30pm\, or 2:30pm \nSaturday\, April 11th: 11:00am\, 12:00pm\, 1:30pm\, or 2:30pm \nOnline Registration: Coming Soon!
URL:https://livenewcanaan.org/event/new-canaan-nature-centers-great-egg-hunts-2/
LOCATION:New Canaan Nature Center\, 144 Oenoke Ridge\, New Canaan\, CT\, United States
CATEGORIES:New Canaan Nature Center Events
ATTACH;FMTTYPE=image/jpeg:https://livenewcanaan.org/wp-content/uploads/2020/03/egg-hunts2020-1.jpg
ORGANIZER;CN="New Canaan Nature Center":MAILTO:jrayher@newcanaannature.org
END:VEVENT
BEGIN:VEVENT
DTSTART;TZID=America/New_York:20200411T110000
DTEND;TZID=America/New_York:20200411T151500
DTSTAMP:20260426T001756
CREATED:20200318T175400Z
LAST-MODIFIED:20200325T132537Z
UID:5001-1586602800-1586618100@livenewcanaan.org
SUMMARY:New Canaan Nature Center’s Great Egg Hunts
DESCRIPTION:Perfect for children\, ages 2-10\, our egg hunts are designed for smaller groups (approximately 25 per hunt) and\, in addition to the hunt\, include an egg & spoon obstacle course and meet & greet with our baby chicks & bunny rabbits. Just BYOB (bring your own basket) for collecting eggs (which contain nature-themed prizes and nut-free sweets). \nRain or shine. \nMembers: $10/child\nNon-Members: $15/child \nJoin us for one of 11 egg hunt times!\nThursday\, April 9th: 12:30pm\, 1:45pm\, or 3:00pm \nFriday\, April 10th: 11:00am\, 12:00pm\, 1:30pm\, or 2:30pm \nSaturday\, April 11th: 11:00am\, 12:00pm\, 1:30pm\, or 2:30pm \nOnline Registration: Coming Soon!
URL:https://livenewcanaan.org/event/new-canaan-nature-centers-great-egg-hunts-3/
LOCATION:New Canaan Nature Center\, 144 Oenoke Ridge\, New Canaan\, CT\, United States
CATEGORIES:New Canaan Nature Center Events
ATTACH;FMTTYPE=image/jpeg:https://livenewcanaan.org/wp-content/uploads/2020/03/egg-hunts2020-1.jpg
ORGANIZER;CN="New Canaan Nature Center":MAILTO:jrayher@newcanaannature.org
END:VEVENT
END:VCALENDAR