BEGIN:VCALENDAR
VERSION:2.0
PRODID:-//LiveNewCanaan - ECPv6.15.18//NONSGML v1.0//EN
CALSCALE:GREGORIAN
METHOD:PUBLISH
X-WR-CALNAME:LiveNewCanaan
X-ORIGINAL-URL:https://livenewcanaan.org
X-WR-CALDESC:Events for LiveNewCanaan
REFRESH-INTERVAL;VALUE=DURATION:PT1H
X-Robots-Tag:noindex
X-PUBLISHED-TTL:PT1H
BEGIN:VTIMEZONE
TZID:America/New_York
BEGIN:DAYLIGHT
TZOFFSETFROM:-0500
TZOFFSETTO:-0400
TZNAME:EDT
DTSTART:20220313T070000
END:DAYLIGHT
BEGIN:STANDARD
TZOFFSETFROM:-0400
TZOFFSETTO:-0500
TZNAME:EST
DTSTART:20221106T060000
END:STANDARD
BEGIN:DAYLIGHT
TZOFFSETFROM:-0500
TZOFFSETTO:-0400
TZNAME:EDT
DTSTART:20230312T070000
END:DAYLIGHT
BEGIN:STANDARD
TZOFFSETFROM:-0400
TZOFFSETTO:-0500
TZNAME:EST
DTSTART:20231105T060000
END:STANDARD
BEGIN:DAYLIGHT
TZOFFSETFROM:-0500
TZOFFSETTO:-0400
TZNAME:EDT
DTSTART:20240310T070000
END:DAYLIGHT
BEGIN:STANDARD
TZOFFSETFROM:-0400
TZOFFSETTO:-0500
TZNAME:EST
DTSTART:20241103T060000
END:STANDARD
END:VTIMEZONE
BEGIN:VEVENT
DTSTART;TZID=America/New_York:20230506T100000
DTEND;TZID=America/New_York:20230506T110000
DTSTAMP:20260421T040750
CREATED:20230413T161647Z
LAST-MODIFIED:20230413T161647Z
UID:11862-1683367200-1683370800@livenewcanaan.org
SUMMARY:Pet Pantry Paws In Stores
DESCRIPTION:New for 2023\, ‘Paws in Stores’ is a fun\, FREE downtown Scavenger Hunt that will take you and your best friend into 10 downtown\, New Canaan locations. You will be collecting individual digits to a cell phone at each venue; once completed you can call\, and you will be entered into a fabulous prize drawing. The grand prize is a Venture Photography Studio session with your furry babies (worth $750) There will also be several runners up ($500) sessions picked. Register NOW. You will receive the downloadable map and hunt sheet the day before.
URL:https://livenewcanaan.org/event/pet-pantry-paws-in-stores/
CATEGORIES:Family Friendly Events,For Children
ATTACH;FMTTYPE=image/jpeg:https://livenewcanaan.org/wp-content/uploads/2023/04/image-asset-cplYdF.tmp_.jpg
ORGANIZER;CN="Rock Paper Scissors Custom Events":MAILTO:rachel@rockpaperscissors.events
END:VEVENT
END:VCALENDAR