BEGIN:VCALENDAR
VERSION:2.0
PRODID:-//LiveNewCanaan - ECPv6.15.18//NONSGML v1.0//EN
CALSCALE:GREGORIAN
METHOD:PUBLISH
X-WR-CALNAME:LiveNewCanaan
X-ORIGINAL-URL:https://livenewcanaan.org
X-WR-CALDESC:Events for LiveNewCanaan
REFRESH-INTERVAL;VALUE=DURATION:PT1H
X-Robots-Tag:noindex
X-PUBLISHED-TTL:PT1H
BEGIN:VTIMEZONE
TZID:America/New_York
BEGIN:DAYLIGHT
TZOFFSETFROM:-0500
TZOFFSETTO:-0400
TZNAME:EDT
DTSTART:20200308T070000
END:DAYLIGHT
BEGIN:STANDARD
TZOFFSETFROM:-0400
TZOFFSETTO:-0500
TZNAME:EST
DTSTART:20201101T060000
END:STANDARD
BEGIN:DAYLIGHT
TZOFFSETFROM:-0500
TZOFFSETTO:-0400
TZNAME:EDT
DTSTART:20210314T070000
END:DAYLIGHT
BEGIN:STANDARD
TZOFFSETFROM:-0400
TZOFFSETTO:-0500
TZNAME:EST
DTSTART:20211107T060000
END:STANDARD
BEGIN:DAYLIGHT
TZOFFSETFROM:-0500
TZOFFSETTO:-0400
TZNAME:EDT
DTSTART:20220313T070000
END:DAYLIGHT
BEGIN:STANDARD
TZOFFSETFROM:-0400
TZOFFSETTO:-0500
TZNAME:EST
DTSTART:20221106T060000
END:STANDARD
END:VTIMEZONE
BEGIN:VEVENT
DTSTART;VALUE=DATE:20211211
DTEND;VALUE=DATE:20211213
DTSTAMP:20260420T233219
CREATED:20211022T154503Z
LAST-MODIFIED:20211112T220942Z
UID:9251-1639180800-1639353599@livenewcanaan.org
SUMMARY:Silvermine Seasonal Sale & Fundraiser
DESCRIPTION:Mark your calendars and save the date for this not to be missed Silvermine event! \nSaturday\, December 11- 10:00am to 4:00pm \nSunday\, December 12 – 10am to 3:00pm \nOur annual Holiday Sale and Fundraiser is coming soon. All art and crafts for sale are created by Silvermine School of Art Students and Silvermine Instructors. \nYou will find ceramics\, paintings\, sculptures\, prints\, jewelry\, drawings\, photographs\, fiber arts\, cards\, ornaments\, wearable arts\, and more. \nYour purchases support Silvermine and a portion of the proceeds will go towards the Silvermine School of Art Scholarship Fund.
URL:https://livenewcanaan.org/event/silvermine-seasonal-sale-fundraiser/
LOCATION:1037 Silvermine Road\, New Canaan CT 06840\, 1037 Silvermine Rd\, New Cannan\, CT\, 06840\, United States
CATEGORIES:Family Friendly Events
ATTACH;FMTTYPE=image/jpeg:https://livenewcanaan.org/wp-content/uploads/2021/10/img_6744-scaled-mtthnQ.tmp_.jpg
ORGANIZER;CN="Silvermine Arts Center":MAILTO:info@silverminearts.org
END:VEVENT
END:VCALENDAR